From mboxrd@z Thu Jan  1 00:00:00 1970
Return-Path: <test-report-bounces@dpdk.org>
Received: from mails.dpdk.org (mails.dpdk.org [217.70.189.124])
	by inbox.dpdk.org (Postfix) with ESMTP id 9679B43C95
	for <public@inbox.dpdk.org>; Tue, 12 Mar 2024 20:56:50 +0100 (CET)
Received: from mails.dpdk.org (localhost [127.0.0.1])
	by mails.dpdk.org (Postfix) with ESMTP id 92CD042D72;
	Tue, 12 Mar 2024 20:56:50 +0100 (CET)
Received: from mail-io1-f100.google.com (mail-io1-f100.google.com
 [209.85.166.100])
 by mails.dpdk.org (Postfix) with ESMTP id AF3AE42DBE
 for <test-report@dpdk.org>; Tue, 12 Mar 2024 20:56:42 +0100 (CET)
Received: by mail-io1-f100.google.com with SMTP id
 ca18e2360f4ac-7c8c5e1c5d0so44199339f.1
 for <test-report@dpdk.org>; Tue, 12 Mar 2024 12:56:42 -0700 (PDT)
DKIM-Signature: v=1; a=rsa-sha256; c=relaxed/relaxed;
 d=iol.unh.edu; s=unh-iol; t=1710273402; x=1710878202; darn=dpdk.org;
 h=references:in-reply-to:cc:to:from:subject:message-id:date:from:to
 :cc:subject:date:message-id:reply-to;
 bh=Zj56W7r7k9zp/GmtqFUaWjcsLOSokaZ6t2AHWLvI9d0=;
 b=KtXCs2oi1iZi3dleglnVvyWD98/tQm5gT4NVSyfGoEHrP6P5zSJwurLjScXDCFySmi
 BQe928fpkH/lR7TvCW8AtYAnRu+j4xFeROJ13DGIwgfOcztAMtYxb9h3wsbDg+RRL/LG
 79NuVXrc7013M18GLCSyz3Pbdw+ibjyUSDSmo=
X-Google-DKIM-Signature: v=1; a=rsa-sha256; c=relaxed/relaxed;
 d=1e100.net; s=20230601; t=1710273402; x=1710878202;
 h=references:in-reply-to:cc:to:from:subject:message-id:date
 :x-gm-message-state:from:to:cc:subject:date:message-id:reply-to;
 bh=Zj56W7r7k9zp/GmtqFUaWjcsLOSokaZ6t2AHWLvI9d0=;
 b=H+7vNrnZrJELXSbMNmNUSpYTTFtkVVI+gKwjvED/FLyDgiFq5VCiLMv2khrjbR+ODi
 iCdbMmgLy/6KDTGyIASLwJvLPfpASbmdm0uwyZKpggP4W8xvr38zcNApEScpI6EjD3MX
 uZgW0lxF0vokZQWg+1D13GVIh2xNKeJ8OhZdYqdO9oCYh7Yv5vDq+uF1sBAp5kNQhuwW
 TDUuivpYpOSqJsg7jIErs9bJ67TRpsH+pOHBzac9BdZZvtWXkc8I80Rwtlj/5enTo+wB
 CaA1un6VGncj04MT4CO7QTIN58AulwruWHjzelD2shVaMwlI83aCyj8+Kfe3nBc/P1j1
 EPAg==
X-Gm-Message-State: AOJu0Yzi7h0gJ58/7xGLlOT+1LbnJeelHeKrecux2MqgpFTqP3hj8keN
 76BFL1JcyLpcjlKJyJ7NlMfs/E2gXdqoZTzmgxzoVFBZSOGxmGjY0KDx3vLioWY3iGdgIIeacHZ
 Sjgt44ZTUbvfP22IHw77ZZmKOdJp4s1vzNddr0nAWi6rmbbBbOpgIsnMe
X-Google-Smtp-Source: AGHT+IEcZGso4D6PJ0kgkhfRxiWPZ9Tqar19v+oNcfaBkpj3aBLIb1M/5wXD9vB7z/+UxUIBQLz1onugJT3b
X-Received: by 2002:a92:c56a:0:b0:366:725b:57a0 with SMTP id
 b10-20020a92c56a000000b00366725b57a0mr1552163ilj.22.1710273402126; 
 Tue, 12 Mar 2024 12:56:42 -0700 (PDT)
Received: from postal.iol.unh.edu (postal.iol.unh.edu.
 [2606:4100:3880:1234::84]) by smtp-relay.gmail.com with ESMTPS id
 x9-20020a056638248900b00474597704f2sm239906jat.52.2024.03.12.12.56.42
 (version=TLS1_2 cipher=ECDHE-ECDSA-AES128-GCM-SHA256 bits=128/128);
 Tue, 12 Mar 2024 12:56:42 -0700 (PDT)
X-Relaying-Domain: iol.unh.edu
Date: Tue, 12 Mar 2024 12:56:42 -0700 (PDT)
Message-ID: <65f0b37a.050a0220.73f4e.cee3SMTPIN_ADDED_MISSING@mx.google.com>
Received: from [172.21.0.6] (unknown [172.18.0.240])
 by postal.iol.unh.edu (Postfix) with ESMTP id B9E256052471;
 Tue, 12 Mar 2024 15:56:41 -0400 (EDT)
Subject: |SUCCESS| pw138229-138249 [PATCH] [v3,21/21] test/security: add out 
From: dpdklab@iol.unh.edu
To: Test Report <test-report@dpdk.org>
Cc: dpdk-test-reports@iol.unh.edu
In-Reply-To: <20240312175143.1664699-22-asasidharan@marvell.com>
References: <20240312175143.1664699-22-asasidharan@marvell.com>
Content-Type: text/plain
X-BeenThere: test-report@dpdk.org
X-Mailman-Version: 2.1.29
Precedence: list
List-Id: automatic DPDK test reports <test-report.dpdk.org>
List-Unsubscribe: <https://mails.dpdk.org/options/test-report>,
 <mailto:test-report-request@dpdk.org?subject=unsubscribe>
List-Archive: <http://mails.dpdk.org/archives/test-report/>
List-Post: <mailto:test-report@dpdk.org>
List-Help: <mailto:test-report-request@dpdk.org?subject=help>
List-Subscribe: <https://mails.dpdk.org/listinfo/test-report>,
 <mailto:test-report-request@dpdk.org?subject=subscribe>
Errors-To: test-report-bounces@dpdk.org

Test-Label: iol-abi-testing
Test-Status: SUCCESS
http://dpdk.org/patch/138249

_Testing PASS_

Submitter: Aakash Sasidharan <asasidharan@marvell.com>
Date: Tuesday, March 12 2024 17:51:43 
DPDK git baseline: Repo:dpdk
  Branch: master
  CommitID:a86f381b826660e88794754c41d3aec79ce9b87c

138229-138249 --> testing pass

Test environment and result as below:

+-----------------+----------+
|   Environment   | abi_test |
+=================+==========+
| Debian Bullseye | PASS     |
+-----------------+----------+
| CentOS Stream 9 | PASS     |
+-----------------+----------+
| Ubuntu 22.04    | PASS     |
+-----------------+----------+
| Fedora 38       | PASS     |
+-----------------+----------+
| RHEL8           | PASS     |
+-----------------+----------+


Debian Bullseye
	Kernel: 5.4.0-122-generic
	Compiler: gcc 10.2.1-6

CentOS Stream 9
	Kernel: 4.18.0-240.10.1.el8_3.x86_64
	Compiler: gcc 11.3.1 20220421

Ubuntu 22.04
	Kernel: 4.18.0-240.10.1.el8_3.x86_64
	Compiler: gcc 11.3.0

Fedora 38
	Kernel: Depends on container host
	Compiler: gcc 13.1.1

RHEL8
	Kernel: 4.18.0-240.10.1.el8_3.x86_64
	Compiler: gcc 8.3.1 20191121 (Red Hat 8.3.1-5)

To view detailed results, visit:
https://lab.dpdk.org/results/dashboard/patchsets/29524/

UNH-IOL DPDK Community Lab

To manage your email subscriptions, visit: 
https://lab.dpdk.org/results/dashboard/preferences/subscriptions/