From mboxrd@z Thu Jan  1 00:00:00 1970
Return-Path: <test-report-bounces@dpdk.org>
Received: from mails.dpdk.org (mails.dpdk.org [217.70.189.124])
	by inbox.dpdk.org (Postfix) with ESMTP id 6BBFC43C95
	for <public@inbox.dpdk.org>; Tue, 12 Mar 2024 21:17:06 +0100 (CET)
Received: from mails.dpdk.org (localhost [127.0.0.1])
	by mails.dpdk.org (Postfix) with ESMTP id 6643242D9D;
	Tue, 12 Mar 2024 21:17:06 +0100 (CET)
Received: from mail-yw1-f226.google.com (mail-yw1-f226.google.com
 [209.85.128.226])
 by mails.dpdk.org (Postfix) with ESMTP id 9604742D72
 for <test-report@dpdk.org>; Tue, 12 Mar 2024 21:17:04 +0100 (CET)
Received: by mail-yw1-f226.google.com with SMTP id
 00721157ae682-609ed7ca444so47758867b3.1
 for <test-report@dpdk.org>; Tue, 12 Mar 2024 13:17:04 -0700 (PDT)
DKIM-Signature: v=1; a=rsa-sha256; c=relaxed/relaxed;
 d=iol.unh.edu; s=unh-iol; t=1710274624; x=1710879424; darn=dpdk.org;
 h=references:in-reply-to:cc:to:from:subject:message-id:date:from:to
 :cc:subject:date:message-id:reply-to;
 bh=9X/bM1NqP81o+hz31C5h01VWlPTWntI6CESDUaI0MZQ=;
 b=aZU9RkRe9SM+m30JcJRqZ/2M2zSsxsvrTX4f9VurfU++HCWcum3ZmkzvMai4wxbh79
 PLBbk12kVxREh6b3WO1pdz9kze3wnKF/UgqMXZgPXQrDcL+5vXuN+Kj1IdsSyPvl82Yh
 TkltEAfXVMItATHlErMvQSSm4zqsQpMrX9J44=
X-Google-DKIM-Signature: v=1; a=rsa-sha256; c=relaxed/relaxed;
 d=1e100.net; s=20230601; t=1710274624; x=1710879424;
 h=references:in-reply-to:cc:to:from:subject:message-id:date
 :x-gm-message-state:from:to:cc:subject:date:message-id:reply-to;
 bh=9X/bM1NqP81o+hz31C5h01VWlPTWntI6CESDUaI0MZQ=;
 b=c7/SdD43C0qiiDnMtzpumKRgptaIHaPiYSuMahr7ELI6X1u7embYEOLDNsF7yQxn5d
 fSQzWXN0sDkQXC8wzXMkXpeqV9Av3JKYb+X3wO7dEHQJfiz/FNiRbBU/PDrZr0pX1mU9
 kOHDMRVwO2H/j1eHrajfL9leCW9nzbSi6BPrm/wemBPTC1OpKGzArMsNorUB8/RaD5SH
 KvX+fxJJWmEnu8PKN/1yhjTOcjnSdrsyeP80W7JFY0w3gts3NjziVyx8yHRpDuqApf+B
 yZBmy0Zzuu5MOEpUTY7VNmTWsatza4SLLp4ccn/NF3IusrqU31NwRzFD4DmwpboCuTdD
 q3tA==
X-Gm-Message-State: AOJu0YyuRZZRPzDya25ER4oDysGNa9zwilnXnpqp1wbV24CkBQzgs/rx
 5Nt7aWm49cPbr5hhWnomZ9qj2Zigfh285WqkytOkT3uPlbDDxjMXqDa5itm3cYNH2PoRlezOcZy
 4XzIzZuN/TtxL1VJrc8yeTnjHzPOGnSArALWyvdrI
X-Google-Smtp-Source: AGHT+IEK6wZu0Zw5IunWBiHe8JoWfy/PCCtUMg46MxsthMDZsfjGG3ROzyjHUL8NqMYrZTdC49SmeL/zb0NU
X-Received: by 2002:a0d:d650:0:b0:60a:32b1:d489 with SMTP id
 y77-20020a0dd650000000b0060a32b1d489mr550033ywd.31.1710274624059; 
 Tue, 12 Mar 2024 13:17:04 -0700 (PDT)
Received: from postal.iol.unh.edu (postal.iol.unh.edu. [132.177.123.84])
 by smtp-relay.gmail.com with ESMTPS id
 t76-20020a0dea4f000000b0060971222645sm432335ywe.24.2024.03.12.13.17.03
 (version=TLS1_2 cipher=ECDHE-ECDSA-AES128-GCM-SHA256 bits=128/128);
 Tue, 12 Mar 2024 13:17:04 -0700 (PDT)
X-Relaying-Domain: iol.unh.edu
Date: Tue, 12 Mar 2024 13:17:04 -0700 (PDT)
Message-ID: <65f0b840.0d0a0220.b8fe1.b0e1SMTPIN_ADDED_MISSING@mx.google.com>
Received: from [172.21.0.8] (unknown [172.18.0.240])
 by postal.iol.unh.edu (Postfix) with ESMTP id AD4276052471;
 Tue, 12 Mar 2024 16:17:03 -0400 (EDT)
Subject: |SUCCESS| pw138229-138249 [PATCH] [v3,21/21] test/security: add out 
From: dpdklab@iol.unh.edu
To: Test Report <test-report@dpdk.org>
Cc: dpdk-test-reports@iol.unh.edu
In-Reply-To: <20240312175143.1664699-22-asasidharan@marvell.com>
References: <20240312175143.1664699-22-asasidharan@marvell.com>
Content-Type: text/plain
X-BeenThere: test-report@dpdk.org
X-Mailman-Version: 2.1.29
Precedence: list
List-Id: automatic DPDK test reports <test-report.dpdk.org>
List-Unsubscribe: <https://mails.dpdk.org/options/test-report>,
 <mailto:test-report-request@dpdk.org?subject=unsubscribe>
List-Archive: <http://mails.dpdk.org/archives/test-report/>
List-Post: <mailto:test-report@dpdk.org>
List-Help: <mailto:test-report-request@dpdk.org?subject=help>
List-Subscribe: <https://mails.dpdk.org/listinfo/test-report>,
 <mailto:test-report-request@dpdk.org?subject=subscribe>
Errors-To: test-report-bounces@dpdk.org

Test-Label: iol-abi-testing
Test-Status: SUCCESS
http://dpdk.org/patch/138249

_Testing PASS_

Submitter: Aakash Sasidharan <asasidharan@marvell.com>
Date: Tuesday, March 12 2024 17:51:43 
DPDK git baseline: Repo:dpdk
  Branch: master
  CommitID:a86f381b826660e88794754c41d3aec79ce9b87c

138229-138249 --> testing pass

Test environment and result as below:

+------------------+----------+
|   Environment    | abi_test |
+==================+==========+
| Debian Bullseye  | PASS     |
+------------------+----------+
| CentOS Stream 9  | PASS     |
+------------------+----------+
| Ubuntu 22.04     | PASS     |
+------------------+----------+
| Fedora 38        | PASS     |
+------------------+----------+
| RHEL8            | PASS     |
+------------------+----------+
| CentOS Stream 8  | PASS     |
+------------------+----------+
| openSUSE Leap 15 | PASS     |
+------------------+----------+
| Fedora 37        | PASS     |
+------------------+----------+
| Debian 12 (arm)  | PASS     |
+------------------+----------+


Debian Bullseye
	Kernel: 5.4.0-122-generic
	Compiler: gcc 10.2.1-6

CentOS Stream 9
	Kernel: 4.18.0-240.10.1.el8_3.x86_64
	Compiler: gcc 11.3.1 20220421

Ubuntu 22.04
	Kernel: 4.18.0-240.10.1.el8_3.x86_64
	Compiler: gcc 11.3.0

Fedora 38
	Kernel: Depends on container host
	Compiler: gcc 13.1.1

RHEL8
	Kernel: 4.18.0-240.10.1.el8_3.x86_64
	Compiler: gcc 8.3.1 20191121 (Red Hat 8.3.1-5)

CentOS Stream 8
	Kernel: 4.18.0-240.10.1.el8_3.x86_64
	Compiler: gcc 8.4.1 20200928

openSUSE Leap 15
	Kernel: 4.18.0-240.10.1.el8_3.x86_64
	Compiler: gcc 7.5.0

Fedora 37
	Kernel: Depends on container host system
	Compiler: gcc 12.3.1

Debian 12 (arm)
	Kernel: Container Host Kernel
	Compiler: gcc 11

To view detailed results, visit:
https://lab.dpdk.org/results/dashboard/patchsets/29524/

UNH-IOL DPDK Community Lab

To manage your email subscriptions, visit: 
https://lab.dpdk.org/results/dashboard/preferences/subscriptions/