From mboxrd@z Thu Jan  1 00:00:00 1970
Return-Path: <test-report-bounces@dpdk.org>
Received: from mails.dpdk.org (mails.dpdk.org [217.70.189.124])
	by inbox.dpdk.org (Postfix) with ESMTP id 681B643C95
	for <public@inbox.dpdk.org>; Tue, 12 Mar 2024 21:20:29 +0100 (CET)
Received: from mails.dpdk.org (localhost [127.0.0.1])
	by mails.dpdk.org (Postfix) with ESMTP id 629F842D9D;
	Tue, 12 Mar 2024 21:20:29 +0100 (CET)
Received: from mail-io1-f97.google.com (mail-io1-f97.google.com
 [209.85.166.97]) by mails.dpdk.org (Postfix) with ESMTP id C7DF342D72
 for <test-report@dpdk.org>; Tue, 12 Mar 2024 21:20:28 +0100 (CET)
Received: by mail-io1-f97.google.com with SMTP id
 ca18e2360f4ac-7c8ceb9fb0fso34345139f.2
 for <test-report@dpdk.org>; Tue, 12 Mar 2024 13:20:28 -0700 (PDT)
DKIM-Signature: v=1; a=rsa-sha256; c=relaxed/relaxed;
 d=iol.unh.edu; s=unh-iol; t=1710274828; x=1710879628; darn=dpdk.org;
 h=references:in-reply-to:cc:to:from:subject:message-id:date:from:to
 :cc:subject:date:message-id:reply-to;
 bh=9X/bM1NqP81o+hz31C5h01VWlPTWntI6CESDUaI0MZQ=;
 b=cCl6YqtbNSm8hEYgn37JTuSMeHK1zRUjru8DHLa62PItss0Wc6JP1gTRQdFR5ZtRdt
 zfw+3JC5YiDsYs+xUHQAb4DnymTxQeyl+sdRNFzedCRtKFt+9Jk+fpQHcbPtEox9Ywha
 0jjxyWKYzmE4la6pgFpCc9TEowYtl91dVwyqM=
X-Google-DKIM-Signature: v=1; a=rsa-sha256; c=relaxed/relaxed;
 d=1e100.net; s=20230601; t=1710274828; x=1710879628;
 h=references:in-reply-to:cc:to:from:subject:message-id:date
 :x-gm-message-state:from:to:cc:subject:date:message-id:reply-to;
 bh=9X/bM1NqP81o+hz31C5h01VWlPTWntI6CESDUaI0MZQ=;
 b=bls5RQ2TNjfgcY7Ri8kicEfTPs+BxU6uWX92VOZDf/1lWLBz4Z+Jb1w42haFE2NyTM
 2k/aS9XEV2l2cXY1nfCOQRqkeA9O2BK2LVGSC7OVtDFVK6gTvo+HLHmduteC6etJ7gSp
 kw/V5+vwimIZ+SDc3hajO4+yYa63AEJOW1cTnnPpg3aascc+jJ6xoKyFrgPDORCN+eCQ
 motf3IFS8OAblrsHPmVlsGCO8FJ60/EmyCo1oWasqyJVBx2TSJPCCPKGO8RKopd5AkG8
 cj5ZeiXE9if+019lyf4uP0DL4Wnv0n+MhsTbNj9b8wGORwvTWH7Nq1uSgL4NGhRLkJb0
 lS9A==
X-Gm-Message-State: AOJu0YzQBfi/JIHHWhyxihoOUpp/8dl8m0Gvbg33pOCtXp0AiYuvQXC4
 CdtGT4x+0bodTGCgAhhOtYrcQXD7B8WyHCI47sqEKqIMeKMQlbZ9jeOeaJ8rfqnJTuweB6LvVE7
 9uw2+W+tHzU+EOEJNqKInHKS0x5q3Dr5U5nrkoYPsD/biWWbfy7ll9YXW
X-Google-Smtp-Source: AGHT+IFYtnva9m7AIxrL6E1yxOZCFxqNJuOYouyeyPuP4bDrSmthGcFJtQEekRvfBCF//lB51sy+CZyCniml
X-Received: by 2002:a05:6602:4256:b0:7c8:55a4:ec0a with SMTP id
 cc22-20020a056602425600b007c855a4ec0amr11841012iob.11.1710274828137; 
 Tue, 12 Mar 2024 13:20:28 -0700 (PDT)
Received: from postal.iol.unh.edu (postal.iol.unh.edu.
 [2606:4100:3880:1234::84]) by smtp-relay.gmail.com with ESMTPS id
 x9-20020a056638248900b00474597704f2sm240976jat.52.2024.03.12.13.20.28
 (version=TLS1_2 cipher=ECDHE-ECDSA-AES128-GCM-SHA256 bits=128/128);
 Tue, 12 Mar 2024 13:20:28 -0700 (PDT)
X-Relaying-Domain: iol.unh.edu
Date: Tue, 12 Mar 2024 13:20:28 -0700 (PDT)
Message-ID: <65f0b90c.050a0220.73f4e.d031SMTPIN_ADDED_MISSING@mx.google.com>
Received: from [172.21.0.6] (unknown [172.18.0.240])
 by postal.iol.unh.edu (Postfix) with ESMTP id A4FDC6052471;
 Tue, 12 Mar 2024 16:20:26 -0400 (EDT)
Subject: |SUCCESS| pw138229-138249 [PATCH] [v3,21/21] test/security: add out 
From: dpdklab@iol.unh.edu
To: Test Report <test-report@dpdk.org>
Cc: dpdk-test-reports@iol.unh.edu
In-Reply-To: <20240312175143.1664699-22-asasidharan@marvell.com>
References: <20240312175143.1664699-22-asasidharan@marvell.com>
Content-Type: text/plain
X-BeenThere: test-report@dpdk.org
X-Mailman-Version: 2.1.29
Precedence: list
List-Id: automatic DPDK test reports <test-report.dpdk.org>
List-Unsubscribe: <https://mails.dpdk.org/options/test-report>,
 <mailto:test-report-request@dpdk.org?subject=unsubscribe>
List-Archive: <http://mails.dpdk.org/archives/test-report/>
List-Post: <mailto:test-report@dpdk.org>
List-Help: <mailto:test-report-request@dpdk.org?subject=help>
List-Subscribe: <https://mails.dpdk.org/listinfo/test-report>,
 <mailto:test-report-request@dpdk.org?subject=subscribe>
Errors-To: test-report-bounces@dpdk.org

Test-Label: iol-abi-testing
Test-Status: SUCCESS
http://dpdk.org/patch/138249

_Testing PASS_

Submitter: Aakash Sasidharan <asasidharan@marvell.com>
Date: Tuesday, March 12 2024 17:51:43 
DPDK git baseline: Repo:dpdk
  Branch: master
  CommitID:a86f381b826660e88794754c41d3aec79ce9b87c

138229-138249 --> testing pass

Test environment and result as below:

+------------------+----------+
|   Environment    | abi_test |
+==================+==========+
| Debian Bullseye  | PASS     |
+------------------+----------+
| CentOS Stream 9  | PASS     |
+------------------+----------+
| Ubuntu 22.04     | PASS     |
+------------------+----------+
| Fedora 38        | PASS     |
+------------------+----------+
| RHEL8            | PASS     |
+------------------+----------+
| CentOS Stream 8  | PASS     |
+------------------+----------+
| openSUSE Leap 15 | PASS     |
+------------------+----------+
| Fedora 37        | PASS     |
+------------------+----------+
| Debian 12 (arm)  | PASS     |
+------------------+----------+


Debian Bullseye
	Kernel: 5.4.0-122-generic
	Compiler: gcc 10.2.1-6

CentOS Stream 9
	Kernel: 4.18.0-240.10.1.el8_3.x86_64
	Compiler: gcc 11.3.1 20220421

Ubuntu 22.04
	Kernel: 4.18.0-240.10.1.el8_3.x86_64
	Compiler: gcc 11.3.0

Fedora 38
	Kernel: Depends on container host
	Compiler: gcc 13.1.1

RHEL8
	Kernel: 4.18.0-240.10.1.el8_3.x86_64
	Compiler: gcc 8.3.1 20191121 (Red Hat 8.3.1-5)

CentOS Stream 8
	Kernel: 4.18.0-240.10.1.el8_3.x86_64
	Compiler: gcc 8.4.1 20200928

openSUSE Leap 15
	Kernel: 4.18.0-240.10.1.el8_3.x86_64
	Compiler: gcc 7.5.0

Fedora 37
	Kernel: Depends on container host system
	Compiler: gcc 12.3.1

Debian 12 (arm)
	Kernel: Container Host Kernel
	Compiler: gcc 11

To view detailed results, visit:
https://lab.dpdk.org/results/dashboard/patchsets/29524/

UNH-IOL DPDK Community Lab

To manage your email subscriptions, visit: 
https://lab.dpdk.org/results/dashboard/preferences/subscriptions/