From mboxrd@z Thu Jan  1 00:00:00 1970
Return-Path: <test-report-bounces@dpdk.org>
Received: from mails.dpdk.org (mails.dpdk.org [217.70.189.124])
	by inbox.dpdk.org (Postfix) with ESMTP id 1B4A743C95
	for <public@inbox.dpdk.org>; Tue, 12 Mar 2024 21:54:01 +0100 (CET)
Received: from mails.dpdk.org (localhost [127.0.0.1])
	by mails.dpdk.org (Postfix) with ESMTP id 1758942D72;
	Tue, 12 Mar 2024 21:54:01 +0100 (CET)
Received: from mail-qv1-f98.google.com (mail-qv1-f98.google.com
 [209.85.219.98]) by mails.dpdk.org (Postfix) with ESMTP id 921FC402CD
 for <test-report@dpdk.org>; Tue, 12 Mar 2024 21:53:59 +0100 (CET)
Received: by mail-qv1-f98.google.com with SMTP id
 6a1803df08f44-68f571be9ddso49089976d6.0
 for <test-report@dpdk.org>; Tue, 12 Mar 2024 13:53:59 -0700 (PDT)
DKIM-Signature: v=1; a=rsa-sha256; c=relaxed/relaxed;
 d=iol.unh.edu; s=unh-iol; t=1710276839; x=1710881639; darn=dpdk.org;
 h=references:in-reply-to:cc:to:from:subject:message-id:date:from:to
 :cc:subject:date:message-id:reply-to;
 bh=cElz1XHT+G380jQNIiGR7nLGgNXUdZvcK7wzs7Jxmps=;
 b=EApIvTBGyAbwQXfAWSNUyV4rYPQ5dVtjCIZrio7zC1Tg3p6o6yDfZiHFm6t2SCBZ/T
 iptK0ycSRwn0OqW9nkusHsPDpdJ/OXPgxBUk4D7/BAubzlfXu3WhSkfdskvygAnhnA9w
 qocUWBnGgd/E7LA+RZ7WlXe+8RaRfI9RmLcjc=
X-Google-DKIM-Signature: v=1; a=rsa-sha256; c=relaxed/relaxed;
 d=1e100.net; s=20230601; t=1710276839; x=1710881639;
 h=references:in-reply-to:cc:to:from:subject:message-id:date
 :x-gm-message-state:from:to:cc:subject:date:message-id:reply-to;
 bh=cElz1XHT+G380jQNIiGR7nLGgNXUdZvcK7wzs7Jxmps=;
 b=se8FZnKTeSN/aQySHB1BxB5BowuCBQ/o0zOV0VE/N8ruWqGxacdR44hl4Xj74PBjWX
 qLATkrTbxlMfdLnAJ8ezHs34715+lWVbTRqraQq3BjnDxD7aOov01lsqXBpk6i3AlMFE
 UedmYhqT+4vS1OdsWlFhzCs+iLoiKe6O66uZ4X0Hii1BC9OTjF3ZyziJTHEc7m4v0dnb
 DQCTs3zRL3pPT3IPnLTDdtL7MUxhLZQcTmK37GH3LTk//cATbOLJK3O/dp84NttV0dN/
 C2RvtY2s0Yej8Pa23fdeGpe0/QANtRM++QNNu2g4wkbSHWSn+BCXD3XdISo513l9diZp
 uTIg==
X-Gm-Message-State: AOJu0YzaNzQmK86pQBIWjTRQs3TufsPa5N9dSCDVyiPuSxzzPf8ObqRe
 XFUuw4c+5wYJJsjiXZnDm4twU5/KZ6Hw/35qHoFu5DfZJ0Tw8lvo/AkVkhYd9tMm/ctHyFL87dV
 Q0RUxEYG+kj04cEkxq5hg4l81I/gZByZeTiSiPrHK6p2x6l315Ws7vw1D
X-Google-Smtp-Source: AGHT+IH1BWrTtM1g6MlQabxtn5tyZfH93pDtWpR1YcaXPvjxS1Bvs6QovYl6imN30UNCRByCDXo/MfYKz9N9
X-Received: by 2002:a0c:f902:0:b0:690:cdfa:c44a with SMTP id
 v2-20020a0cf902000000b00690cdfac44amr8005680qvn.26.1710276838967; 
 Tue, 12 Mar 2024 13:53:58 -0700 (PDT)
Received: from postal.iol.unh.edu (postal.iol.unh.edu.
 [2606:4100:3880:1234::84]) by smtp-relay.gmail.com with ESMTPS id
 hf11-20020a0562140e8b00b00690a446bd92sm436197qvb.16.2024.03.12.13.53.58
 (version=TLS1_2 cipher=ECDHE-ECDSA-AES128-GCM-SHA256 bits=128/128);
 Tue, 12 Mar 2024 13:53:58 -0700 (PDT)
X-Relaying-Domain: iol.unh.edu
Date: Tue, 12 Mar 2024 13:53:58 -0700 (PDT)
Message-ID: <65f0c0e6.050a0220.3c44d.ad55SMTPIN_ADDED_MISSING@mx.google.com>
Received: from [172.17.0.6] (unknown [172.18.0.217])
 by postal.iol.unh.edu (Postfix) with ESMTP id A68356052471;
 Tue, 12 Mar 2024 16:53:58 -0400 (EDT)
Subject: |SUCCESS| pw138226-138227 [PATCH] [v1,2/2] dts: Add missing docstrin
From: dpdklab@iol.unh.edu
To: Test Report <test-report@dpdk.org>
Cc: dpdk-test-reports@iol.unh.edu
In-Reply-To: <20240312172558.11844-3-jspewock@iol.unh.edu>
References: <20240312172558.11844-3-jspewock@iol.unh.edu>
Content-Type: text/plain
X-BeenThere: test-report@dpdk.org
X-Mailman-Version: 2.1.29
Precedence: list
List-Id: automatic DPDK test reports <test-report.dpdk.org>
List-Unsubscribe: <https://mails.dpdk.org/options/test-report>,
 <mailto:test-report-request@dpdk.org?subject=unsubscribe>
List-Archive: <http://mails.dpdk.org/archives/test-report/>
List-Post: <mailto:test-report@dpdk.org>
List-Help: <mailto:test-report-request@dpdk.org?subject=help>
List-Subscribe: <https://mails.dpdk.org/listinfo/test-report>,
 <mailto:test-report-request@dpdk.org?subject=subscribe>
Errors-To: test-report-bounces@dpdk.org

Test-Label: iol-abi-testing
Test-Status: SUCCESS
http://dpdk.org/patch/138227

_Testing PASS_

Submitter: Jeremy Spewock <jspewock@iol.unh.edu>
Date: Tuesday, March 12 2024 17:25:58 
DPDK git baseline: Repo:dpdk
  Branch: master
  CommitID:a86f381b826660e88794754c41d3aec79ce9b87c

138226-138227 --> testing pass

Test environment and result as below:

+------------------+----------+
|   Environment    | abi_test |
+==================+==========+
| CentOS Stream 9  | PASS     |
+------------------+----------+
| Fedora 37        | PASS     |
+------------------+----------+
| Ubuntu 22.04     | PASS     |
+------------------+----------+
| RHEL8            | PASS     |
+------------------+----------+
| CentOS Stream 8  | PASS     |
+------------------+----------+
| Fedora 38        | PASS     |
+------------------+----------+
| Debian 12 (arm)  | PASS     |
+------------------+----------+
| Debian Bullseye  | PASS     |
+------------------+----------+
| openSUSE Leap 15 | PASS     |
+------------------+----------+


CentOS Stream 9
	Kernel: 4.18.0-240.10.1.el8_3.x86_64
	Compiler: gcc 11.3.1 20220421

Fedora 37
	Kernel: Depends on container host system
	Compiler: gcc 12.3.1

Ubuntu 22.04
	Kernel: 4.18.0-240.10.1.el8_3.x86_64
	Compiler: gcc 11.3.0

RHEL8
	Kernel: 4.18.0-240.10.1.el8_3.x86_64
	Compiler: gcc 8.3.1 20191121 (Red Hat 8.3.1-5)

CentOS Stream 8
	Kernel: 4.18.0-240.10.1.el8_3.x86_64
	Compiler: gcc 8.4.1 20200928

Fedora 38
	Kernel: Depends on container host
	Compiler: clang 16.0.3

Debian 12 (arm)
	Kernel: Container Host Kernel
	Compiler: gcc 11

Debian Bullseye
	Kernel: 5.4.0-122-generic
	Compiler: gcc 10.2.1-6

openSUSE Leap 15
	Kernel: 4.18.0-240.10.1.el8_3.x86_64
	Compiler: gcc 7.5.0

To view detailed results, visit:
https://lab.dpdk.org/results/dashboard/patchsets/29522/

UNH-IOL DPDK Community Lab

To manage your email subscriptions, visit: 
https://lab.dpdk.org/results/dashboard/preferences/subscriptions/