From mboxrd@z Thu Jan  1 00:00:00 1970
Return-Path: <test-report-bounces@dpdk.org>
Received: from mails.dpdk.org (mails.dpdk.org [217.70.189.124])
	by inbox.dpdk.org (Postfix) with ESMTP id E85C243C96
	for <public@inbox.dpdk.org>; Tue, 12 Mar 2024 22:16:51 +0100 (CET)
Received: from mails.dpdk.org (localhost [127.0.0.1])
	by mails.dpdk.org (Postfix) with ESMTP id E4950402CD;
	Tue, 12 Mar 2024 22:16:51 +0100 (CET)
Received: from mail-vk1-f228.google.com (mail-vk1-f228.google.com
 [209.85.221.228])
 by mails.dpdk.org (Postfix) with ESMTP id D4B6B40272
 for <test-report@dpdk.org>; Tue, 12 Mar 2024 22:16:48 +0100 (CET)
Received: by mail-vk1-f228.google.com with SMTP id
 71dfb90a1353d-4d411042aa4so171163e0c.1
 for <test-report@dpdk.org>; Tue, 12 Mar 2024 14:16:48 -0700 (PDT)
DKIM-Signature: v=1; a=rsa-sha256; c=relaxed/relaxed;
 d=iol.unh.edu; s=unh-iol; t=1710278208; x=1710883008; darn=dpdk.org;
 h=references:in-reply-to:cc:to:from:subject:message-id:date:from:to
 :cc:subject:date:message-id:reply-to;
 bh=hDfRjbteNL67mt8dHoPZz5T4uXAjmy1Yl27ImhvZAMw=;
 b=hC3Io0PeAKqmvMU6E12w7jeMprYKDxMTf56/lHgaubmnJjbfOW3BHtrj03phaQnwyc
 o+l5XfZHFFnxXnT5h3tZN7uyUMLlWU9ZboYQnIhoNWuNX+Qz+HZ+b25BSXQ/VX+TmFsw
 cjvMH4FmGWciFoLdfrt5BELbPQy9xheZQuFV0=
X-Google-DKIM-Signature: v=1; a=rsa-sha256; c=relaxed/relaxed;
 d=1e100.net; s=20230601; t=1710278208; x=1710883008;
 h=references:in-reply-to:cc:to:from:subject:message-id:date
 :x-gm-message-state:from:to:cc:subject:date:message-id:reply-to;
 bh=hDfRjbteNL67mt8dHoPZz5T4uXAjmy1Yl27ImhvZAMw=;
 b=U5R3ywCB1cvIVyJ9opS1DYQEoQ+7G/79F3cLC9/TZW4JXra0qO6uQv8QXAAmsHIpD+
 imhLqbdrAov5ZufPvZtM+QfhhWR7Kk68jXJndMutuB4ruePsvDoGkkCuK/Thmh0rIT0z
 //zXrSRMk1QiKUJu2wmrkOpjXE8FJW0LIzMk/Vd2FDJY4sJwfPDu78getCWc9H3wQMiY
 VfGzwMcvvWLqniHH+qoPD8Y7KwhFPqqSRCzQQ2EO4esk/vPVfsIFogAEN+XpRtWOJ6NL
 85QXqq1aY1ZK7PeMsw9rXLsinfh8IS5txYq4WZ8eddE7VPO/jzRbTLwge36QC0AX6oEJ
 X5Vw==
X-Gm-Message-State: AOJu0YyBgevbj0r8jTKu9Qf4uZ3/+wdCkGetkY9dFBrARUjaaN7WeW8J
 0qlhk7Fy5xH76vCA8QdqH4cnhlks6et0DpxMCIjxxEWT0UEy1TgYhld/StbdyP52cKKavXD6ACy
 tqaXke2o9/nt2zBDC8c8PasmnBeaOftZQeufphTk0
X-Google-Smtp-Source: AGHT+IE109QxvXJ2+h7J6/sx+03rSKza301cHFw8vKqFensKGjPjtP9afwDAopKJuIwhYv7NxT554bHiiL+T
X-Received: by 2002:a05:6122:469b:b0:4ce:96b7:c2f6 with SMTP id
 di27-20020a056122469b00b004ce96b7c2f6mr866762vkb.5.1710278208226; 
 Tue, 12 Mar 2024 14:16:48 -0700 (PDT)
Received: from postal.iol.unh.edu (postal.iol.unh.edu. [132.177.123.84])
 by smtp-relay.gmail.com with ESMTPS id
 z20-20020ab05654000000b007dbba953fadsm527624uaa.9.2024.03.12.14.16.48
 (version=TLS1_2 cipher=ECDHE-ECDSA-AES128-GCM-SHA256 bits=128/128);
 Tue, 12 Mar 2024 14:16:48 -0700 (PDT)
X-Relaying-Domain: iol.unh.edu
Date: Tue, 12 Mar 2024 14:16:48 -0700 (PDT)
Message-ID: <65f0c640.b00a0220.7e7b.fce5SMTPIN_ADDED_MISSING@mx.google.com>
Received: from [172.17.0.9] (unknown [172.18.0.217])
 by postal.iol.unh.edu (Postfix) with ESMTP id E35486052471;
 Tue, 12 Mar 2024 17:16:47 -0400 (EDT)
Subject: |SUCCESS| pw138229-138249 [PATCH] [v3,21/21] test/security: add out 
From: dpdklab@iol.unh.edu
To: Test Report <test-report@dpdk.org>
Cc: dpdk-test-reports@iol.unh.edu
In-Reply-To: <20240312175143.1664699-22-asasidharan@marvell.com>
References: <20240312175143.1664699-22-asasidharan@marvell.com>
Content-Type: text/plain
X-BeenThere: test-report@dpdk.org
X-Mailman-Version: 2.1.29
Precedence: list
List-Id: automatic DPDK test reports <test-report.dpdk.org>
List-Unsubscribe: <https://mails.dpdk.org/options/test-report>,
 <mailto:test-report-request@dpdk.org?subject=unsubscribe>
List-Archive: <http://mails.dpdk.org/archives/test-report/>
List-Post: <mailto:test-report@dpdk.org>
List-Help: <mailto:test-report-request@dpdk.org?subject=help>
List-Subscribe: <https://mails.dpdk.org/listinfo/test-report>,
 <mailto:test-report-request@dpdk.org?subject=subscribe>
Errors-To: test-report-bounces@dpdk.org

Test-Label: iol-unit-amd64-testing
Test-Status: SUCCESS
http://dpdk.org/patch/138249

_Testing PASS_

Submitter: Aakash Sasidharan <asasidharan@marvell.com>
Date: Tuesday, March 12 2024 17:51:43 
DPDK git baseline: Repo:dpdk
  Branch: master
  CommitID:a86f381b826660e88794754c41d3aec79ce9b87c

138229-138249 --> testing pass

Test environment and result as below:

+------------------+----------------+
|   Environment    | dpdk_unit_test |
+==================+================+
| Debian Bullseye  | PASS           |
+------------------+----------------+
| CentOS Stream 8  | PASS           |
+------------------+----------------+
| Debian 12 (arm)  | PASS           |
+------------------+----------------+
| CentOS Stream 9  | PASS           |
+------------------+----------------+
| Fedora 37        | PASS           |
+------------------+----------------+
| Fedora 38        | PASS           |
+------------------+----------------+
| RHEL8            | PASS           |
+------------------+----------------+
| openSUSE Leap 15 | PASS           |
+------------------+----------------+
| Ubuntu 22.04     | PASS           |
+------------------+----------------+
| Ubuntu 20.04     | PASS           |
+------------------+----------------+


Debian Bullseye
	Kernel: 5.4.0-122-generic
	Compiler: gcc 10.2.1-6

CentOS Stream 8
	Kernel: 4.18.0-240.10.1.el8_3.x86_64
	Compiler: gcc 8.4.1 20200928

Debian 12 (arm)
	Kernel: Container Host Kernel
	Compiler: gcc 11

CentOS Stream 9
	Kernel: 4.18.0-240.10.1.el8_3.x86_64
	Compiler: gcc 11.3.1 20220421

Fedora 37
	Kernel: Depends on container host system
	Compiler: gcc 12.3.1

Fedora 38
	Kernel: Depends on container host
	Compiler: gcc 13.1.1

RHEL8
	Kernel: 4.18.0-240.10.1.el8_3.x86_64
	Compiler: gcc 8.3.1 20191121 (Red Hat 8.3.1-5)

openSUSE Leap 15
	Kernel: 4.18.0-240.10.1.el8_3.x86_64
	Compiler: gcc 7.5.0

Ubuntu 22.04
	Kernel: 4.18.0-240.10.1.el8_3.x86_64
	Compiler: gcc 11.3.0

Ubuntu 20.04
	Kernel: 5.4.0-153-generic
	Compiler: gcc 9.4.0-1ubuntu1~20.04.1

To view detailed results, visit:
https://lab.dpdk.org/results/dashboard/patchsets/29524/

UNH-IOL DPDK Community Lab

To manage your email subscriptions, visit: 
https://lab.dpdk.org/results/dashboard/preferences/subscriptions/