From mboxrd@z Thu Jan  1 00:00:00 1970
Return-Path: <test-report-bounces@dpdk.org>
Received: from mails.dpdk.org (mails.dpdk.org [217.70.189.124])
	by inbox.dpdk.org (Postfix) with ESMTP id DC3DD43C96
	for <public@inbox.dpdk.org>; Tue, 12 Mar 2024 22:28:33 +0100 (CET)
Received: from mails.dpdk.org (localhost [127.0.0.1])
	by mails.dpdk.org (Postfix) with ESMTP id D781D402CD;
	Tue, 12 Mar 2024 22:28:33 +0100 (CET)
Received: from mail-yb1-f225.google.com (mail-yb1-f225.google.com
 [209.85.219.225])
 by mails.dpdk.org (Postfix) with ESMTP id A903F40272
 for <test-report@dpdk.org>; Tue, 12 Mar 2024 22:28:32 +0100 (CET)
Received: by mail-yb1-f225.google.com with SMTP id
 3f1490d57ef6-db4364ecd6aso4502751276.2
 for <test-report@dpdk.org>; Tue, 12 Mar 2024 14:28:32 -0700 (PDT)
DKIM-Signature: v=1; a=rsa-sha256; c=relaxed/relaxed;
 d=iol.unh.edu; s=unh-iol; t=1710278912; x=1710883712; darn=dpdk.org;
 h=references:in-reply-to:cc:to:from:subject:message-id:date:from:to
 :cc:subject:date:message-id:reply-to;
 bh=KdFAwwm0srk/py6/XWB3N+WnmO7x3qYX/7trzXvk6/k=;
 b=hEP1CEmari+GOlHSm95Vq/G6YjQZ1k7hlOIYGiilKdtQT14YHAbY2Zm5ZNbvGn8WGe
 Yu1MK8mgYHGzMv08ExBVttLqtWx56fi/zKx5yZ8eeyoCh97Noh90A54L3VvC6Lt+5Bma
 /k5jHOSJeKJdj0pNjGpTcGrSWuAlRN2vxoz7Q=
X-Google-DKIM-Signature: v=1; a=rsa-sha256; c=relaxed/relaxed;
 d=1e100.net; s=20230601; t=1710278912; x=1710883712;
 h=references:in-reply-to:cc:to:from:subject:message-id:date
 :x-gm-message-state:from:to:cc:subject:date:message-id:reply-to;
 bh=KdFAwwm0srk/py6/XWB3N+WnmO7x3qYX/7trzXvk6/k=;
 b=W1ypsGt77yz/jU5PnQxQ17cXUy8xR7GN1uetf2AdSqiOhPW3vgV3gxRnpKuQ+DPzO0
 NgBqbc1mouXgkydisIdjBbSmhBb3DZieflOY4oZesaEE8k9G8LFqTN9TXV/GhdJHmcnl
 JC9sH6ebm82w3QUWOtyTQT7BjyU88W2hB7qbn3ROz6iM3e1BWq8ieAeLbf0CufFtyON8
 ylO4cn16tVj1nIkXtKsYD+8r93Ow2u11IU4Ulbu4X3wbMLl3bvAFNpSiZcaS2mfQnLiO
 7xxwvOIrVL/fk4T1g2YslDYJ99QHvNJyjECFwV//Rwk2cM1HmEnH0ZhguD2o0gedLh+i
 5w8Q==
X-Gm-Message-State: AOJu0YwrO8+JF52yrLMmNxJ8YBElzWmaqRO1pzGCwR1acsRmxpWH4aYW
 Dd0qLbmwtdYoLRHbnC3qLr24ANlSTofS4bvPZdfArbeWiTcZxXP7UZ7vbZrHG6kVXMiYSFaOFwF
 4N4GUWdNUkZFHHmqnMUi6Hpe4Zes8uiCsY/0PTZ1SE51lg2TJ9h7/OqNj
X-Google-Smtp-Source: AGHT+IGEXzUdAWAHy4lwYFR/+T3fcCfFB96oxqW9rO+cWdUY6LsY1UhdK/XZ0tgnkUzJWf9ffbi6FOTe0iDq
X-Received: by 2002:a25:b113:0:b0:dc6:bcd5:9503 with SMTP id
 g19-20020a25b113000000b00dc6bcd59503mr742339ybj.48.1710278912119; 
 Tue, 12 Mar 2024 14:28:32 -0700 (PDT)
Received: from postal.iol.unh.edu (postal.iol.unh.edu.
 [2606:4100:3880:1234::84]) by smtp-relay.gmail.com with ESMTPS id
 dt13-20020a056902250d00b00dc64ba82c30sm395157ybb.0.2024.03.12.14.28.32
 (version=TLS1_2 cipher=ECDHE-ECDSA-AES128-GCM-SHA256 bits=128/128);
 Tue, 12 Mar 2024 14:28:32 -0700 (PDT)
X-Relaying-Domain: iol.unh.edu
Date: Tue, 12 Mar 2024 14:28:32 -0700 (PDT)
Message-ID: <65f0c900.050a0220.3c319.6aedSMTPIN_ADDED_MISSING@mx.google.com>
Received: from [172.17.0.6] (unknown [172.18.0.217])
 by postal.iol.unh.edu (Postfix) with ESMTP id BBA1B6052471;
 Tue, 12 Mar 2024 17:28:31 -0400 (EDT)
Subject: |SUCCESS| pw138229-138249 [PATCH] [v3,21/21] test/security: add out 
From: dpdklab@iol.unh.edu
To: Test Report <test-report@dpdk.org>
Cc: dpdk-test-reports@iol.unh.edu
In-Reply-To: <20240312175143.1664699-22-asasidharan@marvell.com>
References: <20240312175143.1664699-22-asasidharan@marvell.com>
Content-Type: text/plain
X-BeenThere: test-report@dpdk.org
X-Mailman-Version: 2.1.29
Precedence: list
List-Id: automatic DPDK test reports <test-report.dpdk.org>
List-Unsubscribe: <https://mails.dpdk.org/options/test-report>,
 <mailto:test-report-request@dpdk.org?subject=unsubscribe>
List-Archive: <http://mails.dpdk.org/archives/test-report/>
List-Post: <mailto:test-report@dpdk.org>
List-Help: <mailto:test-report-request@dpdk.org?subject=help>
List-Subscribe: <https://mails.dpdk.org/listinfo/test-report>,
 <mailto:test-report-request@dpdk.org?subject=subscribe>
Errors-To: test-report-bounces@dpdk.org

Test-Label: iol-compile-amd64-testing
Test-Status: SUCCESS
http://dpdk.org/patch/138249

_Testing PASS_

Submitter: Aakash Sasidharan <asasidharan@marvell.com>
Date: Tuesday, March 12 2024 17:51:43 
DPDK git baseline: Repo:dpdk
  Branch: master
  CommitID:a86f381b826660e88794754c41d3aec79ce9b87c

138229-138249 --> testing pass

Test environment and result as below:

+---------------------+--------------------+----------------------+
|     Environment     | dpdk_meson_compile | dpdk_mingw64_compile |
+=====================+====================+======================+
| Windows Server 2022 | PASS               | SKIPPED              |
+---------------------+--------------------+----------------------+
| FreeBSD 13.2        | PASS               | SKIPPED              |
+---------------------+--------------------+----------------------+
| Debian Bullseye     | PASS               | SKIPPED              |
+---------------------+--------------------+----------------------+
| Fedora 37           | PASS               | SKIPPED              |
+---------------------+--------------------+----------------------+
| Debian 12 (arm)     | PASS               | SKIPPED              |
+---------------------+--------------------+----------------------+
| CentOS Stream 9     | PASS               | SKIPPED              |
+---------------------+--------------------+----------------------+
| CentOS Stream 8     | PASS               | SKIPPED              |
+---------------------+--------------------+----------------------+
| Fedora 38           | PASS               | SKIPPED              |
+---------------------+--------------------+----------------------+
| Ubuntu 20.04        | PASS               | SKIPPED              |
+---------------------+--------------------+----------------------+
| RHEL8               | PASS               | SKIPPED              |
+---------------------+--------------------+----------------------+
| Ubuntu 22.04        | PASS               | SKIPPED              |
+---------------------+--------------------+----------------------+
| openSUSE Leap 15    | PASS               | SKIPPED              |
+---------------------+--------------------+----------------------+
| Alpine              | PASS               | SKIPPED              |
+---------------------+--------------------+----------------------+
| Windows Server 2019 | SKIPPED            | PASS                 |
+---------------------+--------------------+----------------------+


Windows Server 2022
	Kernel: OS Build 20348.2031
	Compiler: MSVC VS-Preview

FreeBSD 13.2
	Kernel: 13.2
	Compiler: clang 11.3.0

Debian Bullseye
	Kernel: 5.4.0-122-generic
	Compiler: gcc 10.2.1-6

Fedora 37
	Kernel: Depends on container host system
	Compiler: gcc 12.3.1

Debian 12 (arm)
	Kernel: Container Host Kernel
	Compiler: gcc 11

CentOS Stream 9
	Kernel: 4.18.0-240.10.1.el8_3.x86_64
	Compiler: gcc 11.3.1 20220421

CentOS Stream 8
	Kernel: 4.18.0-240.10.1.el8_3.x86_64
	Compiler: gcc 8.4.1 20200928

Fedora 38
	Kernel: Depends on container host
	Compiler: gcc 13.1.1

Ubuntu 20.04
	Kernel: 5.4.0-153-generic
	Compiler: gcc 9.4.0-1ubuntu1~20.04.1

RHEL8
	Kernel: 4.18.0-240.10.1.el8_3.x86_64
	Compiler: gcc 8.3.1 20191121 (Red Hat 8.3.1-5)

Ubuntu 22.04
	Kernel: 4.18.0-240.10.1.el8_3.x86_64
	Compiler: gcc 11.3.0

openSUSE Leap 15
	Kernel: 4.18.0-240.10.1.el8_3.x86_64
	Compiler: gcc 7.5.0

Alpine
	Kernel: 5.4.0-73-generic
	Compiler: gcc (Alpine 10.3.1_git20210424) 10.3.1 20210424

Windows Server 2019
	Kernel: 10.0
	Compiler: clang 14.0 and gcc 8.1.0 (MinGW)

To view detailed results, visit:
https://lab.dpdk.org/results/dashboard/patchsets/29524/

UNH-IOL DPDK Community Lab

To manage your email subscriptions, visit: 
https://lab.dpdk.org/results/dashboard/preferences/subscriptions/