From mboxrd@z Thu Jan  1 00:00:00 1970
Return-Path: <test-report-bounces@dpdk.org>
Received: from mails.dpdk.org (mails.dpdk.org [217.70.189.124])
	by inbox.dpdk.org (Postfix) with ESMTP id 1D43D43C96
	for <public@inbox.dpdk.org>; Tue, 12 Mar 2024 23:42:59 +0100 (CET)
Received: from mails.dpdk.org (localhost [127.0.0.1])
	by mails.dpdk.org (Postfix) with ESMTP id 1617B402CD;
	Tue, 12 Mar 2024 23:42:59 +0100 (CET)
Received: from mail-io1-f100.google.com (mail-io1-f100.google.com
 [209.85.166.100])
 by mails.dpdk.org (Postfix) with ESMTP id B5DB340272
 for <test-report@dpdk.org>; Tue, 12 Mar 2024 23:42:57 +0100 (CET)
Received: by mail-io1-f100.google.com with SMTP id
 ca18e2360f4ac-7c8c9f02eadso10905139f.0
 for <test-report@dpdk.org>; Tue, 12 Mar 2024 15:42:57 -0700 (PDT)
DKIM-Signature: v=1; a=rsa-sha256; c=relaxed/relaxed;
 d=iol.unh.edu; s=unh-iol; t=1710283377; x=1710888177; darn=dpdk.org;
 h=references:in-reply-to:cc:to:from:subject:message-id:date:from:to
 :cc:subject:date:message-id:reply-to;
 bh=+tEASf4sA+rqw/bzoo+s3KzR0s7ObFzwB6WdaaXBk34=;
 b=S0UZry/xYhZfW28t5sYdbwZ3Xp1FeXRJA2am0T/d3aFRfeemcA7cPTWDlsKFdp8nho
 +ZHQchaUdyUcqIncaUvwBDOXDhPK3uD+/HhxCsDDPDbJKaVYS7NZTrENA3+i4e4mtLob
 o6LZmVhXQn1AjEhx1z0LDtrOwUyw3BJJjjzBQ=
X-Google-DKIM-Signature: v=1; a=rsa-sha256; c=relaxed/relaxed;
 d=1e100.net; s=20230601; t=1710283377; x=1710888177;
 h=references:in-reply-to:cc:to:from:subject:message-id:date
 :x-gm-message-state:from:to:cc:subject:date:message-id:reply-to;
 bh=+tEASf4sA+rqw/bzoo+s3KzR0s7ObFzwB6WdaaXBk34=;
 b=K+I7TxxNO+sclxxT1pfiAuYIFLQFDdWxvhp26unP1fOoLE3sQ6dDF6iPL1QRn624O2
 kZC+KQE0FfBI28U5kEbdOb77Aj1FLyLhKNffKVdKi9g3iJqQ4HmXn+G8txgobgCatjek
 Yk+Z04sNNb5woxPL4fzHPksQZ2TwdY8dtErL9DrjOGDr01O64QGKFNfws4hZA85d8pDu
 LRdbshfR0NthhgRXy+DNMjVDU2+cHq+zxf6pIffrZ3eWQdFGl0r5IzAZ8sZQv55HJtoG
 0ZleNhtxd2rwoghC0GhR+n2Lwus75wN4QjpH1YMB6qar/Qm9sZbuGxBInXRDgEhL/7HF
 2qUw==
X-Gm-Message-State: AOJu0YyVQZurvEdItOmYYLtl89xsArPd+CNy3pTKMiyiA/i8QE59lmMt
 NscTYC8iB6WOgS5FN9Uc5j9GLc/V3FQLyBoPcslwyBjd1uuX3K+lWmqCrTlLRXpaQnHmAVbxhmm
 QUcgjFRF21NI0H2/NkQOW9+kW3U6JFzN9rcRHIYKukFd5t2FSBjBG4GL/
X-Google-Smtp-Source: AGHT+IFyXZvq+etUwsFBsElun2UgMNZKjQJVbmaGYFWWBqx9ludFy4D+urraCcPyAQQ3dA/67FkB6Cq8lrec
X-Received: by 2002:a6b:790d:0:b0:7c8:aa86:bad2 with SMTP id
 i13-20020a6b790d000000b007c8aa86bad2mr920452iop.6.1710283377092; 
 Tue, 12 Mar 2024 15:42:57 -0700 (PDT)
Received: from postal.iol.unh.edu (postal.iol.unh.edu.
 [2606:4100:3880:1234::84]) by smtp-relay.gmail.com with ESMTPS id
 a21-20020a056602149500b007c8b495bd07sm273180iow.20.2024.03.12.15.42.56
 (version=TLS1_2 cipher=ECDHE-ECDSA-AES128-GCM-SHA256 bits=128/128);
 Tue, 12 Mar 2024 15:42:57 -0700 (PDT)
X-Relaying-Domain: iol.unh.edu
Date: Tue, 12 Mar 2024 15:42:57 -0700 (PDT)
Message-ID: <65f0da71.050a0220.6de2d.e527SMTPIN_ADDED_MISSING@mx.google.com>
Received: from [172.17.0.6] (unknown [172.18.0.217])
 by postal.iol.unh.edu (Postfix) with ESMTP id 950F76052471;
 Tue, 12 Mar 2024 18:42:56 -0400 (EDT)
Subject: |SUCCESS| pw138251-138281 [PATCH] [v4,31/31] net/ena: upgrade driver
From: dpdklab@iol.unh.edu
To: Test Report <test-report@dpdk.org>
Cc: dpdk-test-reports@iol.unh.edu
In-Reply-To: <20240312180716.8515-32-shaibran@amazon.com>
References: <20240312180716.8515-32-shaibran@amazon.com>
Content-Type: text/plain
X-BeenThere: test-report@dpdk.org
X-Mailman-Version: 2.1.29
Precedence: list
List-Id: automatic DPDK test reports <test-report.dpdk.org>
List-Unsubscribe: <https://mails.dpdk.org/options/test-report>,
 <mailto:test-report-request@dpdk.org?subject=unsubscribe>
List-Archive: <http://mails.dpdk.org/archives/test-report/>
List-Post: <mailto:test-report@dpdk.org>
List-Help: <mailto:test-report-request@dpdk.org?subject=help>
List-Subscribe: <https://mails.dpdk.org/listinfo/test-report>,
 <mailto:test-report-request@dpdk.org?subject=subscribe>
Errors-To: test-report-bounces@dpdk.org

Test-Label: iol-abi-testing
Test-Status: SUCCESS
http://dpdk.org/patch/138281

_Testing PASS_

Submitter: Brandes, Shai <shaibran@amazon.com>
Date: Tuesday, March 12 2024 18:07:16 
DPDK git baseline: Repo:dpdk
  Branch: master
  CommitID:544d6d79a6ff0964a79a57efb102e87fdbd107d9

138251-138281 --> testing pass

Test environment and result as below:

+------------------+----------+
|   Environment    | abi_test |
+==================+==========+
| RHEL8            | PASS     |
+------------------+----------+
| Ubuntu 22.04     | PASS     |
+------------------+----------+
| openSUSE Leap 15 | PASS     |
+------------------+----------+
| Debian Bullseye  | PASS     |
+------------------+----------+
| CentOS Stream 9  | PASS     |
+------------------+----------+
| Fedora 38        | PASS     |
+------------------+----------+
| CentOS Stream 8  | PASS     |
+------------------+----------+
| Fedora 37        | PASS     |
+------------------+----------+
| Debian 12 (arm)  | PASS     |
+------------------+----------+


RHEL8
	Kernel: 4.18.0-240.10.1.el8_3.x86_64
	Compiler: gcc 8.3.1 20191121 (Red Hat 8.3.1-5)

Ubuntu 22.04
	Kernel: 4.18.0-240.10.1.el8_3.x86_64
	Compiler: gcc 11.3.0

openSUSE Leap 15
	Kernel: 4.18.0-240.10.1.el8_3.x86_64
	Compiler: gcc 7.5.0

Debian Bullseye
	Kernel: 5.4.0-122-generic
	Compiler: gcc 10.2.1-6

CentOS Stream 9
	Kernel: 4.18.0-240.10.1.el8_3.x86_64
	Compiler: gcc 11.3.1 20220421

Fedora 38
	Kernel: Depends on container host
	Compiler: clang 16.0.3

CentOS Stream 8
	Kernel: 4.18.0-240.10.1.el8_3.x86_64
	Compiler: gcc 8.4.1 20200928

Fedora 37
	Kernel: Depends on container host system
	Compiler: gcc 12.3.1

Debian 12 (arm)
	Kernel: Container Host Kernel
	Compiler: gcc 11

To view detailed results, visit:
https://lab.dpdk.org/results/dashboard/patchsets/29526/

UNH-IOL DPDK Community Lab

To manage your email subscriptions, visit: 
https://lab.dpdk.org/results/dashboard/preferences/subscriptions/