From mboxrd@z Thu Jan  1 00:00:00 1970
Return-Path: <test-report-bounces@dpdk.org>
Received: from mails.dpdk.org (mails.dpdk.org [217.70.189.124])
	by inbox.dpdk.org (Postfix) with ESMTP id A04C843C96
	for <public@inbox.dpdk.org>; Tue, 12 Mar 2024 23:43:47 +0100 (CET)
Received: from mails.dpdk.org (localhost [127.0.0.1])
	by mails.dpdk.org (Postfix) with ESMTP id 9CA03402CD;
	Tue, 12 Mar 2024 23:43:47 +0100 (CET)
Received: from mail-pl1-f228.google.com (mail-pl1-f228.google.com
 [209.85.214.228])
 by mails.dpdk.org (Postfix) with ESMTP id 5D67940272
 for <test-report@dpdk.org>; Tue, 12 Mar 2024 23:43:46 +0100 (CET)
Received: by mail-pl1-f228.google.com with SMTP id
 d9443c01a7336-1d944e8f367so3801025ad.0
 for <test-report@dpdk.org>; Tue, 12 Mar 2024 15:43:46 -0700 (PDT)
DKIM-Signature: v=1; a=rsa-sha256; c=relaxed/relaxed;
 d=iol.unh.edu; s=unh-iol; t=1710283425; x=1710888225; darn=dpdk.org;
 h=references:in-reply-to:cc:to:from:subject:message-id:date:from:to
 :cc:subject:date:message-id:reply-to;
 bh=Ogc9r7nCN7vDeyxGB6+drXcRGVqH4VKzM4tjBndhP2o=;
 b=O5yElizVybcs+pyIh81lFZqqEZBFuxk7gUxTiAJH0ohlNQWWsqTlxvyNOhrS9aYQEY
 DhnaaYkjOSGDn8c7VRPEwfMK91TJOwqLCc0b5XUZjDvD1/0zfG5jaS9P9I3/cBuNShln
 Ukb/wHJ7FH91KIEVqEEF3bNpu00QUOPtjanjA=
X-Google-DKIM-Signature: v=1; a=rsa-sha256; c=relaxed/relaxed;
 d=1e100.net; s=20230601; t=1710283425; x=1710888225;
 h=references:in-reply-to:cc:to:from:subject:message-id:date
 :x-gm-message-state:from:to:cc:subject:date:message-id:reply-to;
 bh=Ogc9r7nCN7vDeyxGB6+drXcRGVqH4VKzM4tjBndhP2o=;
 b=Gn8XZoxZaxF09GdfP6Y3z6h2Snl+d0UVglRt0gz4mL2iMgqsG72a9BpXDOahZo20nA
 mtYCgsMSGrkMTiJXVo1qxZpV5d97Oo8A+uHQvJ6+2f64YaO3yqH90w4Ej2mdcqnJPVXV
 D2G3vsu1/yNDtMAgSbU92sUtGn1XkJuESBmU1/lsafWIC/U35oCiy7qYFS7o5KwKTH2x
 BgeIchI+GcKFCIveI++5c4wtmiruq3EAaLs0qE4epV6qNXuNO2o5kmxVddqRFjZJqyZ2
 Ux7xduVxe8YbhUW/9Aj8vmLvl319yHYCyMaXi/YqPDZ+JXoGV+/EPzHqRjMsAQIn9EeQ
 t0Gg==
X-Gm-Message-State: AOJu0YzV4L7zjvc5R92+3PxL/dq4+/pFzOqoQho7gV6a6Bp1+lzKg0Tp
 4W78pqwPMLqYIH0hZck271hbA0zJBt80t7R9PPUxY2RpPGVbUZGo5/rb73UaiD/w8u9MxEiKmfL
 JBT1YOkKNd7TnyaAThGC6HBQdAkACGBpsAmr10I0h
X-Google-Smtp-Source: AGHT+IFuza+6Lbl8xmO1Da2bkEVUOChXafDoe1dQnTfEtCjBc3M0ZTV7zADsztCcHByNukBp7DZrr1OUZApS
X-Received: by 2002:a17:902:8207:b0:1dc:73c9:4853 with SMTP id
 x7-20020a170902820700b001dc73c94853mr1568138pln.41.1710283425515; 
 Tue, 12 Mar 2024 15:43:45 -0700 (PDT)
Received: from postal.iol.unh.edu (postal.iol.unh.edu. [132.177.123.84])
 by smtp-relay.gmail.com with ESMTPS id
 kj3-20020a17090306c300b001dca998bfafsm216600plb.134.2024.03.12.15.43.45
 (version=TLS1_2 cipher=ECDHE-ECDSA-AES128-GCM-SHA256 bits=128/128);
 Tue, 12 Mar 2024 15:43:45 -0700 (PDT)
X-Relaying-Domain: iol.unh.edu
Date: Tue, 12 Mar 2024 15:43:45 -0700 (PDT)
Message-ID: <65f0daa1.170a0220.74ffe.d39fSMTPIN_ADDED_MISSING@mx.google.com>
Received: from [172.17.0.6] (unknown [172.18.0.217])
 by postal.iol.unh.edu (Postfix) with ESMTP id A880C6052471;
 Tue, 12 Mar 2024 18:43:44 -0400 (EDT)
Subject: |SUCCESS| pw138282 [PATCH] [RFC] eal: add rte_counted_by attribute
From: dpdklab@iol.unh.edu
To: Test Report <test-report@dpdk.org>
Cc: dpdk-test-reports@iol.unh.edu
In-Reply-To: <20240312210308.8788-1-stephen@networkplumber.org>
References: <20240312210308.8788-1-stephen@networkplumber.org>
Content-Type: text/plain
X-BeenThere: test-report@dpdk.org
X-Mailman-Version: 2.1.29
Precedence: list
List-Id: automatic DPDK test reports <test-report.dpdk.org>
List-Unsubscribe: <https://mails.dpdk.org/options/test-report>,
 <mailto:test-report-request@dpdk.org?subject=unsubscribe>
List-Archive: <http://mails.dpdk.org/archives/test-report/>
List-Post: <mailto:test-report@dpdk.org>
List-Help: <mailto:test-report-request@dpdk.org?subject=help>
List-Subscribe: <https://mails.dpdk.org/listinfo/test-report>,
 <mailto:test-report-request@dpdk.org?subject=subscribe>
Errors-To: test-report-bounces@dpdk.org

Test-Label: iol-compile-amd64-testing
Test-Status: SUCCESS
http://dpdk.org/patch/138282

_Testing PASS_

Submitter: Stephen Hemminger <stephen@networkplumber.org>
Date: Tuesday, March 12 2024 21:01:08 
DPDK git baseline: Repo:dpdk
  Branch: master
  CommitID:a86f381b826660e88794754c41d3aec79ce9b87c

138282 --> testing pass

Test environment and result as below:

+---------------------+--------------------+
|     Environment     | dpdk_meson_compile |
+=====================+====================+
| Windows Server 2022 | PASS               |
+---------------------+--------------------+
| FreeBSD 13.2        | PASS               |
+---------------------+--------------------+
| CentOS Stream 8     | PASS               |
+---------------------+--------------------+
| CentOS Stream 9     | PASS               |
+---------------------+--------------------+
| Debian Bullseye     | PASS               |
+---------------------+--------------------+
| Debian 12 (arm)     | PASS               |
+---------------------+--------------------+
| Ubuntu 20.04        | PASS               |
+---------------------+--------------------+
| openSUSE Leap 15    | PASS               |
+---------------------+--------------------+
| Fedora 37           | PASS               |
+---------------------+--------------------+
| RHEL8               | PASS               |
+---------------------+--------------------+
| Ubuntu 22.04        | PASS               |
+---------------------+--------------------+
| Alpine              | PASS               |
+---------------------+--------------------+
| Fedora 38           | PASS               |
+---------------------+--------------------+


Windows Server 2022
	Kernel: OS Build 20348.2031
	Compiler: MSVC VS-Preview

FreeBSD 13.2
	Kernel: 13.2
	Compiler: clang 11.3.0

CentOS Stream 8
	Kernel: 4.18.0-240.10.1.el8_3.x86_64
	Compiler: gcc 8.4.1 20200928

CentOS Stream 9
	Kernel: 4.18.0-240.10.1.el8_3.x86_64
	Compiler: gcc 11.3.1 20220421

Debian Bullseye
	Kernel: 5.4.0-122-generic
	Compiler: gcc 10.2.1-6

Debian 12 (arm)
	Kernel: Container Host Kernel
	Compiler: gcc 11

Ubuntu 20.04
	Kernel: 5.4.0-153-generic
	Compiler: gcc 9.4.0-1ubuntu1~20.04.1

openSUSE Leap 15
	Kernel: 4.18.0-240.10.1.el8_3.x86_64
	Compiler: gcc 7.5.0

Fedora 37
	Kernel: Depends on container host system
	Compiler: gcc 12.3.1

RHEL8
	Kernel: 4.18.0-240.10.1.el8_3.x86_64
	Compiler: gcc 8.3.1 20191121 (Red Hat 8.3.1-5)

Ubuntu 22.04
	Kernel: 4.18.0-240.10.1.el8_3.x86_64
	Compiler: gcc 11.3.0

Alpine
	Kernel: 5.4.0-73-generic
	Compiler: gcc (Alpine 10.3.1_git20210424) 10.3.1 20210424

Fedora 38
	Kernel: Depends on container host
	Compiler: gcc 13.1.1

To view detailed results, visit:
https://lab.dpdk.org/results/dashboard/patchsets/29527/

UNH-IOL DPDK Community Lab

To manage your email subscriptions, visit: 
https://lab.dpdk.org/results/dashboard/preferences/subscriptions/