From mboxrd@z Thu Jan  1 00:00:00 1970
Return-Path: <test-report-bounces@dpdk.org>
Received: from mails.dpdk.org (mails.dpdk.org [217.70.189.124])
	by inbox.dpdk.org (Postfix) with ESMTP id C514B43C96
	for <public@inbox.dpdk.org>; Tue, 12 Mar 2024 23:44:07 +0100 (CET)
Received: from mails.dpdk.org (localhost [127.0.0.1])
	by mails.dpdk.org (Postfix) with ESMTP id C0DB7402CD;
	Tue, 12 Mar 2024 23:44:07 +0100 (CET)
Received: from mail-il1-f228.google.com (mail-il1-f228.google.com
 [209.85.166.228])
 by mails.dpdk.org (Postfix) with ESMTP id D9EA140272
 for <test-report@dpdk.org>; Tue, 12 Mar 2024 23:44:05 +0100 (CET)
Received: by mail-il1-f228.google.com with SMTP id
 e9e14a558f8ab-36671d34b58so2458095ab.3
 for <test-report@dpdk.org>; Tue, 12 Mar 2024 15:44:05 -0700 (PDT)
DKIM-Signature: v=1; a=rsa-sha256; c=relaxed/relaxed;
 d=iol.unh.edu; s=unh-iol; t=1710283445; x=1710888245; darn=dpdk.org;
 h=references:in-reply-to:cc:to:from:subject:message-id:date:from:to
 :cc:subject:date:message-id:reply-to;
 bh=+tEASf4sA+rqw/bzoo+s3KzR0s7ObFzwB6WdaaXBk34=;
 b=NiN8nrIJPR0LQldcZSvzGleiMS30qHMieLO/4A7TSE5CtVSM7qPGezlxOritMtKCdP
 4aIDJFfN6uRd6JtfJDodAlCRtkYZ2AldIQ6Hv8kzWmbXw6NXUfWSxlD6YCpJnV9+BW6m
 8DoabRJFZ6EK2Hs0pKMX0XMrog/up3+G/iuy8=
X-Google-DKIM-Signature: v=1; a=rsa-sha256; c=relaxed/relaxed;
 d=1e100.net; s=20230601; t=1710283445; x=1710888245;
 h=references:in-reply-to:cc:to:from:subject:message-id:date
 :x-gm-message-state:from:to:cc:subject:date:message-id:reply-to;
 bh=+tEASf4sA+rqw/bzoo+s3KzR0s7ObFzwB6WdaaXBk34=;
 b=UuAaOapDoRQ2EpERmbsAeZt3KL6xn6fgDdaWO8Fz5aXRECkIYevsYrb2ZQwXgCo2bg
 9XOKGvIJcNm/jcRYyNfudH/Mcl7mc6bLQ8qm67lnVhhKpu1uOjw6EZsd7+xXjJZmvBYf
 MqVe0UAC9NOG87PbVKwniX83FR6gq75J7ZO7Ttm6SvqqPuCBrtZzmUUrOHapOpIxTeBc
 p0y36HId8ld1bM+r6NEhSqHnngS7QkjmW6YI7LxKm6QCGNQ1qe/bopRk+n68VJSaRYMf
 Ol+r4b18DkhscJ2SPuzM2CFnk/7GGrYCkEvj1iAAePPt4+LLm8bXCEhzvGTbHumvPU3X
 WzLw==
X-Gm-Message-State: AOJu0YyBjPyFb0B7cqv8nNhI+I7S3DwIjM6ef4JRGm7iuIb2OIsnxEpT
 fyPJEEYbxY79WbToI89LBgT5QBspvX87rfBdPxhr27qgKvts5gOdDUMwUj+ZzlFkrvtdeK1paU1
 usQQCsS+dtuIFgeuzBwQCgYpv2Le8W02DRwIvb45Zt46bF5l5IBj066KR
X-Google-Smtp-Source: AGHT+IHMn3zbJ3vA8YzHGCSUN/ieSD32mT/xWF4p+4orxg0/EJFu+a+x/tJ8JE0DB5fAL6WfncxpuWn1hjN+
X-Received: by 2002:a05:6e02:1989:b0:365:a6d2:32a7 with SMTP id
 g9-20020a056e02198900b00365a6d232a7mr2116856ilf.18.1710283445256; 
 Tue, 12 Mar 2024 15:44:05 -0700 (PDT)
Received: from postal.iol.unh.edu (postal.iol.unh.edu.
 [2606:4100:3880:1234::84]) by smtp-relay.gmail.com with ESMTPS id
 i14-20020a02c60e000000b00476f8d5b640sm127143jan.49.2024.03.12.15.44.05
 (version=TLS1_2 cipher=ECDHE-ECDSA-AES128-GCM-SHA256 bits=128/128);
 Tue, 12 Mar 2024 15:44:05 -0700 (PDT)
X-Relaying-Domain: iol.unh.edu
Date: Tue, 12 Mar 2024 15:44:05 -0700 (PDT)
Message-ID: <65f0dab5.020a0220.96420.5c66SMTPIN_ADDED_MISSING@mx.google.com>
Received: from [172.17.0.6] (unknown [172.18.0.217])
 by postal.iol.unh.edu (Postfix) with ESMTP id C0E236052471;
 Tue, 12 Mar 2024 18:44:04 -0400 (EDT)
Subject: |SUCCESS| pw138251-138281 [PATCH] [v4,31/31] net/ena: upgrade driver
From: dpdklab@iol.unh.edu
To: Test Report <test-report@dpdk.org>
Cc: dpdk-test-reports@iol.unh.edu
In-Reply-To: <20240312180716.8515-32-shaibran@amazon.com>
References: <20240312180716.8515-32-shaibran@amazon.com>
Content-Type: text/plain
X-BeenThere: test-report@dpdk.org
X-Mailman-Version: 2.1.29
Precedence: list
List-Id: automatic DPDK test reports <test-report.dpdk.org>
List-Unsubscribe: <https://mails.dpdk.org/options/test-report>,
 <mailto:test-report-request@dpdk.org?subject=unsubscribe>
List-Archive: <http://mails.dpdk.org/archives/test-report/>
List-Post: <mailto:test-report@dpdk.org>
List-Help: <mailto:test-report-request@dpdk.org?subject=help>
List-Subscribe: <https://mails.dpdk.org/listinfo/test-report>,
 <mailto:test-report-request@dpdk.org?subject=subscribe>
Errors-To: test-report-bounces@dpdk.org

Test-Label: iol-abi-testing
Test-Status: SUCCESS
http://dpdk.org/patch/138281

_Testing PASS_

Submitter: Brandes, Shai <shaibran@amazon.com>
Date: Tuesday, March 12 2024 18:07:16 
DPDK git baseline: Repo:dpdk
  Branch: master
  CommitID:544d6d79a6ff0964a79a57efb102e87fdbd107d9

138251-138281 --> testing pass

Test environment and result as below:

+------------------+----------+
|   Environment    | abi_test |
+==================+==========+
| RHEL8            | PASS     |
+------------------+----------+
| Ubuntu 22.04     | PASS     |
+------------------+----------+
| openSUSE Leap 15 | PASS     |
+------------------+----------+
| Debian Bullseye  | PASS     |
+------------------+----------+
| CentOS Stream 9  | PASS     |
+------------------+----------+
| Fedora 38        | PASS     |
+------------------+----------+
| CentOS Stream 8  | PASS     |
+------------------+----------+
| Fedora 37        | PASS     |
+------------------+----------+
| Debian 12 (arm)  | PASS     |
+------------------+----------+


RHEL8
	Kernel: 4.18.0-240.10.1.el8_3.x86_64
	Compiler: gcc 8.3.1 20191121 (Red Hat 8.3.1-5)

Ubuntu 22.04
	Kernel: 4.18.0-240.10.1.el8_3.x86_64
	Compiler: gcc 11.3.0

openSUSE Leap 15
	Kernel: 4.18.0-240.10.1.el8_3.x86_64
	Compiler: gcc 7.5.0

Debian Bullseye
	Kernel: 5.4.0-122-generic
	Compiler: gcc 10.2.1-6

CentOS Stream 9
	Kernel: 4.18.0-240.10.1.el8_3.x86_64
	Compiler: gcc 11.3.1 20220421

Fedora 38
	Kernel: Depends on container host
	Compiler: clang 16.0.3

CentOS Stream 8
	Kernel: 4.18.0-240.10.1.el8_3.x86_64
	Compiler: gcc 8.4.1 20200928

Fedora 37
	Kernel: Depends on container host system
	Compiler: gcc 12.3.1

Debian 12 (arm)
	Kernel: Container Host Kernel
	Compiler: gcc 11

To view detailed results, visit:
https://lab.dpdk.org/results/dashboard/patchsets/29526/

UNH-IOL DPDK Community Lab

To manage your email subscriptions, visit: 
https://lab.dpdk.org/results/dashboard/preferences/subscriptions/