From mboxrd@z Thu Jan  1 00:00:00 1970
Return-Path: <test-report-bounces@dpdk.org>
Received: from mails.dpdk.org (mails.dpdk.org [217.70.189.124])
	by inbox.dpdk.org (Postfix) with ESMTP id 9901C43C97
	for <public@inbox.dpdk.org>; Wed, 13 Mar 2024 00:00:49 +0100 (CET)
Received: from mails.dpdk.org (localhost [127.0.0.1])
	by mails.dpdk.org (Postfix) with ESMTP id 9261D4027F;
	Wed, 13 Mar 2024 00:00:49 +0100 (CET)
Received: from mail-ot1-f99.google.com (mail-ot1-f99.google.com
 [209.85.210.99]) by mails.dpdk.org (Postfix) with ESMTP id 44BA94026E
 for <test-report@dpdk.org>; Wed, 13 Mar 2024 00:00:47 +0100 (CET)
Received: by mail-ot1-f99.google.com with SMTP id
 46e09a7af769-6e4e9cdb604so2187937a34.2
 for <test-report@dpdk.org>; Tue, 12 Mar 2024 16:00:47 -0700 (PDT)
DKIM-Signature: v=1; a=rsa-sha256; c=relaxed/relaxed;
 d=iol.unh.edu; s=unh-iol; t=1710284446; x=1710889246; darn=dpdk.org;
 h=references:in-reply-to:cc:to:from:subject:message-id:date:from:to
 :cc:subject:date:message-id:reply-to;
 bh=P3Psz/n+bsmgyD0FFAS1dTVWjx4iDggQ1ZjQh/xbMBQ=;
 b=ZKM6UF1EclaQHQu4Tixtvmh05yTsRgeXZUL0Rg+xiND2KCrqHF23uUYHd/4QsC9sa0
 E1F74mPcjPRKlAumtGHJUqniOp1uXhGxeuulQ4kXpiTdZpwm8KuqG8PmHX0jqU6j9YpJ
 19Wk/F8WwJJfjsKvRK8xKJswOITJTBZg1VfFc=
X-Google-DKIM-Signature: v=1; a=rsa-sha256; c=relaxed/relaxed;
 d=1e100.net; s=20230601; t=1710284446; x=1710889246;
 h=references:in-reply-to:cc:to:from:subject:message-id:date
 :x-gm-message-state:from:to:cc:subject:date:message-id:reply-to;
 bh=P3Psz/n+bsmgyD0FFAS1dTVWjx4iDggQ1ZjQh/xbMBQ=;
 b=xEgnydUSoGnNTTgf73skYNAyJRU8fhcwlP7OkBAvUIY7BTpC8zXFcRV7gyJ2OKS7cP
 Qs7GYoyNP4aRAVjMC531ZGRJ3NL/JJmBD5yyllax8X+21sKCsNNOsOZZ5Juor6Kqxta6
 4WRXRXio3Jfq/ynbxtPXNhy5IRv6/uMkMIZEigBzEFsd5E4BvASWMnOj8O6XgVZ1uLtr
 /WXHAUEgEqrdV85sWFQWZQMSQq5NIXiCs+c4iB+DefoGC902O48DcfTFRdPgpzLpuw24
 O5HsZ1uX2UUryGcFsHHklLSXg5xgHjSMfgmLN7MQIOjLTrTRe24r/ipx9x3k7usJM/36
 8OOQ==
X-Gm-Message-State: AOJu0Yy2M1XTuU47T/0M8z8wxAmuh6/+TQfw7/B0AvMQs9kn4J5YQnsu
 s7pInVCCbL8hnJUOhQOzO4clBJSky4kUem/w2INOJ5BmF1P7GtfRRqcQ7g/FMCFs7/OW1ztNkmZ
 mFo1yD/5gZj2jXPlHn8fXENJnINCe2nZkHQK8cAIge25pqpj2M2i86pvH
X-Google-Smtp-Source: AGHT+IEgyUB7Qoh9b6WzzfLmoxF7lIH9pRxh2mAPoT59ylL6j8yPQ6sia9RBkEN/2m95YiRj/7XE9rStZiF1
X-Received: by 2002:a9d:6d81:0:b0:6e4:efc8:656b with SMTP id
 x1-20020a9d6d81000000b006e4efc8656bmr10043597otp.38.1710284446323; 
 Tue, 12 Mar 2024 16:00:46 -0700 (PDT)
Received: from postal.iol.unh.edu (postal.iol.unh.edu.
 [2606:4100:3880:1234::84]) by smtp-relay.gmail.com with ESMTPS id
 h12-20020a05620a400c00b00788411523bcsm285792qko.3.2024.03.12.16.00.46
 (version=TLS1_2 cipher=ECDHE-ECDSA-AES128-GCM-SHA256 bits=128/128);
 Tue, 12 Mar 2024 16:00:46 -0700 (PDT)
X-Relaying-Domain: iol.unh.edu
Date: Tue, 12 Mar 2024 16:00:46 -0700 (PDT)
Message-ID: <65f0de9e.050a0220.6fb95.b037SMTPIN_ADDED_MISSING@mx.google.com>
Received: from [172.17.0.8] (unknown [172.18.0.217])
 by postal.iol.unh.edu (Postfix) with ESMTP id 089F06052471;
 Tue, 12 Mar 2024 19:00:46 -0400 (EDT)
Subject: |SUCCESS| pw138251-138281 [PATCH] [v4,31/31] net/ena: upgrade driver
From: dpdklab@iol.unh.edu
To: Test Report <test-report@dpdk.org>
Cc: dpdk-test-reports@iol.unh.edu
In-Reply-To: <20240312180716.8515-32-shaibran@amazon.com>
References: <20240312180716.8515-32-shaibran@amazon.com>
Content-Type: text/plain
X-BeenThere: test-report@dpdk.org
X-Mailman-Version: 2.1.29
Precedence: list
List-Id: automatic DPDK test reports <test-report.dpdk.org>
List-Unsubscribe: <https://mails.dpdk.org/options/test-report>,
 <mailto:test-report-request@dpdk.org?subject=unsubscribe>
List-Archive: <http://mails.dpdk.org/archives/test-report/>
List-Post: <mailto:test-report@dpdk.org>
List-Help: <mailto:test-report-request@dpdk.org?subject=help>
List-Subscribe: <https://mails.dpdk.org/listinfo/test-report>,
 <mailto:test-report-request@dpdk.org?subject=subscribe>
Errors-To: test-report-bounces@dpdk.org

Test-Label: iol-unit-arm64-testing
Test-Status: SUCCESS
http://dpdk.org/patch/138281

_Testing PASS_

Submitter: Brandes, Shai <shaibran@amazon.com>
Date: Tuesday, March 12 2024 18:07:16 
DPDK git baseline: Repo:dpdk
  Branch: master
  CommitID:544d6d79a6ff0964a79a57efb102e87fdbd107d9

138251-138281 --> testing pass

Test environment and result as below:

+--------------------------+---------------------------+------------------------------+----------------+
|       Environment        | cryptodev_sw_zuc_autotest | cryptodev_sw_snow3g_autotest | dpdk_unit_test |
+==========================+===========================+==============================+================+
| Debian 12 (arm)          | PASS                      | PASS                         | PASS           |
+--------------------------+---------------------------+------------------------------+----------------+
| CentOS Stream 9 (ARM)    | SKIPPED                   | SKIPPED                      | PASS           |
+--------------------------+---------------------------+------------------------------+----------------+
| Debian 11 (Buster) (ARM) | SKIPPED                   | SKIPPED                      | PASS           |
+--------------------------+---------------------------+------------------------------+----------------+
| Fedora 37 (ARM)          | SKIPPED                   | SKIPPED                      | PASS           |
+--------------------------+---------------------------+------------------------------+----------------+


Debian 12 (arm)
	Kernel: Container Host Kernel
	Compiler: gcc 11

CentOS Stream 9 (ARM)
	Kernel: Container Host Kernel
	Compiler: gcc 11.3.1

Debian 11 (Buster) (ARM)
	Kernel: Container Host Kernel
	Compiler: gcc 10.2.1

Fedora 37 (ARM)
	Kernel: Depends on container host
	Compiler: gcc 12.3.1

To view detailed results, visit:
https://lab.dpdk.org/results/dashboard/patchsets/29526/

UNH-IOL DPDK Community Lab

To manage your email subscriptions, visit: 
https://lab.dpdk.org/results/dashboard/preferences/subscriptions/