From mboxrd@z Thu Jan  1 00:00:00 1970
Return-Path: <test-report-bounces@dpdk.org>
Received: from mails.dpdk.org (mails.dpdk.org [217.70.189.124])
	by inbox.dpdk.org (Postfix) with ESMTP id B347F43C97
	for <public@inbox.dpdk.org>; Wed, 13 Mar 2024 00:04:36 +0100 (CET)
Received: from mails.dpdk.org (localhost [127.0.0.1])
	by mails.dpdk.org (Postfix) with ESMTP id AD2154027F;
	Wed, 13 Mar 2024 00:04:36 +0100 (CET)
Received: from mail-pl1-f227.google.com (mail-pl1-f227.google.com
 [209.85.214.227])
 by mails.dpdk.org (Postfix) with ESMTP id 712D34026E
 for <test-report@dpdk.org>; Wed, 13 Mar 2024 00:04:35 +0100 (CET)
Received: by mail-pl1-f227.google.com with SMTP id
 d9443c01a7336-1dd878da011so20776395ad.2
 for <test-report@dpdk.org>; Tue, 12 Mar 2024 16:04:35 -0700 (PDT)
DKIM-Signature: v=1; a=rsa-sha256; c=relaxed/relaxed;
 d=iol.unh.edu; s=unh-iol; t=1710284674; x=1710889474; darn=dpdk.org;
 h=references:in-reply-to:cc:to:from:subject:message-id:date:from:to
 :cc:subject:date:message-id:reply-to;
 bh=a4v2LGXIanOH0n6ARrpgD4saxSZjy162K1U9Zs2Ogx8=;
 b=XaMn1rW8luoHlgOb2Bf9S0spbUc2DNJ8pxf3RVFwIXeFEgmBpeKS32+/jHhz9DJnq5
 OSG1NqIifZtsFkQrI1Bce16H/Q7dUkIj8mPj+J01PgCif8HIioQUA8zQbYTX4F8JgP+8
 35oXzxUShO0lG6FhlcIlSWt6U6xLCTmvdenoU=
X-Google-DKIM-Signature: v=1; a=rsa-sha256; c=relaxed/relaxed;
 d=1e100.net; s=20230601; t=1710284674; x=1710889474;
 h=references:in-reply-to:cc:to:from:subject:message-id:date
 :x-gm-message-state:from:to:cc:subject:date:message-id:reply-to;
 bh=a4v2LGXIanOH0n6ARrpgD4saxSZjy162K1U9Zs2Ogx8=;
 b=DENuiPD2J/QVTEqkjrqGR71P6BKKHVKZZgj5T4Llu+fkuH87OU0PlzA5k0g8rvEWxH
 g0GDrO739Y8W82zl5Zh8I+oDgPht4pya6zN78a0S894YPqZ5ERNEumH4EgWLio1rv79T
 ttvRYYajp4cusdSj7zVvHVTmXf6HlaEAbsC3VdIJun7LJHmXE0Q0oYAROBRjjJKJIrgh
 CjWitp/L18ujwN3I1YKZzI2tOXNZrbhHMQc9x9cRq2TSSXtnKcF5bD0Pp0na9XX1hVfX
 mAt4tW/yODOa9cd44Vm6V6OBLQAl8L5PBaWAUO/s/s5EQr1ZGxsViTg2O9/sZVvcYChj
 TNJQ==
X-Gm-Message-State: AOJu0YwgszFECUCPMMuVTXvK31JvAjbywmSX3aqg5tUv+O40LuLWiDhx
 HYOjga/Yo0JxRF4UPy0lhTmSk4jHMiXzxROs/OzoZL18EEe7MaZDNXRXaplDDlbHkLQ0Pa8EAjN
 bN6oubbXmfw8oXGh4fDiPB9LMlalGhIy9McZxpTTLJgH49z4oKz9pa5WY
X-Google-Smtp-Source: AGHT+IHcTB6kFO7TLpnJ2rngdtuaXXADhjDcmfLk9JLTZaSvW1Y8ebZxAQf4uEw+3elKrgYpuPeo9Z8tSmiF
X-Received: by 2002:a17:903:41c2:b0:1dd:611d:3be0 with SMTP id
 u2-20020a17090341c200b001dd611d3be0mr3686934ple.27.1710284674571; 
 Tue, 12 Mar 2024 16:04:34 -0700 (PDT)
Received: from postal.iol.unh.edu (postal.iol.unh.edu.
 [2606:4100:3880:1234::84]) by smtp-relay.gmail.com with ESMTPS id
 kb8-20020a170903338800b001dcd052c143sm209776plb.93.2024.03.12.16.04.34
 (version=TLS1_2 cipher=ECDHE-ECDSA-AES128-GCM-SHA256 bits=128/128);
 Tue, 12 Mar 2024 16:04:34 -0700 (PDT)
X-Relaying-Domain: iol.unh.edu
Date: Tue, 12 Mar 2024 16:04:34 -0700 (PDT)
Message-ID: <65f0df82.170a0220.0fce.e363SMTPIN_ADDED_MISSING@mx.google.com>
Received: from [172.17.0.8] (unknown [172.18.0.217])
 by postal.iol.unh.edu (Postfix) with ESMTP id C08BE6052471;
 Tue, 12 Mar 2024 19:04:33 -0400 (EDT)
Subject: |SUCCESS| pw138251-138281 [PATCH] [v4,31/31] net/ena: upgrade driver
From: dpdklab@iol.unh.edu
To: Test Report <test-report@dpdk.org>
Cc: dpdk-test-reports@iol.unh.edu
In-Reply-To: <20240312180716.8515-32-shaibran@amazon.com>
References: <20240312180716.8515-32-shaibran@amazon.com>
Content-Type: text/plain
X-BeenThere: test-report@dpdk.org
X-Mailman-Version: 2.1.29
Precedence: list
List-Id: automatic DPDK test reports <test-report.dpdk.org>
List-Unsubscribe: <https://mails.dpdk.org/options/test-report>,
 <mailto:test-report-request@dpdk.org?subject=unsubscribe>
List-Archive: <http://mails.dpdk.org/archives/test-report/>
List-Post: <mailto:test-report@dpdk.org>
List-Help: <mailto:test-report-request@dpdk.org?subject=help>
List-Subscribe: <https://mails.dpdk.org/listinfo/test-report>,
 <mailto:test-report-request@dpdk.org?subject=subscribe>
Errors-To: test-report-bounces@dpdk.org

Test-Label: iol-compile-amd64-testing
Test-Status: SUCCESS
http://dpdk.org/patch/138281

_Testing PASS_

Submitter: Brandes, Shai <shaibran@amazon.com>
Date: Tuesday, March 12 2024 18:07:16 
DPDK git baseline: Repo:dpdk
  Branch: master
  CommitID:544d6d79a6ff0964a79a57efb102e87fdbd107d9

138251-138281 --> testing pass

Test environment and result as below:

+---------------------+--------------------+
|     Environment     | dpdk_meson_compile |
+=====================+====================+
| Windows Server 2022 | PASS               |
+---------------------+--------------------+
| FreeBSD 13.2        | PASS               |
+---------------------+--------------------+
| Debian 12 (arm)     | PASS               |
+---------------------+--------------------+
| Fedora 37           | PASS               |
+---------------------+--------------------+
| Debian Bullseye     | PASS               |
+---------------------+--------------------+
| Ubuntu 22.04        | PASS               |
+---------------------+--------------------+
| CentOS Stream 8     | PASS               |
+---------------------+--------------------+
| CentOS Stream 9     | PASS               |
+---------------------+--------------------+
| RHEL8               | PASS               |
+---------------------+--------------------+
| Fedora 38           | PASS               |
+---------------------+--------------------+
| Ubuntu 20.04        | PASS               |
+---------------------+--------------------+
| Alpine              | PASS               |
+---------------------+--------------------+
| openSUSE Leap 15    | PASS               |
+---------------------+--------------------+


Windows Server 2022
	Kernel: OS Build 20348.2031
	Compiler: MSVC VS-Preview

FreeBSD 13.2
	Kernel: 13.2
	Compiler: clang 11.3.0

Debian 12 (arm)
	Kernel: Container Host Kernel
	Compiler: gcc 11

Fedora 37
	Kernel: Depends on container host system
	Compiler: gcc 12.3.1

Debian Bullseye
	Kernel: 5.4.0-122-generic
	Compiler: gcc 10.2.1-6

Ubuntu 22.04
	Kernel: 4.18.0-240.10.1.el8_3.x86_64
	Compiler: gcc 11.3.0

CentOS Stream 8
	Kernel: 4.18.0-240.10.1.el8_3.x86_64
	Compiler: gcc 8.4.1 20200928

CentOS Stream 9
	Kernel: 4.18.0-240.10.1.el8_3.x86_64
	Compiler: gcc 11.3.1 20220421

RHEL8
	Kernel: 4.18.0-240.10.1.el8_3.x86_64
	Compiler: gcc 8.3.1 20191121 (Red Hat 8.3.1-5)

Fedora 38
	Kernel: Depends on container host
	Compiler: gcc 13.1.1

Ubuntu 20.04
	Kernel: 5.4.0-153-generic
	Compiler: gcc 9.4.0-1ubuntu1~20.04.1

Alpine
	Kernel: 5.4.0-73-generic
	Compiler: gcc (Alpine 10.3.1_git20210424) 10.3.1 20210424

openSUSE Leap 15
	Kernel: 4.18.0-240.10.1.el8_3.x86_64
	Compiler: gcc 7.5.0

To view detailed results, visit:
https://lab.dpdk.org/results/dashboard/patchsets/29526/

UNH-IOL DPDK Community Lab

To manage your email subscriptions, visit: 
https://lab.dpdk.org/results/dashboard/preferences/subscriptions/