From mboxrd@z Thu Jan  1 00:00:00 1970
Return-Path: <test-report-bounces@dpdk.org>
Received: from mails.dpdk.org (mails.dpdk.org [217.70.189.124])
	by inbox.dpdk.org (Postfix) with ESMTP id 1DD5A43C97
	for <public@inbox.dpdk.org>; Wed, 13 Mar 2024 00:05:16 +0100 (CET)
Received: from mails.dpdk.org (localhost [127.0.0.1])
	by mails.dpdk.org (Postfix) with ESMTP id 19B764027F;
	Wed, 13 Mar 2024 00:05:16 +0100 (CET)
Received: from mail-io1-f97.google.com (mail-io1-f97.google.com
 [209.85.166.97]) by mails.dpdk.org (Postfix) with ESMTP id 8B6674026E
 for <test-report@dpdk.org>; Wed, 13 Mar 2024 00:05:09 +0100 (CET)
Received: by mail-io1-f97.google.com with SMTP id
 ca18e2360f4ac-7c8c71ebe33so52144839f.3
 for <test-report@dpdk.org>; Tue, 12 Mar 2024 16:05:09 -0700 (PDT)
DKIM-Signature: v=1; a=rsa-sha256; c=relaxed/relaxed;
 d=iol.unh.edu; s=unh-iol; t=1710284709; x=1710889509; darn=dpdk.org;
 h=references:in-reply-to:cc:to:from:subject:message-id:date:from:to
 :cc:subject:date:message-id:reply-to;
 bh=GzSbRKk+tY44NtN3ImtkZM1jxUCZeRdoXtg8XoAxWcM=;
 b=AGbrtDukxHa488+fGxXg5hd4PhDnieE6+NNEubeWeDswlTnyn5Q/dfk0HplPCxQK5L
 Iau9kPAqBQ35oGzJwPuYdReOd2r/BHbg9wQwCwWaSellgf9/XU449iv5all4drWoVRQA
 s+kI1jYOG316NuLe/B4HPKQY1d9JXfPUMfOzs=
X-Google-DKIM-Signature: v=1; a=rsa-sha256; c=relaxed/relaxed;
 d=1e100.net; s=20230601; t=1710284709; x=1710889509;
 h=references:in-reply-to:cc:to:from:subject:message-id:date
 :x-gm-message-state:from:to:cc:subject:date:message-id:reply-to;
 bh=GzSbRKk+tY44NtN3ImtkZM1jxUCZeRdoXtg8XoAxWcM=;
 b=WfcwWynPBOLritJTYfppvaClKc4Wa/WtLS3Uo9U0hFnHAOV1KC2FkdAuTT57B/wFsf
 Cm5wBaNaUhBRHPFo1R1tkQVvi2UU2FOyfngxPxxAIRYugNVgIgPzdCA3FTSc/khpu5Kv
 jKC8R8vFOpPHhshaY604zC4r8J79ZUrfjjiejo9Ei0Pz7uMx6fyMeJ2B4nEQOABoXn3Z
 qv/1mB8nH3Nf3vXShCo+NkX3MurqN4IhBj5Vq705sCiPabazcJEPTeOkEZBpWYK2zM12
 3+EB4S5jhO6NWgjpejNr3dkF4f7rukP8kgYtUsPQYRrtl1pC0m1Y0zno0yvInXYTG7Fq
 hOvQ==
X-Gm-Message-State: AOJu0Yx1crkiJcV7aFLmuPo73K/ZODvKcjqqSW2E162QjeLHDE0HrXbh
 VkxLmCNdKyXiWh39BFUo0j1R/Bpb6Z9tT1lXk74h13YnCFYSHoThqGKVSybVyPNRDzlrTnFckwW
 vwl4bENzEZIVd+lKj4v3dZifLUyiY5HF5AUgMmH/Pj5sofIVUckRcnK+f
X-Google-Smtp-Source: AGHT+IF1Cmg+6M97DxdEWSuun0Knll74nWf2URa71TL2xstJDihMxDMGGo79zr6qnoeJScGMfVK6Cpud2D50
X-Received: by 2002:a05:6602:8e:b0:7c8:8396:add4 with SMTP id
 h14-20020a056602008e00b007c88396add4mr12004123iob.8.1710284709021; 
 Tue, 12 Mar 2024 16:05:09 -0700 (PDT)
Received: from postal.iol.unh.edu (postal.iol.unh.edu.
 [2606:4100:3880:1234::84]) by smtp-relay.gmail.com with ESMTPS id
 y24-20020a02bb18000000b00474b5dafd55sm251045jan.25.2024.03.12.16.05.08
 (version=TLS1_2 cipher=ECDHE-ECDSA-AES128-GCM-SHA256 bits=128/128);
 Tue, 12 Mar 2024 16:05:09 -0700 (PDT)
X-Relaying-Domain: iol.unh.edu
Date: Tue, 12 Mar 2024 16:05:09 -0700 (PDT)
Message-ID: <65f0dfa5.020a0220.f01b1.e8b6SMTPIN_ADDED_MISSING@mx.google.com>
Received: from [172.21.0.6] (unknown [172.18.0.240])
 by postal.iol.unh.edu (Postfix) with ESMTP id 88FEA6052471;
 Tue, 12 Mar 2024 19:05:08 -0400 (EDT)
Subject: |SUCCESS| pw138282 [PATCH] [RFC] eal: add rte_counted_by attribute
From: dpdklab@iol.unh.edu
To: Test Report <test-report@dpdk.org>
Cc: dpdk-test-reports@iol.unh.edu
In-Reply-To: <20240312210308.8788-1-stephen@networkplumber.org>
References: <20240312210308.8788-1-stephen@networkplumber.org>
Content-Type: text/plain
X-BeenThere: test-report@dpdk.org
X-Mailman-Version: 2.1.29
Precedence: list
List-Id: automatic DPDK test reports <test-report.dpdk.org>
List-Unsubscribe: <https://mails.dpdk.org/options/test-report>,
 <mailto:test-report-request@dpdk.org?subject=unsubscribe>
List-Archive: <http://mails.dpdk.org/archives/test-report/>
List-Post: <mailto:test-report@dpdk.org>
List-Help: <mailto:test-report-request@dpdk.org?subject=help>
List-Subscribe: <https://mails.dpdk.org/listinfo/test-report>,
 <mailto:test-report-request@dpdk.org?subject=subscribe>
Errors-To: test-report-bounces@dpdk.org

Test-Label: iol-unit-amd64-testing
Test-Status: SUCCESS
http://dpdk.org/patch/138282

_Testing PASS_

Submitter: Stephen Hemminger <stephen@networkplumber.org>
Date: Tuesday, March 12 2024 21:01:08 
DPDK git baseline: Repo:dpdk
  Branch: master
  CommitID:a86f381b826660e88794754c41d3aec79ce9b87c

138282 --> testing pass

Test environment and result as below:

+------------------+----------------+
|   Environment    | dpdk_unit_test |
+==================+================+
| CentOS Stream 9  | PASS           |
+------------------+----------------+
| Fedora 37        | PASS           |
+------------------+----------------+
| Fedora 38        | PASS           |
+------------------+----------------+
| Debian 12 (arm)  | PASS           |
+------------------+----------------+
| Debian Bullseye  | PASS           |
+------------------+----------------+
| CentOS Stream 8  | PASS           |
+------------------+----------------+
| openSUSE Leap 15 | PASS           |
+------------------+----------------+
| Ubuntu 20.04     | PASS           |
+------------------+----------------+
| Ubuntu 22.04     | PASS           |
+------------------+----------------+
| RHEL8            | PASS           |
+------------------+----------------+


CentOS Stream 9
	Kernel: 4.18.0-240.10.1.el8_3.x86_64
	Compiler: gcc 11.3.1 20220421

Fedora 37
	Kernel: Depends on container host system
	Compiler: gcc 12.3.1

Fedora 38
	Kernel: Depends on container host
	Compiler: gcc 13.1.1

Debian 12 (arm)
	Kernel: Container Host Kernel
	Compiler: gcc 11

Debian Bullseye
	Kernel: 5.4.0-122-generic
	Compiler: gcc 10.2.1-6

CentOS Stream 8
	Kernel: 4.18.0-240.10.1.el8_3.x86_64
	Compiler: gcc 8.4.1 20200928

openSUSE Leap 15
	Kernel: 4.18.0-240.10.1.el8_3.x86_64
	Compiler: gcc 7.5.0

Ubuntu 20.04
	Kernel: 5.4.0-153-generic
	Compiler: gcc 9.4.0-1ubuntu1~20.04.1

Ubuntu 22.04
	Kernel: 4.18.0-240.10.1.el8_3.x86_64
	Compiler: gcc 11.3.0

RHEL8
	Kernel: 4.18.0-240.10.1.el8_3.x86_64
	Compiler: gcc 8.3.1 20191121 (Red Hat 8.3.1-5)

To view detailed results, visit:
https://lab.dpdk.org/results/dashboard/patchsets/29527/

UNH-IOL DPDK Community Lab

To manage your email subscriptions, visit: 
https://lab.dpdk.org/results/dashboard/preferences/subscriptions/