From mboxrd@z Thu Jan  1 00:00:00 1970
Return-Path: <test-report-bounces@dpdk.org>
Received: from mails.dpdk.org (mails.dpdk.org [217.70.189.124])
	by inbox.dpdk.org (Postfix) with ESMTP id B7FDC43C97
	for <public@inbox.dpdk.org>; Wed, 13 Mar 2024 00:12:28 +0100 (CET)
Received: from mails.dpdk.org (localhost [127.0.0.1])
	by mails.dpdk.org (Postfix) with ESMTP id B31844027F;
	Wed, 13 Mar 2024 00:12:28 +0100 (CET)
Received: from mail-oa1-f97.google.com (mail-oa1-f97.google.com
 [209.85.160.97]) by mails.dpdk.org (Postfix) with ESMTP id 5C3284026E
 for <test-report@dpdk.org>; Wed, 13 Mar 2024 00:12:27 +0100 (CET)
Received: by mail-oa1-f97.google.com with SMTP id
 586e51a60fabf-21fed501addso3467055fac.2
 for <test-report@dpdk.org>; Tue, 12 Mar 2024 16:12:27 -0700 (PDT)
DKIM-Signature: v=1; a=rsa-sha256; c=relaxed/relaxed;
 d=iol.unh.edu; s=unh-iol; t=1710285146; x=1710889946; darn=dpdk.org;
 h=references:in-reply-to:cc:to:from:subject:message-id:date:from:to
 :cc:subject:date:message-id:reply-to;
 bh=hDUbEIBGDwxT+Dh/vFaOVFNk4iGsqz4PAFivx0NNkI4=;
 b=EbFgftJ6cXJeeOPURdtCNAHECGaTuvU43LMwyclrISaXvOYM3mPg1zBKv4MmzLpXOj
 pPpxBMBRXcLigIgIK077A3iDLu4eAw8KslaHkxVXf1UFJlH0fbJ9Uava14duD1Q6xcmU
 UE6gvZJH9H8k/MhbCSW6LruTheEAyAzBdiFGg=
X-Google-DKIM-Signature: v=1; a=rsa-sha256; c=relaxed/relaxed;
 d=1e100.net; s=20230601; t=1710285146; x=1710889946;
 h=references:in-reply-to:cc:to:from:subject:message-id:date
 :x-gm-message-state:from:to:cc:subject:date:message-id:reply-to;
 bh=hDUbEIBGDwxT+Dh/vFaOVFNk4iGsqz4PAFivx0NNkI4=;
 b=JzjzFRM6HIuPlk7PZTEeU7f8Wa6Je0p5ePutyDf+MkVj8Gqe/uejZvsAKKBW8ISeD5
 POYiKwY/eUitLaRQfV14Hcv+mCmCy/93obrzlKB0YJSv2ZSh+rAXbwvfAjZFArRtWrcc
 xPQpL3easOMvcQOaI24TB7EcyWTI6XtuOcegRlJ0bsQJ7/m1kQJQwJXHiZBMTjxnhbPx
 Va9RxkK/3Z/TIo+/uuSDFkh6MeQOnSDnbP5JeLHdd8I4g2zncnIwh33bZq+bYlDvEuTv
 cKcUauZ1d7g1tz+sPHM9LfXE43SLrpkTymfhCTVXP0YW3+eYy2ylHfBuKYjQPB/yqNmy
 a5Ag==
X-Gm-Message-State: AOJu0YxbeEh1K+uo4n+HpSQ7Hus1oCm4W+gmh8tqsgHr83byVHHc1HlA
 wT5V/xZI73CvZEcEXiYSHcleXOjMS3kRstRGwuqgzNCqcJ8WpqGn7/7D9yuQMA9pzcW4Kyvh6of
 0GjUyQIbL1EP6qRpGq/JKbsnVVnOAMAqUD13GRzzMrGvfgAfLu4MhlLt4
X-Google-Smtp-Source: AGHT+IEuohCiESitZigLZP/N1s8vcizFY+cxZwN+4G1EP/hVWu/lcjGjF4Ns3djYjmHMvQBcUTQs0BIcyqIk
X-Received: by 2002:a05:6870:1585:b0:21e:c700:a4b1 with SMTP id
 j5-20020a056870158500b0021ec700a4b1mr10902771oab.34.1710285146717; 
 Tue, 12 Mar 2024 16:12:26 -0700 (PDT)
Received: from postal.iol.unh.edu (postal.iol.unh.edu.
 [2606:4100:3880:1234::84]) by smtp-relay.gmail.com with ESMTPS id
 bf28-20020a0568700a1c00b0021ecd560dfdsm158121oac.18.2024.03.12.16.12.26
 (version=TLS1_2 cipher=ECDHE-ECDSA-AES128-GCM-SHA256 bits=128/128);
 Tue, 12 Mar 2024 16:12:26 -0700 (PDT)
X-Relaying-Domain: iol.unh.edu
Date: Tue, 12 Mar 2024 16:12:26 -0700 (PDT)
Message-ID: <65f0e15a.050a0220.65e41.7da4SMTPIN_ADDED_MISSING@mx.google.com>
Received: from [172.21.0.8] (unknown [172.18.0.240])
 by postal.iol.unh.edu (Postfix) with ESMTP id 346596052471;
 Tue, 12 Mar 2024 19:12:26 -0400 (EDT)
Subject: |SUCCESS| pw138251-138281 [PATCH] [v4,31/31] net/ena: upgrade driver
From: dpdklab@iol.unh.edu
To: Test Report <test-report@dpdk.org>
Cc: dpdk-test-reports@iol.unh.edu
In-Reply-To: <20240312180716.8515-32-shaibran@amazon.com>
References: <20240312180716.8515-32-shaibran@amazon.com>
Content-Type: text/plain
X-BeenThere: test-report@dpdk.org
X-Mailman-Version: 2.1.29
Precedence: list
List-Id: automatic DPDK test reports <test-report.dpdk.org>
List-Unsubscribe: <https://mails.dpdk.org/options/test-report>,
 <mailto:test-report-request@dpdk.org?subject=unsubscribe>
List-Archive: <http://mails.dpdk.org/archives/test-report/>
List-Post: <mailto:test-report@dpdk.org>
List-Help: <mailto:test-report-request@dpdk.org?subject=help>
List-Subscribe: <https://mails.dpdk.org/listinfo/test-report>,
 <mailto:test-report-request@dpdk.org?subject=subscribe>
Errors-To: test-report-bounces@dpdk.org

Test-Label: iol-unit-amd64-testing
Test-Status: SUCCESS
http://dpdk.org/patch/138281

_Testing PASS_

Submitter: Brandes, Shai <shaibran@amazon.com>
Date: Tuesday, March 12 2024 18:07:16 
DPDK git baseline: Repo:dpdk
  Branch: master
  CommitID:544d6d79a6ff0964a79a57efb102e87fdbd107d9

138251-138281 --> testing pass

Test environment and result as below:

+------------------+----------------+
|   Environment    | dpdk_unit_test |
+==================+================+
| CentOS Stream 8  | PASS           |
+------------------+----------------+
| Debian Bullseye  | PASS           |
+------------------+----------------+
| CentOS Stream 9  | PASS           |
+------------------+----------------+
| Ubuntu 22.04     | PASS           |
+------------------+----------------+
| Fedora 37        | PASS           |
+------------------+----------------+
| Debian 12 (arm)  | PASS           |
+------------------+----------------+
| Fedora 38        | PASS           |
+------------------+----------------+
| RHEL8            | PASS           |
+------------------+----------------+
| Ubuntu 20.04     | PASS           |
+------------------+----------------+
| openSUSE Leap 15 | PASS           |
+------------------+----------------+


CentOS Stream 8
	Kernel: 4.18.0-240.10.1.el8_3.x86_64
	Compiler: gcc 8.4.1 20200928

Debian Bullseye
	Kernel: 5.4.0-122-generic
	Compiler: gcc 10.2.1-6

CentOS Stream 9
	Kernel: 4.18.0-240.10.1.el8_3.x86_64
	Compiler: gcc 11.3.1 20220421

Ubuntu 22.04
	Kernel: 4.18.0-240.10.1.el8_3.x86_64
	Compiler: gcc 11.3.0

Fedora 37
	Kernel: Depends on container host system
	Compiler: gcc 12.3.1

Debian 12 (arm)
	Kernel: Container Host Kernel
	Compiler: gcc 11

Fedora 38
	Kernel: Depends on container host
	Compiler: gcc 13.1.1

RHEL8
	Kernel: 4.18.0-240.10.1.el8_3.x86_64
	Compiler: gcc 8.3.1 20191121 (Red Hat 8.3.1-5)

Ubuntu 20.04
	Kernel: 5.4.0-153-generic
	Compiler: gcc 9.4.0-1ubuntu1~20.04.1

openSUSE Leap 15
	Kernel: 4.18.0-240.10.1.el8_3.x86_64
	Compiler: gcc 7.5.0

To view detailed results, visit:
https://lab.dpdk.org/results/dashboard/patchsets/29526/

UNH-IOL DPDK Community Lab

To manage your email subscriptions, visit: 
https://lab.dpdk.org/results/dashboard/preferences/subscriptions/