From mboxrd@z Thu Jan  1 00:00:00 1970
Return-Path: <test-report-bounces@dpdk.org>
Received: from mails.dpdk.org (mails.dpdk.org [217.70.189.124])
	by inbox.dpdk.org (Postfix) with ESMTP id 080E343C97
	for <public@inbox.dpdk.org>; Wed, 13 Mar 2024 00:33:00 +0100 (CET)
Received: from mails.dpdk.org (localhost [127.0.0.1])
	by mails.dpdk.org (Postfix) with ESMTP id F27404027F;
	Wed, 13 Mar 2024 00:32:59 +0100 (CET)
Received: from mail-qv1-f100.google.com (mail-qv1-f100.google.com
 [209.85.219.100])
 by mails.dpdk.org (Postfix) with ESMTP id 005C24026E
 for <test-report@dpdk.org>; Wed, 13 Mar 2024 00:32:58 +0100 (CET)
Received: by mail-qv1-f100.google.com with SMTP id
 6a1803df08f44-6904a5d71abso42356946d6.1
 for <test-report@dpdk.org>; Tue, 12 Mar 2024 16:32:58 -0700 (PDT)
DKIM-Signature: v=1; a=rsa-sha256; c=relaxed/relaxed;
 d=iol.unh.edu; s=unh-iol; t=1710286378; x=1710891178; darn=dpdk.org;
 h=references:in-reply-to:cc:to:from:subject:message-id:date:from:to
 :cc:subject:date:message-id:reply-to;
 bh=lGG4Xk/sV3AsYAZVDKT7EPGJxfcl77W+IUcglYPsMgQ=;
 b=PBDDL5QAsnAUTD3qka2umAPTFB4QZq4a0N5dyXm3luL3I3A5MCiyDwBpO7FxNZ1Bpb
 Z19ZrU3SsyWPFfFjnHelxhMJR7DXw5OdNYCM8fHMnZOxwf/F7PWamo8N1yCjcTpNzXin
 FKKlR9jHJbQcOafN9R+Uqe5TM83ItW+wCpmhU=
X-Google-DKIM-Signature: v=1; a=rsa-sha256; c=relaxed/relaxed;
 d=1e100.net; s=20230601; t=1710286378; x=1710891178;
 h=references:in-reply-to:cc:to:from:subject:message-id:date
 :x-gm-message-state:from:to:cc:subject:date:message-id:reply-to;
 bh=lGG4Xk/sV3AsYAZVDKT7EPGJxfcl77W+IUcglYPsMgQ=;
 b=cgyFyL+prhGSMrJXLV2Oiw8hAewf16x1yuwHzgOV/3VbyTP/AoMMLdsCSLVrPRdgz/
 ChPY07ZVydaayDoQ4C9SHgQCn8YVxnOJuJ6v21uG+1oNAE0lTqW9XKEGnhFX19Z9R+vO
 Wglc+amtxSqJ8HK2Jf0imcLrIBTXvglKvmHipkv7qe2vBFn6gS81T7bVvtd5f0BZp2if
 Yzd+Wvb5nqLt9IO7YDhB3PgvNWfXbacX+3W0ZU3BCDUvvcBGrgV9qy8fHUd3yOg+OIAQ
 wUlDmhHV9zdMYSKKdtb99zEziS0mKJtFca3tPhAoQzsv1/zWSnnUWjsXbdujcHCFLCu0
 t+MQ==
X-Gm-Message-State: AOJu0Yyxc8zhDrlUSI/ZyXgE5+h89/gzJkY4mL7d5QdOfeHQwDOQuYPh
 4cke4QQTPOiY0dCN9Tu5It8vOoZVL6qpefeucllILvxdQ6h1ZtesXWXhOw3Z0UXHQBjVWhlUVTb
 Mj1vVVtIn0akaz3NUK4+By3mhnCY7VYZ28Rwp9Nru
X-Google-Smtp-Source: AGHT+IEigDdRQCBO+Y5CFNdimaIY5qZ0IImt9gwKxOpTrAnKj5Xo8h5E5LvF8xxOMgvv95Be2PRycc67zRRt
X-Received: by 2002:a05:6214:2e14:b0:690:de4c:4b4 with SMTP id
 mx20-20020a0562142e1400b00690de4c04b4mr5433135qvb.29.1710286378409; 
 Tue, 12 Mar 2024 16:32:58 -0700 (PDT)
Received: from postal.iol.unh.edu (postal.iol.unh.edu. [132.177.123.84])
 by smtp-relay.gmail.com with ESMTPS id
 jk8-20020ad45d48000000b00690483a3245sm405636qvb.58.2024.03.12.16.32.58
 (version=TLS1_2 cipher=ECDHE-ECDSA-AES128-GCM-SHA256 bits=128/128);
 Tue, 12 Mar 2024 16:32:58 -0700 (PDT)
X-Relaying-Domain: iol.unh.edu
Date: Tue, 12 Mar 2024 16:32:58 -0700 (PDT)
Message-ID: <65f0e62a.d40a0220.f56b0.8d2fSMTPIN_ADDED_MISSING@mx.google.com>
Received: from [172.17.0.9] (unknown [172.18.0.217])
 by postal.iol.unh.edu (Postfix) with ESMTP id 1FE7A6052471;
 Tue, 12 Mar 2024 19:32:58 -0400 (EDT)
Subject: |SUCCESS| pw138226-138227 [PATCH] [v1,2/2] dts: Add missing docstrin
From: dpdklab@iol.unh.edu
To: Test Report <test-report@dpdk.org>
Cc: dpdk-test-reports@iol.unh.edu
In-Reply-To: <20240312172558.11844-3-jspewock@iol.unh.edu>
References: <20240312172558.11844-3-jspewock@iol.unh.edu>
Content-Type: text/plain
X-BeenThere: test-report@dpdk.org
X-Mailman-Version: 2.1.29
Precedence: list
List-Id: automatic DPDK test reports <test-report.dpdk.org>
List-Unsubscribe: <https://mails.dpdk.org/options/test-report>,
 <mailto:test-report-request@dpdk.org?subject=unsubscribe>
List-Archive: <http://mails.dpdk.org/archives/test-report/>
List-Post: <mailto:test-report@dpdk.org>
List-Help: <mailto:test-report-request@dpdk.org?subject=help>
List-Subscribe: <https://mails.dpdk.org/listinfo/test-report>,
 <mailto:test-report-request@dpdk.org?subject=subscribe>
Errors-To: test-report-bounces@dpdk.org

Test-Label: iol-compile-amd64-testing
Test-Status: SUCCESS
http://dpdk.org/patch/138227

_Testing PASS_

Submitter: Jeremy Spewock <jspewock@iol.unh.edu>
Date: Tuesday, March 12 2024 17:25:58 
DPDK git baseline: Repo:dpdk
  Branch: master
  CommitID:a86f381b826660e88794754c41d3aec79ce9b87c

138226-138227 --> testing pass

Test environment and result as below:

+---------------------+--------------------+----------------------+
|     Environment     | dpdk_meson_compile | dpdk_mingw64_compile |
+=====================+====================+======================+
| FreeBSD 13.2        | PASS               | SKIPPED              |
+---------------------+--------------------+----------------------+
| Windows Server 2022 | PASS               | SKIPPED              |
+---------------------+--------------------+----------------------+
| Debian Bullseye     | PASS               | SKIPPED              |
+---------------------+--------------------+----------------------+
| CentOS Stream 9     | PASS               | SKIPPED              |
+---------------------+--------------------+----------------------+
| CentOS Stream 8     | PASS               | SKIPPED              |
+---------------------+--------------------+----------------------+
| Fedora 38           | PASS               | SKIPPED              |
+---------------------+--------------------+----------------------+
| Fedora 37           | PASS               | SKIPPED              |
+---------------------+--------------------+----------------------+
| RHEL8               | PASS               | SKIPPED              |
+---------------------+--------------------+----------------------+
| Debian 12 (arm)     | PASS               | SKIPPED              |
+---------------------+--------------------+----------------------+
| Ubuntu 22.04        | PASS               | SKIPPED              |
+---------------------+--------------------+----------------------+
| openSUSE Leap 15    | PASS               | SKIPPED              |
+---------------------+--------------------+----------------------+
| Ubuntu 20.04        | PASS               | SKIPPED              |
+---------------------+--------------------+----------------------+
| Alpine              | PASS               | SKIPPED              |
+---------------------+--------------------+----------------------+
| Windows Server 2019 | PASS               | PASS                 |
+---------------------+--------------------+----------------------+


FreeBSD 13.2
	Kernel: 13.2
	Compiler: clang 11.3.0

Windows Server 2022
	Kernel: OS Build 20348.2031
	Compiler: MSVC VS-Preview

Debian Bullseye
	Kernel: 5.4.0-122-generic
	Compiler: gcc 10.2.1-6

CentOS Stream 9
	Kernel: 4.18.0-240.10.1.el8_3.x86_64
	Compiler: gcc 11.3.1 20220421

CentOS Stream 8
	Kernel: 4.18.0-240.10.1.el8_3.x86_64
	Compiler: gcc 8.4.1 20200928

Fedora 38
	Kernel: Depends on container host
	Compiler: gcc 13.1.1

Fedora 37
	Kernel: Depends on container host system
	Compiler: gcc 12.3.1

RHEL8
	Kernel: 4.18.0-240.10.1.el8_3.x86_64
	Compiler: gcc 8.3.1 20191121 (Red Hat 8.3.1-5)

Debian 12 (arm)
	Kernel: Container Host Kernel
	Compiler: gcc 11

Ubuntu 22.04
	Kernel: 4.18.0-240.10.1.el8_3.x86_64
	Compiler: gcc 11.3.0

openSUSE Leap 15
	Kernel: 4.18.0-240.10.1.el8_3.x86_64
	Compiler: gcc 7.5.0

Ubuntu 20.04
	Kernel: 5.4.0-153-generic
	Compiler: gcc 9.4.0-1ubuntu1~20.04.1

Alpine
	Kernel: 5.4.0-73-generic
	Compiler: gcc (Alpine 10.3.1_git20210424) 10.3.1 20210424

Windows Server 2019
	Kernel: 10.0
	Compiler: clang 14.0 and gcc 8.1.0 (MinGW)

To view detailed results, visit:
https://lab.dpdk.org/results/dashboard/patchsets/29522/

UNH-IOL DPDK Community Lab

To manage your email subscriptions, visit: 
https://lab.dpdk.org/results/dashboard/preferences/subscriptions/