From mboxrd@z Thu Jan  1 00:00:00 1970
Return-Path: <test-report-bounces@dpdk.org>
Received: from mails.dpdk.org (mails.dpdk.org [217.70.189.124])
	by inbox.dpdk.org (Postfix) with ESMTP id 5478643C97
	for <public@inbox.dpdk.org>; Wed, 13 Mar 2024 00:37:45 +0100 (CET)
Received: from mails.dpdk.org (localhost [127.0.0.1])
	by mails.dpdk.org (Postfix) with ESMTP id 4E9834027F;
	Wed, 13 Mar 2024 00:37:45 +0100 (CET)
Received: from mail-qt1-f228.google.com (mail-qt1-f228.google.com
 [209.85.160.228])
 by mails.dpdk.org (Postfix) with ESMTP id F30994026E
 for <test-report@dpdk.org>; Wed, 13 Mar 2024 00:37:43 +0100 (CET)
Received: by mail-qt1-f228.google.com with SMTP id
 d75a77b69052e-42f2d02fbdeso28131701cf.1
 for <test-report@dpdk.org>; Tue, 12 Mar 2024 16:37:43 -0700 (PDT)
DKIM-Signature: v=1; a=rsa-sha256; c=relaxed/relaxed;
 d=iol.unh.edu; s=unh-iol; t=1710286663; x=1710891463; darn=dpdk.org;
 h=references:in-reply-to:cc:to:from:subject:message-id:date:from:to
 :cc:subject:date:message-id:reply-to;
 bh=smMrRG5VakBhgz42Fu01s7pHMI7Q5G7V3h5H8fpO7tQ=;
 b=e6g6k5WiVSqsINgB8yFtKrZmKd+91Og2p19uh0nBfm/gDlGflmQfHA+3ubonaqEz+9
 4NBtLQ7Q0tRnTqfnZSVC1An6NPtrIIay+Lq9khGse/Op/rMuVKes1l4vtsVhi3h/4xsq
 1D2KK04lbqr9uRLdiWugfzfLzKniQBq3K5osQ=
X-Google-DKIM-Signature: v=1; a=rsa-sha256; c=relaxed/relaxed;
 d=1e100.net; s=20230601; t=1710286663; x=1710891463;
 h=references:in-reply-to:cc:to:from:subject:message-id:date
 :x-gm-message-state:from:to:cc:subject:date:message-id:reply-to;
 bh=smMrRG5VakBhgz42Fu01s7pHMI7Q5G7V3h5H8fpO7tQ=;
 b=H8m6yGlxhLiuBZf/UW4xaXceLjqra/wzuzS1tyLgzgxQtTXZPOFKxYLMGAjBAmYROd
 wY4bVwf82QMIwrg64WdrU0zNkn4EYBR5OU6m81+i4qs1pAMJTiKbVhmF6xWWqwdfpPKc
 o3ntOfU5Lwm3hYZzEK3jmWf06hkQ2ppEor1YZ9G3vkdlCh3T5B+akKhuYgmOMQgXfDgW
 juQrMIs7IcIOW/z8ZjkRCcZDiH2qwQA04fyqNBg3hfbt8PEH/7oKdSCAO4dzLpqBeA3U
 I+OMqrA2ZabgjKcMYRUkNUQr+ZYZ7s3K5Kbs84ngmq4M/7pqueathFp05D/3rG85hOE2
 JcYA==
X-Gm-Message-State: AOJu0Yz/ia5+7MTFx1xxIK1dCu2jrhMmtqdru9bBsPdOYwSQ3s81Jntf
 qMFehsE2DnKiWTE5LNt8+cxDiEYiB5hjiItQi/HTtPrURy9bXM88v5BYwh6UmlCap/XO/TINP7M
 1Ehu1Gq8Vjs/xPA+SF7GkjI3diRJPElGliHAXw19d
X-Google-Smtp-Source: AGHT+IH+5lcRkgSk4Z5HzGqWjLYuJNQ4vaMyuB4RwflEu1L3W+IZiB//vQ7r4K4e5ZOvChZsbbDL88Yw5L9F
X-Received: by 2002:a05:622a:1341:b0:42e:d4cd:d395 with SMTP id
 w1-20020a05622a134100b0042ed4cdd395mr12848010qtk.2.1710286663451; 
 Tue, 12 Mar 2024 16:37:43 -0700 (PDT)
Received: from postal.iol.unh.edu (postal.iol.unh.edu. [132.177.123.84])
 by smtp-relay.gmail.com with ESMTPS id
 r11-20020a05622a034b00b0042ee99f2fddsm417806qtw.4.2024.03.12.16.37.43
 (version=TLS1_2 cipher=ECDHE-ECDSA-AES128-GCM-SHA256 bits=128/128);
 Tue, 12 Mar 2024 16:37:43 -0700 (PDT)
X-Relaying-Domain: iol.unh.edu
Date: Tue, 12 Mar 2024 16:37:43 -0700 (PDT)
Message-ID: <65f0e747.050a0220.2a88b.8307SMTPIN_ADDED_MISSING@mx.google.com>
Received: from [172.17.0.6] (unknown [172.18.0.217])
 by postal.iol.unh.edu (Postfix) with ESMTP id 281976052471;
 Tue, 12 Mar 2024 19:37:43 -0400 (EDT)
Subject: |SUCCESS| pw138283 [PATCH] test-pmd: add more packet decode options 
From: dpdklab@iol.unh.edu
To: Test Report <test-report@dpdk.org>
Cc: dpdk-test-reports@iol.unh.edu
In-Reply-To: <20240312220129.70667-1-stephen@networkplumber.org>
References: <20240312220129.70667-1-stephen@networkplumber.org>
Content-Type: text/plain
X-BeenThere: test-report@dpdk.org
X-Mailman-Version: 2.1.29
Precedence: list
List-Id: automatic DPDK test reports <test-report.dpdk.org>
List-Unsubscribe: <https://mails.dpdk.org/options/test-report>,
 <mailto:test-report-request@dpdk.org?subject=unsubscribe>
List-Archive: <http://mails.dpdk.org/archives/test-report/>
List-Post: <mailto:test-report@dpdk.org>
List-Help: <mailto:test-report-request@dpdk.org?subject=help>
List-Subscribe: <https://mails.dpdk.org/listinfo/test-report>,
 <mailto:test-report-request@dpdk.org?subject=subscribe>
Errors-To: test-report-bounces@dpdk.org

Test-Label: iol-abi-testing
Test-Status: SUCCESS
http://dpdk.org/patch/138283

_Testing PASS_

Submitter: Stephen Hemminger <stephen@networkplumber.org>
Date: Tuesday, March 12 2024 22:01:27 
DPDK git baseline: Repo:dpdk
  Branch: master
  CommitID:544d6d79a6ff0964a79a57efb102e87fdbd107d9

138283 --> testing pass

Test environment and result as below:

+------------------+----------+
|   Environment    | abi_test |
+==================+==========+
| CentOS Stream 9  | PASS     |
+------------------+----------+
| Ubuntu 22.04     | PASS     |
+------------------+----------+
| Debian 12 (arm)  | PASS     |
+------------------+----------+
| RHEL8            | PASS     |
+------------------+----------+
| Fedora 38        | PASS     |
+------------------+----------+
| openSUSE Leap 15 | PASS     |
+------------------+----------+
| CentOS Stream 8  | PASS     |
+------------------+----------+
| Debian Bullseye  | PASS     |
+------------------+----------+
| Fedora 37        | PASS     |
+------------------+----------+


CentOS Stream 9
	Kernel: 4.18.0-240.10.1.el8_3.x86_64
	Compiler: gcc 11.3.1 20220421

Ubuntu 22.04
	Kernel: 4.18.0-240.10.1.el8_3.x86_64
	Compiler: gcc 11.3.0

Debian 12 (arm)
	Kernel: Container Host Kernel
	Compiler: gcc 11

RHEL8
	Kernel: 4.18.0-240.10.1.el8_3.x86_64
	Compiler: gcc 8.3.1 20191121 (Red Hat 8.3.1-5)

Fedora 38
	Kernel: Depends on container host
	Compiler: clang 16.0.3

openSUSE Leap 15
	Kernel: 4.18.0-240.10.1.el8_3.x86_64
	Compiler: gcc 7.5.0

CentOS Stream 8
	Kernel: 4.18.0-240.10.1.el8_3.x86_64
	Compiler: gcc 8.4.1 20200928

Debian Bullseye
	Kernel: 5.4.0-122-generic
	Compiler: gcc 10.2.1-6

Fedora 37
	Kernel: Depends on container host system
	Compiler: gcc 12.3.1

To view detailed results, visit:
https://lab.dpdk.org/results/dashboard/patchsets/29528/

UNH-IOL DPDK Community Lab

To manage your email subscriptions, visit: 
https://lab.dpdk.org/results/dashboard/preferences/subscriptions/