From mboxrd@z Thu Jan  1 00:00:00 1970
Return-Path: <test-report-bounces@dpdk.org>
Received: from mails.dpdk.org (mails.dpdk.org [217.70.189.124])
	by inbox.dpdk.org (Postfix) with ESMTP id AA2D543C97
	for <public@inbox.dpdk.org>; Wed, 13 Mar 2024 00:38:11 +0100 (CET)
Received: from mails.dpdk.org (localhost [127.0.0.1])
	by mails.dpdk.org (Postfix) with ESMTP id 94B4A4027F;
	Wed, 13 Mar 2024 00:38:11 +0100 (CET)
Received: from mail-oo1-f98.google.com (mail-oo1-f98.google.com
 [209.85.161.98]) by mails.dpdk.org (Postfix) with ESMTP id 7FE694026E
 for <test-report@dpdk.org>; Wed, 13 Mar 2024 00:38:09 +0100 (CET)
Received: by mail-oo1-f98.google.com with SMTP id
 006d021491bc7-5a1d83a86e8so1761114eaf.0
 for <test-report@dpdk.org>; Tue, 12 Mar 2024 16:38:09 -0700 (PDT)
DKIM-Signature: v=1; a=rsa-sha256; c=relaxed/relaxed;
 d=iol.unh.edu; s=unh-iol; t=1710286689; x=1710891489; darn=dpdk.org;
 h=references:in-reply-to:cc:to:from:subject:message-id:date:from:to
 :cc:subject:date:message-id:reply-to;
 bh=smMrRG5VakBhgz42Fu01s7pHMI7Q5G7V3h5H8fpO7tQ=;
 b=YZsQ9qnBmld6nBE85qsP+Q3GS7Ziv2F2aVXb8s8N/vyk4BFHRDNIRrQn0yjLNQT9S7
 3wfe7SjqqtkYo9ZyG3ZnU25Drz2J5q43a1ErCAEHcTkb2Hsh52LBySohutAu+owGQHjX
 WTc6BtO4zTySe2LdhM2njhLwjk2Pd4muOrwjU=
X-Google-DKIM-Signature: v=1; a=rsa-sha256; c=relaxed/relaxed;
 d=1e100.net; s=20230601; t=1710286689; x=1710891489;
 h=references:in-reply-to:cc:to:from:subject:message-id:date
 :x-gm-message-state:from:to:cc:subject:date:message-id:reply-to;
 bh=smMrRG5VakBhgz42Fu01s7pHMI7Q5G7V3h5H8fpO7tQ=;
 b=Ix3IlmeVaVAH1TYE59u1FZwVnS3+hJVDJCycEWa++CcT4l72SxqO6LxfaESMcVjwKW
 IcC95XSfAPOQOHxX/sGinc1joTJyz+5KiPTdqA6XjaAxPjGiaw7TOFqN/WX1yiBJose7
 Tf5Dp3Qe6tPxNDPl0LhoGryA8S/6wQ+GGIjOShTzpGtsfys5kzZy6du0sEd4JsivpSd0
 CHNT/P/+217yRVLdOZK/3pIJf6cB5t8NobclljldTzk3kL2BkjRYt58xt4lyotPLSgB8
 3ksJuUEr0NxPCKynVQEMt1ZD8j9I3LQMVPozO/Lbdr1OxSZNLQHUywuLCqbZoqD9rc6V
 natA==
X-Gm-Message-State: AOJu0YzfjNtc7E7iyCzf3FMqgew+wkWPJhlA3+UIjRMyJk8bPuPIyzqc
 vVjHW/1uaKfbmpJsHzvWrb1L/s7au9aUJTleUr1GT1zMQ4a+vKzh8e/euYR0c0muNkTjvXsL8m8
 ljaogzbqGxXmpiROXnbsSIKEIMTIBcqdSfzDCFeEY
X-Google-Smtp-Source: AGHT+IECtcU9pTkpa8KlMtZcbR4SPuRBVa9Jg25YHs9czonHtiqTyvnMQxWr4hQfG3gYwXhmfrKMNXmBgCcY
X-Received: by 2002:a4a:d285:0:b0:5a4:2042:969c with SMTP id
 h5-20020a4ad285000000b005a42042969cmr4223oos.2.1710286688843; 
 Tue, 12 Mar 2024 16:38:08 -0700 (PDT)
Received: from postal.iol.unh.edu (postal.iol.unh.edu. [132.177.123.84])
 by smtp-relay.gmail.com with ESMTPS id
 cp26-20020a056830661a00b006e502554b7bsm800114otb.11.2024.03.12.16.38.08
 (version=TLS1_2 cipher=ECDHE-ECDSA-AES128-GCM-SHA256 bits=128/128);
 Tue, 12 Mar 2024 16:38:08 -0700 (PDT)
X-Relaying-Domain: iol.unh.edu
Date: Tue, 12 Mar 2024 16:38:08 -0700 (PDT)
Message-ID: <65f0e760.050a0220.e8eb8.0be2SMTPIN_ADDED_MISSING@mx.google.com>
Received: from [172.17.0.6] (unknown [172.18.0.217])
 by postal.iol.unh.edu (Postfix) with ESMTP id 526926052471;
 Tue, 12 Mar 2024 19:38:08 -0400 (EDT)
Subject: |SUCCESS| pw138283 [PATCH] test-pmd: add more packet decode options 
From: dpdklab@iol.unh.edu
To: Test Report <test-report@dpdk.org>
Cc: dpdk-test-reports@iol.unh.edu
In-Reply-To: <20240312220129.70667-1-stephen@networkplumber.org>
References: <20240312220129.70667-1-stephen@networkplumber.org>
Content-Type: text/plain
X-BeenThere: test-report@dpdk.org
X-Mailman-Version: 2.1.29
Precedence: list
List-Id: automatic DPDK test reports <test-report.dpdk.org>
List-Unsubscribe: <https://mails.dpdk.org/options/test-report>,
 <mailto:test-report-request@dpdk.org?subject=unsubscribe>
List-Archive: <http://mails.dpdk.org/archives/test-report/>
List-Post: <mailto:test-report@dpdk.org>
List-Help: <mailto:test-report-request@dpdk.org?subject=help>
List-Subscribe: <https://mails.dpdk.org/listinfo/test-report>,
 <mailto:test-report-request@dpdk.org?subject=subscribe>
Errors-To: test-report-bounces@dpdk.org

Test-Label: iol-abi-testing
Test-Status: SUCCESS
http://dpdk.org/patch/138283

_Testing PASS_

Submitter: Stephen Hemminger <stephen@networkplumber.org>
Date: Tuesday, March 12 2024 22:01:27 
DPDK git baseline: Repo:dpdk
  Branch: master
  CommitID:544d6d79a6ff0964a79a57efb102e87fdbd107d9

138283 --> testing pass

Test environment and result as below:

+------------------+----------+
|   Environment    | abi_test |
+==================+==========+
| CentOS Stream 9  | PASS     |
+------------------+----------+
| Ubuntu 22.04     | PASS     |
+------------------+----------+
| Debian 12 (arm)  | PASS     |
+------------------+----------+
| RHEL8            | PASS     |
+------------------+----------+
| Fedora 38        | PASS     |
+------------------+----------+
| openSUSE Leap 15 | PASS     |
+------------------+----------+
| CentOS Stream 8  | PASS     |
+------------------+----------+
| Debian Bullseye  | PASS     |
+------------------+----------+
| Fedora 37        | PASS     |
+------------------+----------+


CentOS Stream 9
	Kernel: 4.18.0-240.10.1.el8_3.x86_64
	Compiler: gcc 11.3.1 20220421

Ubuntu 22.04
	Kernel: 4.18.0-240.10.1.el8_3.x86_64
	Compiler: gcc 11.3.0

Debian 12 (arm)
	Kernel: Container Host Kernel
	Compiler: gcc 11

RHEL8
	Kernel: 4.18.0-240.10.1.el8_3.x86_64
	Compiler: gcc 8.3.1 20191121 (Red Hat 8.3.1-5)

Fedora 38
	Kernel: Depends on container host
	Compiler: clang 16.0.3

openSUSE Leap 15
	Kernel: 4.18.0-240.10.1.el8_3.x86_64
	Compiler: gcc 7.5.0

CentOS Stream 8
	Kernel: 4.18.0-240.10.1.el8_3.x86_64
	Compiler: gcc 8.4.1 20200928

Debian Bullseye
	Kernel: 5.4.0-122-generic
	Compiler: gcc 10.2.1-6

Fedora 37
	Kernel: Depends on container host system
	Compiler: gcc 12.3.1

To view detailed results, visit:
https://lab.dpdk.org/results/dashboard/patchsets/29528/

UNH-IOL DPDK Community Lab

To manage your email subscriptions, visit: 
https://lab.dpdk.org/results/dashboard/preferences/subscriptions/