From mboxrd@z Thu Jan  1 00:00:00 1970
Return-Path: <test-report-bounces@dpdk.org>
Received: from mails.dpdk.org (mails.dpdk.org [217.70.189.124])
	by inbox.dpdk.org (Postfix) with ESMTP id 71B1943C97
	for <public@inbox.dpdk.org>; Wed, 13 Mar 2024 00:39:26 +0100 (CET)
Received: from mails.dpdk.org (localhost [127.0.0.1])
	by mails.dpdk.org (Postfix) with ESMTP id 692DC4027F;
	Wed, 13 Mar 2024 00:39:26 +0100 (CET)
Received: from mail-pf1-f227.google.com (mail-pf1-f227.google.com
 [209.85.210.227])
 by mails.dpdk.org (Postfix) with ESMTP id 267784026E
 for <test-report@dpdk.org>; Wed, 13 Mar 2024 00:39:25 +0100 (CET)
Received: by mail-pf1-f227.google.com with SMTP id
 d2e1a72fcca58-6e6ade6a66aso437615b3a.3
 for <test-report@dpdk.org>; Tue, 12 Mar 2024 16:39:25 -0700 (PDT)
DKIM-Signature: v=1; a=rsa-sha256; c=relaxed/relaxed;
 d=iol.unh.edu; s=unh-iol; t=1710286764; x=1710891564; darn=dpdk.org;
 h=references:in-reply-to:cc:to:from:subject:message-id:date:from:to
 :cc:subject:date:message-id:reply-to;
 bh=kfMstysJGY08HXNm9UPYY3P0traDNKpU+QkNJM76LrQ=;
 b=FUSmqBuxaCzY2gcH41kNvK9Z8131hNT88nNBS0atsSd1yC7dq3GmklfOAenRb++sgR
 8JFv+E/wpYi2/vwSPjQq3YxiuXDZ/EltQJo2O2OI0k2tNvwvqXdv5P5GdxPTIfoRKMi6
 KRch84NGZt58l9KHozLCGnOjH3H4Rq6Y2jXoU=
X-Google-DKIM-Signature: v=1; a=rsa-sha256; c=relaxed/relaxed;
 d=1e100.net; s=20230601; t=1710286764; x=1710891564;
 h=references:in-reply-to:cc:to:from:subject:message-id:date
 :x-gm-message-state:from:to:cc:subject:date:message-id:reply-to;
 bh=kfMstysJGY08HXNm9UPYY3P0traDNKpU+QkNJM76LrQ=;
 b=eWlHhVcCbfmMr6Kj/rqkRG96CSfwFWMOVT2EVIyQ4DEjpVAXN2DCavD/2QjhO2l57K
 w6fCmGQHtgOCA/YdQHs3iSAyn+cy73BNd76otcPXr92qO8TlJ1cYuOvml7MtpEwjKWqb
 2zyeGCwldyNOAWtX4GXUUBIuGNhZIlUgIQPD1rqr8WMoUDRXtlPhAwoGZyS5vw66tfem
 pViuTf58eMv42JptRf/IrgScfh41r8Fwk6hRkwSWes1Yn7Auy/7iqlTnOOY7xjm6snv8
 uHntzU7pKaUgP0bMlYiaXLr3VlU/u4dmHVpuZBvUGSpXbUBeVHKBqm4dRD6j1q+edbsH
 3O5A==
X-Gm-Message-State: AOJu0Ywy9Il6r4VJcARguenKbZXHzMrSBH2RzSOul2htjujNBHRrHkH0
 bPqcTYegHSJuN5aYL4jh9ms78MG4wm/G9sfy7tabvwGC1jwil1K1G3JlxOMUU/Y0RItzD+maLLn
 ezCV++7lB3+DMebB79iJpBbdb37KZSlAlwhsTVEzC
X-Google-Smtp-Source: AGHT+IGvxyblveitxlJ3Op/cXSIeA+qfKQyDd4mAYL5N0JIlk/IQ6fdJC7UA3I63cIcr9ruG41gnqb/sh6gn
X-Received: by 2002:a05:6a20:5007:b0:1a0:f4d2:31b8 with SMTP id
 n7-20020a056a20500700b001a0f4d231b8mr3888771pza.28.1710286764270; 
 Tue, 12 Mar 2024 16:39:24 -0700 (PDT)
Received: from postal.iol.unh.edu (postal.iol.unh.edu. [132.177.123.84])
 by smtp-relay.gmail.com with ESMTPS id
 jw8-20020a170903278800b001db47423bcbsm212852plb.142.2024.03.12.16.39.24
 (version=TLS1_2 cipher=ECDHE-ECDSA-AES128-GCM-SHA256 bits=128/128);
 Tue, 12 Mar 2024 16:39:24 -0700 (PDT)
X-Relaying-Domain: iol.unh.edu
Date: Tue, 12 Mar 2024 16:39:24 -0700 (PDT)
Message-ID: <65f0e7ac.170a0220.30865.d208SMTPIN_ADDED_MISSING@mx.google.com>
Received: from [172.21.0.6] (unknown [172.18.0.240])
 by postal.iol.unh.edu (Postfix) with ESMTP id 73A336052471;
 Tue, 12 Mar 2024 19:39:23 -0400 (EDT)
Subject: |SUCCESS| pw138283 [PATCH] test-pmd: add more packet decode options 
From: dpdklab@iol.unh.edu
To: Test Report <test-report@dpdk.org>
Cc: dpdk-test-reports@iol.unh.edu
In-Reply-To: <20240312220129.70667-1-stephen@networkplumber.org>
References: <20240312220129.70667-1-stephen@networkplumber.org>
Content-Type: text/plain
X-BeenThere: test-report@dpdk.org
X-Mailman-Version: 2.1.29
Precedence: list
List-Id: automatic DPDK test reports <test-report.dpdk.org>
List-Unsubscribe: <https://mails.dpdk.org/options/test-report>,
 <mailto:test-report-request@dpdk.org?subject=unsubscribe>
List-Archive: <http://mails.dpdk.org/archives/test-report/>
List-Post: <mailto:test-report@dpdk.org>
List-Help: <mailto:test-report-request@dpdk.org?subject=help>
List-Subscribe: <https://mails.dpdk.org/listinfo/test-report>,
 <mailto:test-report-request@dpdk.org?subject=subscribe>
Errors-To: test-report-bounces@dpdk.org

Test-Label: iol-compile-arm64-testing
Test-Status: SUCCESS
http://dpdk.org/patch/138283

_Testing PASS_

Submitter: Stephen Hemminger <stephen@networkplumber.org>
Date: Tuesday, March 12 2024 22:01:27 
DPDK git baseline: Repo:dpdk
  Branch: master
  CommitID:544d6d79a6ff0964a79a57efb102e87fdbd107d9

138283 --> testing pass

Test environment and result as below:

+----------------------------------------+--------------------+
|              Environment               | dpdk_meson_compile |
+========================================+====================+
| Ubuntu 20.04 ARM SVE                   | PASS               |
+----------------------------------------+--------------------+
| Debian 12 with MUSDK                   | PASS               |
+----------------------------------------+--------------------+
| Ubuntu 20.04 ARM GCC Cross Compile     | PASS               |
+----------------------------------------+--------------------+
| Ubuntu 20.04 aarch32 GCC Cross Compile | PASS               |
+----------------------------------------+--------------------+
| Ubuntu 20.04 (ARM)                     | PASS               |
+----------------------------------------+--------------------+
| Fedora 37 (ARM)                        | PASS               |
+----------------------------------------+--------------------+
| Debian 11 (Buster) (ARM)               | PASS               |
+----------------------------------------+--------------------+
| Debian 12 (arm)                        | PASS               |
+----------------------------------------+--------------------+
| Fedora 38 (ARM)                        | PASS               |
+----------------------------------------+--------------------+
| CentOS Stream 9 (ARM)                  | PASS               |
+----------------------------------------+--------------------+


Ubuntu 20.04 ARM SVE
	Kernel: 5.4.0-80-generic
	Compiler: gcc 10.3.0 (Ubuntu 10.3.0-1ubuntu1~20.04)

Debian 12 with MUSDK
	Kernel: Container Host Kernel
	Compiler: gcc 12

Ubuntu 20.04 ARM GCC Cross Compile
	Kernel: 5.4.0-72-generic
	Compiler: aarch64-linux-gnu-gcc (Ubuntu 9.3.0-17ubuntu1~20.04) 9.3.0

Ubuntu 20.04 aarch32 GCC Cross Compile
	Kernel: 5.4.0-72-generic
	Compiler: gcc 9.3.0

Ubuntu 20.04 (ARM)
	Kernel: Container Host Kernel
	Compiler: gcc 9.4.0

Fedora 37 (ARM)
	Kernel: Depends on container host
	Compiler: gcc 12.3.1

Debian 11 (Buster) (ARM)
	Kernel: Container Host Kernel
	Compiler: gcc 10.2.1

Debian 12 (arm)
	Kernel: Container Host Kernel
	Compiler: gcc 11

Fedora 38 (ARM)
	Kernel: Depends on container host
	Compiler: gcc 13.1.1

CentOS Stream 9 (ARM)
	Kernel: Container Host Kernel
	Compiler: gcc 11.3.1

To view detailed results, visit:
https://lab.dpdk.org/results/dashboard/patchsets/29528/

UNH-IOL DPDK Community Lab

To manage your email subscriptions, visit: 
https://lab.dpdk.org/results/dashboard/preferences/subscriptions/