From mboxrd@z Thu Jan  1 00:00:00 1970
Return-Path: <test-report-bounces@dpdk.org>
Received: from mails.dpdk.org (mails.dpdk.org [217.70.189.124])
	by inbox.dpdk.org (Postfix) with ESMTP id 78C7743C97
	for <public@inbox.dpdk.org>; Wed, 13 Mar 2024 00:43:02 +0100 (CET)
Received: from mails.dpdk.org (localhost [127.0.0.1])
	by mails.dpdk.org (Postfix) with ESMTP id 6E10F4027F;
	Wed, 13 Mar 2024 00:43:02 +0100 (CET)
Received: from mail-yw1-f228.google.com (mail-yw1-f228.google.com
 [209.85.128.228])
 by mails.dpdk.org (Postfix) with ESMTP id 9F3614026E
 for <test-report@dpdk.org>; Wed, 13 Mar 2024 00:43:00 +0100 (CET)
Received: by mail-yw1-f228.google.com with SMTP id
 00721157ae682-60a5a11b59dso11900507b3.0
 for <test-report@dpdk.org>; Tue, 12 Mar 2024 16:43:00 -0700 (PDT)
DKIM-Signature: v=1; a=rsa-sha256; c=relaxed/relaxed;
 d=iol.unh.edu; s=unh-iol; t=1710286980; x=1710891780; darn=dpdk.org;
 h=references:in-reply-to:cc:to:from:subject:message-id:date:from:to
 :cc:subject:date:message-id:reply-to;
 bh=fuuA2FOl/svbw6wEQKaBI8f74XOKcxusDOvGCfimGUU=;
 b=i2nuTnIIu+sgjlx6zHFv98ybDFY0xLHS3+oO+T+grp9l4cMmUIyNFUQ6vFQ4/dy9q+
 Shrxv/6FLy25FN3myN44V5OZinMPGHlQc54uw4gq8fT9DcRjxsllAXr7yKTUYNmD+b8k
 jZJ1z8BlX7TvwRmsjcPyn9Q4eWuLz6Msm+2UA=
X-Google-DKIM-Signature: v=1; a=rsa-sha256; c=relaxed/relaxed;
 d=1e100.net; s=20230601; t=1710286980; x=1710891780;
 h=references:in-reply-to:cc:to:from:subject:message-id:date
 :x-gm-message-state:from:to:cc:subject:date:message-id:reply-to;
 bh=fuuA2FOl/svbw6wEQKaBI8f74XOKcxusDOvGCfimGUU=;
 b=DGgbz/UfehOi+cO81j18eqEZ6dET8TVpYwRzePZfRd55AhTs2/SDKnB8YGpSSIcpBM
 zNh3G3a/NQntMrfXEu/Y60JtAnl2exNVkqg2F8f6h5jq7bdw9kEOzhqtvA6Zcv7ocs3Z
 MVLAPBc/bqVMzK1rv/8GXq4rBHg5wfHFV39zBhHbor1xyn6x1o4ONTkf4bO+NYz3Rn/b
 lwM2TH/IlTZ9RNgtWMu8yKHJnTrDCkIgSanaFKLucyP68zVXFUoFMvlVgFbd2uQjUYSu
 KrdOb/W1mjNxlrDjLyOd1msTh6lwKMWGxdgvLhYzH6erCbmI3O+7VnnNsWT2oJvCh/kU
 KCIQ==
X-Gm-Message-State: AOJu0YziPxnOpEbt++CW81Qsnv9ToxJWFnx56p+uAO96n6QpwONmkTCh
 6lf5D499Cqhpch9u/Cgdoi2rkKcg3ZTaSnzknS5rDC+9kiSWFpKZ7LpFt8qaFiUuw0L0waWva7t
 y6ytJSJSSBXbI4ydfiMXJWGaoBXw8+83iKpjn/zdI
X-Google-Smtp-Source: AGHT+IFGlCFiACA9PRDxARKQTv789GDKTf7M/f1pGTuLPGzl0jQ2QsNumaRiCPYxWKaVtYAdtqMFiqlohRm5
X-Received: by 2002:a0d:cec3:0:b0:609:fd74:2ba6 with SMTP id
 q186-20020a0dcec3000000b00609fd742ba6mr1098226ywd.13.1710286978610; 
 Tue, 12 Mar 2024 16:42:58 -0700 (PDT)
Received: from postal.iol.unh.edu (postal.iol.unh.edu. [132.177.123.84])
 by smtp-relay.gmail.com with ESMTPS id
 fb4-20020a05690c310400b006093c713f19sm263394ywb.52.2024.03.12.16.42.58
 (version=TLS1_2 cipher=ECDHE-ECDSA-AES128-GCM-SHA256 bits=128/128);
 Tue, 12 Mar 2024 16:42:58 -0700 (PDT)
X-Relaying-Domain: iol.unh.edu
Date: Tue, 12 Mar 2024 16:42:58 -0700 (PDT)
Message-ID: <65f0e882.050a0220.bcfb1.e329SMTPIN_ADDED_MISSING@mx.google.com>
Received: from [172.17.0.6] (unknown [172.18.0.217])
 by postal.iol.unh.edu (Postfix) with ESMTP id 3906F6052471;
 Tue, 12 Mar 2024 19:42:58 -0400 (EDT)
Subject: |SUCCESS| pw138283 [PATCH] test-pmd: add more packet decode options 
From: dpdklab@iol.unh.edu
To: Test Report <test-report@dpdk.org>
Cc: dpdk-test-reports@iol.unh.edu
In-Reply-To: <20240312220129.70667-1-stephen@networkplumber.org>
References: <20240312220129.70667-1-stephen@networkplumber.org>
Content-Type: text/plain
X-BeenThere: test-report@dpdk.org
X-Mailman-Version: 2.1.29
Precedence: list
List-Id: automatic DPDK test reports <test-report.dpdk.org>
List-Unsubscribe: <https://mails.dpdk.org/options/test-report>,
 <mailto:test-report-request@dpdk.org?subject=unsubscribe>
List-Archive: <http://mails.dpdk.org/archives/test-report/>
List-Post: <mailto:test-report@dpdk.org>
List-Help: <mailto:test-report-request@dpdk.org?subject=help>
List-Subscribe: <https://mails.dpdk.org/listinfo/test-report>,
 <mailto:test-report-request@dpdk.org?subject=subscribe>
Errors-To: test-report-bounces@dpdk.org

Test-Label: iol-compile-amd64-testing
Test-Status: SUCCESS
http://dpdk.org/patch/138283

_Testing PASS_

Submitter: Stephen Hemminger <stephen@networkplumber.org>
Date: Tuesday, March 12 2024 22:01:27 
DPDK git baseline: Repo:dpdk
  Branch: master
  CommitID:544d6d79a6ff0964a79a57efb102e87fdbd107d9

138283 --> testing pass

Test environment and result as below:

+---------------------+--------------------+
|     Environment     | dpdk_meson_compile |
+=====================+====================+
| Windows Server 2022 | PASS               |
+---------------------+--------------------+
| FreeBSD 13.2        | PASS               |
+---------------------+--------------------+
| Debian Bullseye     | PASS               |
+---------------------+--------------------+
| Debian 12 (arm)     | PASS               |
+---------------------+--------------------+
| CentOS Stream 9     | PASS               |
+---------------------+--------------------+
| CentOS Stream 8     | PASS               |
+---------------------+--------------------+
| openSUSE Leap 15    | PASS               |
+---------------------+--------------------+
| Fedora 37           | PASS               |
+---------------------+--------------------+
| Fedora 38           | PASS               |
+---------------------+--------------------+
| RHEL8               | PASS               |
+---------------------+--------------------+
| Ubuntu 22.04        | PASS               |
+---------------------+--------------------+
| Alpine              | PASS               |
+---------------------+--------------------+
| Ubuntu 20.04        | PASS               |
+---------------------+--------------------+


Windows Server 2022
	Kernel: OS Build 20348.2031
	Compiler: MSVC VS-Preview

FreeBSD 13.2
	Kernel: 13.2
	Compiler: clang 11.3.0

Debian Bullseye
	Kernel: 5.4.0-122-generic
	Compiler: gcc 10.2.1-6

Debian 12 (arm)
	Kernel: Container Host Kernel
	Compiler: gcc 11

CentOS Stream 9
	Kernel: 4.18.0-240.10.1.el8_3.x86_64
	Compiler: gcc 11.3.1 20220421

CentOS Stream 8
	Kernel: 4.18.0-240.10.1.el8_3.x86_64
	Compiler: gcc 8.4.1 20200928

openSUSE Leap 15
	Kernel: 4.18.0-240.10.1.el8_3.x86_64
	Compiler: gcc 7.5.0

Fedora 37
	Kernel: Depends on container host system
	Compiler: gcc 12.3.1

Fedora 38
	Kernel: Depends on container host
	Compiler: gcc 13.1.1

RHEL8
	Kernel: 4.18.0-240.10.1.el8_3.x86_64
	Compiler: gcc 8.3.1 20191121 (Red Hat 8.3.1-5)

Ubuntu 22.04
	Kernel: 4.18.0-240.10.1.el8_3.x86_64
	Compiler: gcc 11.3.0

Alpine
	Kernel: 5.4.0-73-generic
	Compiler: gcc (Alpine 10.3.1_git20210424) 10.3.1 20210424

Ubuntu 20.04
	Kernel: 5.4.0-153-generic
	Compiler: gcc 9.4.0-1ubuntu1~20.04.1

To view detailed results, visit:
https://lab.dpdk.org/results/dashboard/patchsets/29528/

UNH-IOL DPDK Community Lab

To manage your email subscriptions, visit: 
https://lab.dpdk.org/results/dashboard/preferences/subscriptions/