From mboxrd@z Thu Jan  1 00:00:00 1970
Return-Path: <test-report-bounces@dpdk.org>
Received: from mails.dpdk.org (mails.dpdk.org [217.70.189.124])
	by inbox.dpdk.org (Postfix) with ESMTP id 8DEEF43C97
	for <public@inbox.dpdk.org>; Wed, 13 Mar 2024 00:43:11 +0100 (CET)
Received: from mails.dpdk.org (localhost [127.0.0.1])
	by mails.dpdk.org (Postfix) with ESMTP id 84F9F4027F;
	Wed, 13 Mar 2024 00:43:11 +0100 (CET)
Received: from mail-pg1-f226.google.com (mail-pg1-f226.google.com
 [209.85.215.226])
 by mails.dpdk.org (Postfix) with ESMTP id AAA084026E
 for <test-report@dpdk.org>; Wed, 13 Mar 2024 00:43:06 +0100 (CET)
Received: by mail-pg1-f226.google.com with SMTP id
 41be03b00d2f7-5d8b887bb0cso5057578a12.2
 for <test-report@dpdk.org>; Tue, 12 Mar 2024 16:43:06 -0700 (PDT)
DKIM-Signature: v=1; a=rsa-sha256; c=relaxed/relaxed;
 d=iol.unh.edu; s=unh-iol; t=1710286986; x=1710891786; darn=dpdk.org;
 h=references:in-reply-to:cc:to:from:subject:message-id:date:from:to
 :cc:subject:date:message-id:reply-to;
 bh=wqJNKVjzaIT6V7sVccSF5vl0HleJ5QH9q0pNROW0QsY=;
 b=W/XGw0dC69RasaH7r7Pb4LL+iKi58YXJzIbg/7GKIphXuhI4mZy+qQAy/ZefOQJLrp
 YzMWJkvTiQ4Hx9HNcHcH+X3+WO6ythQpvoaOaQxuAokoCqdrDmOd768IiRQ5IakoLgo8
 Tlhqlmh4kpfywhOmBa1jsTc3iwqgjLlNumw+E=
X-Google-DKIM-Signature: v=1; a=rsa-sha256; c=relaxed/relaxed;
 d=1e100.net; s=20230601; t=1710286986; x=1710891786;
 h=references:in-reply-to:cc:to:from:subject:message-id:date
 :x-gm-message-state:from:to:cc:subject:date:message-id:reply-to;
 bh=wqJNKVjzaIT6V7sVccSF5vl0HleJ5QH9q0pNROW0QsY=;
 b=hsjR/0dj0HONleMmLt7ywJgmL4HF7hhJMb/V+T8w9xQbrM/mNfop0L2Viv9q4K7EBZ
 JsDd7gUzWMjFfF2au7uzcPprbDnJzObKLzC444ATUJTGBWB0nKC/DM579tJUYKxAOv70
 Q5BVHUBDJFCsejhY5COyQVqTGjSiBqUCp8nziHFSmuJhVG0/JpKWAVSgSqhB/i9jnDIW
 Gc3JaVPYYMiAfXKEY0pVXTHSL/luD+We/BjHPh1FQmn3b6myBPBReOy4fCOPWOolvqqn
 pZjANv5U+/xxfuhSiLPn/F91fhFicqBhGUWhLmhYJ+F0TWPhosTNRVutTm3ZMbfP2XDO
 jJ6g==
X-Gm-Message-State: AOJu0Yy1Jt2s7FXq3cTtzveaSrQkmjs1PjEN2w7koncTMYwAMvHamfDy
 sB/R/moEenOhnFes4SRpSgYhCksfyAHhwECDaiuHVtB08wSc7cl5k1ctkheyitt0LgmGLjzpx91
 Yz6kxVqY72rQwq2NWuygk7XkVbtiu8/woJR8vFoR3
X-Google-Smtp-Source: AGHT+IHXg7ESymxaxttbkumZGiU3TkfFb2jdeu7rHI4dGnII0JAI/EeZ5uTN6aMPOfqEmOnzf4MzwCHYE6K3
X-Received: by 2002:a05:6a20:a122:b0:1a3:1462:3c42 with SMTP id
 q34-20020a056a20a12200b001a314623c42mr9093298pzk.18.1710286985888; 
 Tue, 12 Mar 2024 16:43:05 -0700 (PDT)
Received: from postal.iol.unh.edu (postal.iol.unh.edu. [132.177.123.84])
 by smtp-relay.gmail.com with ESMTPS id
 kk11-20020a170903070b00b001dd6f722166sm216586plb.99.2024.03.12.16.43.05
 (version=TLS1_2 cipher=ECDHE-ECDSA-AES128-GCM-SHA256 bits=128/128);
 Tue, 12 Mar 2024 16:43:05 -0700 (PDT)
X-Relaying-Domain: iol.unh.edu
Date: Tue, 12 Mar 2024 16:43:05 -0700 (PDT)
Message-ID: <65f0e889.170a0220.546d8.c7aaSMTPIN_ADDED_MISSING@mx.google.com>
Received: from [172.17.0.7] (unknown [172.18.0.217])
 by postal.iol.unh.edu (Postfix) with ESMTP id 14B736052471;
 Tue, 12 Mar 2024 19:43:05 -0400 (EDT)
Subject: |SUCCESS| pw138283 [PATCH] test-pmd: add more packet decode options 
From: dpdklab@iol.unh.edu
To: Test Report <test-report@dpdk.org>
Cc: dpdk-test-reports@iol.unh.edu
In-Reply-To: <20240312220129.70667-1-stephen@networkplumber.org>
References: <20240312220129.70667-1-stephen@networkplumber.org>
Content-Type: text/plain
X-BeenThere: test-report@dpdk.org
X-Mailman-Version: 2.1.29
Precedence: list
List-Id: automatic DPDK test reports <test-report.dpdk.org>
List-Unsubscribe: <https://mails.dpdk.org/options/test-report>,
 <mailto:test-report-request@dpdk.org?subject=unsubscribe>
List-Archive: <http://mails.dpdk.org/archives/test-report/>
List-Post: <mailto:test-report@dpdk.org>
List-Help: <mailto:test-report-request@dpdk.org?subject=help>
List-Subscribe: <https://mails.dpdk.org/listinfo/test-report>,
 <mailto:test-report-request@dpdk.org?subject=subscribe>
Errors-To: test-report-bounces@dpdk.org

Test-Label: iol-unit-amd64-testing
Test-Status: SUCCESS
http://dpdk.org/patch/138283

_Testing PASS_

Submitter: Stephen Hemminger <stephen@networkplumber.org>
Date: Tuesday, March 12 2024 22:01:27 
DPDK git baseline: Repo:dpdk
  Branch: master
  CommitID:544d6d79a6ff0964a79a57efb102e87fdbd107d9

138283 --> testing pass

Test environment and result as below:

+-----------------+----------------+
|   Environment   | dpdk_unit_test |
+=================+================+
| CentOS Stream 8 | PASS           |
+-----------------+----------------+
| Debian Bullseye | PASS           |
+-----------------+----------------+
| Fedora 37       | PASS           |
+-----------------+----------------+
| Fedora 38       | PASS           |
+-----------------+----------------+
| CentOS Stream 9 | PASS           |
+-----------------+----------------+
| Debian 12 (arm) | PASS           |
+-----------------+----------------+


CentOS Stream 8
	Kernel: 4.18.0-240.10.1.el8_3.x86_64
	Compiler: gcc 8.4.1 20200928

Debian Bullseye
	Kernel: 5.4.0-122-generic
	Compiler: gcc 10.2.1-6

Fedora 37
	Kernel: Depends on container host system
	Compiler: gcc 12.3.1

Fedora 38
	Kernel: Depends on container host
	Compiler: gcc 13.1.1

CentOS Stream 9
	Kernel: 4.18.0-240.10.1.el8_3.x86_64
	Compiler: gcc 11.3.1 20220421

Debian 12 (arm)
	Kernel: Container Host Kernel
	Compiler: gcc 11

To view detailed results, visit:
https://lab.dpdk.org/results/dashboard/patchsets/29528/

UNH-IOL DPDK Community Lab

To manage your email subscriptions, visit: 
https://lab.dpdk.org/results/dashboard/preferences/subscriptions/