From mboxrd@z Thu Jan  1 00:00:00 1970
Return-Path: <test-report-bounces@dpdk.org>
Received: from mails.dpdk.org (mails.dpdk.org [217.70.189.124])
	by inbox.dpdk.org (Postfix) with ESMTP id 2E51943C97
	for <public@inbox.dpdk.org>; Wed, 13 Mar 2024 00:45:46 +0100 (CET)
Received: from mails.dpdk.org (localhost [127.0.0.1])
	by mails.dpdk.org (Postfix) with ESMTP id 298084027F;
	Wed, 13 Mar 2024 00:45:46 +0100 (CET)
Received: from mail-yw1-f225.google.com (mail-yw1-f225.google.com
 [209.85.128.225])
 by mails.dpdk.org (Postfix) with ESMTP id 522E04026E
 for <test-report@dpdk.org>; Wed, 13 Mar 2024 00:45:45 +0100 (CET)
Received: by mail-yw1-f225.google.com with SMTP id
 00721157ae682-60a5628ad97so2453097b3.0
 for <test-report@dpdk.org>; Tue, 12 Mar 2024 16:45:45 -0700 (PDT)
DKIM-Signature: v=1; a=rsa-sha256; c=relaxed/relaxed;
 d=iol.unh.edu; s=unh-iol; t=1710287144; x=1710891944; darn=dpdk.org;
 h=references:in-reply-to:cc:to:from:subject:message-id:date:from:to
 :cc:subject:date:message-id:reply-to;
 bh=OftHJA09BOISrwwFz4UN+sd/qdL4rQdGJqjDVB6djko=;
 b=F1CDjSHHhwEvCEtq0W6nJpRtQ4LnctkibFisT+vKYwGBK+41URw0Kh1wjlkawLq1T1
 B6W3ECWxH1bsR5N1CHqdPjJ9W4gHbgF71TERJ1zx4Vqby2tvo6uumlYExwxAHbNkli2B
 3R9ixY7nHzFztIswC5aLOh1fT1gpxLiDYrrHU=
X-Google-DKIM-Signature: v=1; a=rsa-sha256; c=relaxed/relaxed;
 d=1e100.net; s=20230601; t=1710287144; x=1710891944;
 h=references:in-reply-to:cc:to:from:subject:message-id:date
 :x-gm-message-state:from:to:cc:subject:date:message-id:reply-to;
 bh=OftHJA09BOISrwwFz4UN+sd/qdL4rQdGJqjDVB6djko=;
 b=N1eIjrApBYKro5Ggo3BVacF1vuThcsmK5wGM4pjx7ANGzCPmvGRKikc8PwvSlvNh2i
 bCIShXH8fFJVmIrhBM3eGbRZDSZL5NPS1XsMcPODCYZOR2t4pBYxYSYH+pMdmigmRsfV
 ZIoOhAiz/Ilp6DTwVSdL5LgpNreu0dzoDWuZj5icp4+EftGVOTU8iYzbe22GooD+fu5y
 ZgHlGHdAbozBX3HM5RKtKUV4ACukyLcTtpRtd5tWg5fNil8xhUY66IxSV3PC8b/GZLKb
 Qw0NtP/4Fq0DcNFz5LApSYyLkOVAqpbs5tJnDhwmh0Wwn1wTVM4dg2PF3QkUIuk0GSy3
 F1mQ==
X-Gm-Message-State: AOJu0Yyas1aSrgBr3v498DO2GIj4j7YoHyHE1rVyYm6g4GkjlZYLCmN+
 3DkE/Cun8+rEB0AAsXxLbR7ORxFXjJ+PKnyqXKenDNRyAA0JXbQfE/qc+JtHkZASlg/JVp08ej7
 X3LSKcD76JfmdEyRM8pc1lmr0Qji9hXTb5fqxmcTO
X-Google-Smtp-Source: AGHT+IFb/tIpEt5SroeYQ7eN2QEcVht8EH7Z2d+V0hjjYLOovfPHA5hdBL7RsPN27ErEVbJ8XscfPHJvg4NA
X-Received: by 2002:a25:4845:0:b0:dc6:ca3a:31da with SMTP id
 v66-20020a254845000000b00dc6ca3a31damr705722yba.16.1710287144719; 
 Tue, 12 Mar 2024 16:45:44 -0700 (PDT)
Received: from postal.iol.unh.edu (postal.iol.unh.edu. [132.177.123.84])
 by smtp-relay.gmail.com with ESMTPS id
 l16-20020a25ad50000000b00dd137d215e3sm613049ybe.9.2024.03.12.16.45.44
 (version=TLS1_2 cipher=ECDHE-ECDSA-AES128-GCM-SHA256 bits=128/128);
 Tue, 12 Mar 2024 16:45:44 -0700 (PDT)
X-Relaying-Domain: iol.unh.edu
Date: Tue, 12 Mar 2024 16:45:44 -0700 (PDT)
Message-ID: <65f0e928.250a0220.cbe12.641dSMTPIN_ADDED_MISSING@mx.google.com>
Received: from [172.17.0.6] (unknown [172.18.0.217])
 by postal.iol.unh.edu (Postfix) with ESMTP id 58B746052471;
 Tue, 12 Mar 2024 19:45:44 -0400 (EDT)
Subject: |SUCCESS| pw138283 [PATCH] test-pmd: add more packet decode options 
From: dpdklab@iol.unh.edu
To: Test Report <test-report@dpdk.org>
Cc: dpdk-test-reports@iol.unh.edu
In-Reply-To: <20240312220129.70667-1-stephen@networkplumber.org>
References: <20240312220129.70667-1-stephen@networkplumber.org>
Content-Type: text/plain
X-BeenThere: test-report@dpdk.org
X-Mailman-Version: 2.1.29
Precedence: list
List-Id: automatic DPDK test reports <test-report.dpdk.org>
List-Unsubscribe: <https://mails.dpdk.org/options/test-report>,
 <mailto:test-report-request@dpdk.org?subject=unsubscribe>
List-Archive: <http://mails.dpdk.org/archives/test-report/>
List-Post: <mailto:test-report@dpdk.org>
List-Help: <mailto:test-report-request@dpdk.org?subject=help>
List-Subscribe: <https://mails.dpdk.org/listinfo/test-report>,
 <mailto:test-report-request@dpdk.org?subject=subscribe>
Errors-To: test-report-bounces@dpdk.org

Test-Label: iol-unit-arm64-testing
Test-Status: SUCCESS
http://dpdk.org/patch/138283

_Testing PASS_

Submitter: Stephen Hemminger <stephen@networkplumber.org>
Date: Tuesday, March 12 2024 22:01:27 
DPDK git baseline: Repo:dpdk
  Branch: master
  CommitID:544d6d79a6ff0964a79a57efb102e87fdbd107d9

138283 --> testing pass

Test environment and result as below:

+--------------------------+----------------+------------------------------+---------------------------+--------------+
|       Environment        | dpdk_unit_test | cryptodev_sw_snow3g_autotest | cryptodev_sw_zuc_autotest | lpm_autotest |
+==========================+================+==============================+===========================+==============+
| Debian 11 (Buster) (ARM) | PASS           | SKIPPED                      | SKIPPED                   | SKIPPED      |
+--------------------------+----------------+------------------------------+---------------------------+--------------+
| Debian 12 (arm)          | PASS           | PASS                         | PASS                      | SKIPPED      |
+--------------------------+----------------+------------------------------+---------------------------+--------------+
| Fedora 37 (ARM)          | PASS           | SKIPPED                      | SKIPPED                   | SKIPPED      |
+--------------------------+----------------+------------------------------+---------------------------+--------------+
| CentOS Stream 9 (ARM)    | PASS           | SKIPPED                      | SKIPPED                   | SKIPPED      |
+--------------------------+----------------+------------------------------+---------------------------+--------------+
| Fedora 38 (ARM)          | PASS           | SKIPPED                      | SKIPPED                   | SKIPPED      |
+--------------------------+----------------+------------------------------+---------------------------+--------------+
| Ubuntu 20.04 ARM SVE     | SKIPPED        | SKIPPED                      | SKIPPED                   | PASS         |
+--------------------------+----------------+------------------------------+---------------------------+--------------+


Debian 11 (Buster) (ARM)
	Kernel: Container Host Kernel
	Compiler: gcc 10.2.1

Debian 12 (arm)
	Kernel: Container Host Kernel
	Compiler: gcc 11

Fedora 37 (ARM)
	Kernel: Depends on container host
	Compiler: gcc 12.3.1

CentOS Stream 9 (ARM)
	Kernel: Container Host Kernel
	Compiler: gcc 11.3.1

Fedora 38 (ARM)
	Kernel: Depends on container host
	Compiler: gcc 13.1.1

Ubuntu 20.04 ARM SVE
	Kernel: 5.4.0-80-generic
	Compiler: gcc 10.3.0 (Ubuntu 10.3.0-1ubuntu1~20.04)

To view detailed results, visit:
https://lab.dpdk.org/results/dashboard/patchsets/29528/

UNH-IOL DPDK Community Lab

To manage your email subscriptions, visit: 
https://lab.dpdk.org/results/dashboard/preferences/subscriptions/