From mboxrd@z Thu Jan  1 00:00:00 1970
Return-Path: <test-report-bounces@dpdk.org>
Received: from mails.dpdk.org (mails.dpdk.org [217.70.189.124])
	by inbox.dpdk.org (Postfix) with ESMTP id 69FA543C9B
	for <public@inbox.dpdk.org>; Wed, 13 Mar 2024 07:57:44 +0100 (CET)
Received: from mails.dpdk.org (localhost [127.0.0.1])
	by mails.dpdk.org (Postfix) with ESMTP id 66A8540E01;
	Wed, 13 Mar 2024 07:57:44 +0100 (CET)
Received: from mail-qt1-f225.google.com (mail-qt1-f225.google.com
 [209.85.160.225])
 by mails.dpdk.org (Postfix) with ESMTP id 2066040633
 for <test-report@dpdk.org>; Wed, 13 Mar 2024 07:57:37 +0100 (CET)
Received: by mail-qt1-f225.google.com with SMTP id
 d75a77b69052e-42f468b62f1so16428551cf.1
 for <test-report@dpdk.org>; Tue, 12 Mar 2024 23:57:37 -0700 (PDT)
DKIM-Signature: v=1; a=rsa-sha256; c=relaxed/relaxed;
 d=iol.unh.edu; s=unh-iol; t=1710313056; x=1710917856; darn=dpdk.org;
 h=references:in-reply-to:cc:to:from:subject:message-id:date:from:to
 :cc:subject:date:message-id:reply-to;
 bh=Oq96O6dxLU3ueZ2GsnH3FnKs6KBaCkix/Bg95Ksw3Yo=;
 b=BZpaKxMST88CmsoqjdSS0Y1iYaC0glr7+sxK+Hk1SB7dgNggtwVbm+KalhP/xF5bFI
 7WGeh4G0eD2ejU439hrVY24XMJcrB9XR1xHzsg9814kB/LzuU7F+VVXYMoUxtOZpUJ0o
 hEQWLSS8oCMK5dq53AoinDGSpzaySPehXxHOY=
X-Google-DKIM-Signature: v=1; a=rsa-sha256; c=relaxed/relaxed;
 d=1e100.net; s=20230601; t=1710313056; x=1710917856;
 h=references:in-reply-to:cc:to:from:subject:message-id:date
 :x-gm-message-state:from:to:cc:subject:date:message-id:reply-to;
 bh=Oq96O6dxLU3ueZ2GsnH3FnKs6KBaCkix/Bg95Ksw3Yo=;
 b=LC+ga6IpMR0RKZw5XJfHandxVhIgakaeqMGkikG6V9xVxYf9NA56Qgh2SM8JkZBj3m
 +R1soW+1KqmAQ88VpT6DCF2p6D5yjzAqmAfP+0mMusGRkJfg34ZiO25s3bAzOwJvypho
 CM5EMnZZI3aNBv0UXxyXvETm1wxuB77ZUAFvtXJ040RceUWsPeV4o/VVOHptzttgHQdF
 5QYAlffD7u0Z9figP0ZcdcoXx2yxBy3X75XTtKcq7u8LtRv5lBFkoUo10WOZgKEBHOoS
 4vpD48TFk4vZdB5H8/Hg8H46+PwaYBt2I55pJnGevzkWSIoXbwa7gRxcUDoROqd1eBAR
 Lx6w==
X-Gm-Message-State: AOJu0YxSMzMH0e2JLDNdv7ILxYzlyBKjdV9RtflCoAKun1FgrmnNeg7i
 +Xndl8Mwn0mghTAhnXpDGTXUTzum177pad4ZCDqOlkZCjKsXr8T2cSzaRs8vM5eFCDi+a/lGvpb
 or/Ed6yy4bYigF7h9+05OtIHqe3H9e0B4QSTOV+GlGCUH67cr5wGLns5N
X-Google-Smtp-Source: AGHT+IGtWGhEMjF4wqsF1Au2xE/CFCrUa6GyYHlMCg8Iksk9wpUUfEm7Yk1Tdt8YEVtDAmK+WyXElle/kx5W
X-Received: by 2002:a05:622a:189d:b0:430:9273:8b26 with SMTP id
 v29-20020a05622a189d00b0043092738b26mr548243qtc.61.1710313056600; 
 Tue, 12 Mar 2024 23:57:36 -0700 (PDT)
Received: from postal.iol.unh.edu (postal.iol.unh.edu.
 [2606:4100:3880:1234::84]) by smtp-relay.gmail.com with ESMTPS id
 v8-20020a05622a144800b0042eef9d7220sm386049qtx.24.2024.03.12.23.57.36
 (version=TLS1_2 cipher=ECDHE-ECDSA-AES128-GCM-SHA256 bits=128/128);
 Tue, 12 Mar 2024 23:57:36 -0700 (PDT)
X-Relaying-Domain: iol.unh.edu
Date: Tue, 12 Mar 2024 23:57:36 -0700 (PDT)
Message-ID: <65f14e60.050a0220.23f9d.6672SMTPIN_ADDED_MISSING@mx.google.com>
Received: from [172.21.0.6] (unknown [172.18.0.240])
 by postal.iol.unh.edu (Postfix) with ESMTP id 58A956052471;
 Wed, 13 Mar 2024 02:57:36 -0400 (EDT)
Subject: |SUCCESS| pw138284-138304 [PATCH] [v4,21/21] test/security: add out 
From: dpdklab@iol.unh.edu
To: Test Report <test-report@dpdk.org>
Cc: dpdk-test-reports@iol.unh.edu
In-Reply-To: <20240313055030.1685039-22-asasidharan@marvell.com>
References: <20240313055030.1685039-22-asasidharan@marvell.com>
Content-Type: text/plain
X-BeenThere: test-report@dpdk.org
X-Mailman-Version: 2.1.29
Precedence: list
List-Id: automatic DPDK test reports <test-report.dpdk.org>
List-Unsubscribe: <https://mails.dpdk.org/options/test-report>,
 <mailto:test-report-request@dpdk.org?subject=unsubscribe>
List-Archive: <http://mails.dpdk.org/archives/test-report/>
List-Post: <mailto:test-report@dpdk.org>
List-Help: <mailto:test-report-request@dpdk.org?subject=help>
List-Subscribe: <https://mails.dpdk.org/listinfo/test-report>,
 <mailto:test-report-request@dpdk.org?subject=subscribe>
Errors-To: test-report-bounces@dpdk.org

Test-Label: iol-compile-arm64-testing
Test-Status: SUCCESS
http://dpdk.org/patch/138304

_Testing PASS_

Submitter: Aakash Sasidharan <asasidharan@marvell.com>
Date: Wednesday, March 13 2024 05:50:30 
DPDK git baseline: Repo:dpdk
  Branch: master
  CommitID:a86f381b826660e88794754c41d3aec79ce9b87c

138284-138304 --> testing pass

Test environment and result as below:

+----------------------------------------+--------------------+
|              Environment               | dpdk_meson_compile |
+========================================+====================+
| Ubuntu 20.04 ARM SVE                   | PASS               |
+----------------------------------------+--------------------+
| Debian 12 with MUSDK                   | PASS               |
+----------------------------------------+--------------------+
| Fedora 37 (ARM)                        | PASS               |
+----------------------------------------+--------------------+
| Ubuntu 20.04 (ARM)                     | PASS               |
+----------------------------------------+--------------------+
| CentOS Stream 9 (ARM)                  | PASS               |
+----------------------------------------+--------------------+
| Ubuntu 20.04 aarch32 GCC Cross Compile | PASS               |
+----------------------------------------+--------------------+
| Debian 12 (arm)                        | PASS               |
+----------------------------------------+--------------------+
| Fedora 38 (ARM)                        | PASS               |
+----------------------------------------+--------------------+
| Ubuntu 20.04 ARM Clang Cross Compile   | PASS               |
+----------------------------------------+--------------------+
| Debian 11 (Buster) (ARM)               | PASS               |
+----------------------------------------+--------------------+


Ubuntu 20.04 ARM SVE
	Kernel: 5.4.0-80-generic
	Compiler: gcc 10.3.0 (Ubuntu 10.3.0-1ubuntu1~20.04)

Debian 12 with MUSDK
	Kernel: Container Host Kernel
	Compiler: gcc 12

Fedora 37 (ARM)
	Kernel: Depends on container host
	Compiler: gcc 12.3.1

Ubuntu 20.04 (ARM)
	Kernel: Container Host Kernel
	Compiler: gcc 9.4.0

CentOS Stream 9 (ARM)
	Kernel: Container Host Kernel
	Compiler: gcc 11.3.1

Ubuntu 20.04 aarch32 GCC Cross Compile
	Kernel: 5.4.0-72-generic
	Compiler: gcc 9.3.0

Debian 12 (arm)
	Kernel: Container Host Kernel
	Compiler: gcc 11

Fedora 38 (ARM)
	Kernel: Depends on container host
	Compiler: gcc 13.1.1

Ubuntu 20.04 ARM Clang Cross Compile
	Kernel: 5.4.0-72-generic
	Compiler: clang version 10.0.0-4ubuntu1

Debian 11 (Buster) (ARM)
	Kernel: Container Host Kernel
	Compiler: gcc 10.2.1

To view detailed results, visit:
https://lab.dpdk.org/results/dashboard/patchsets/29529/

UNH-IOL DPDK Community Lab

To manage your email subscriptions, visit: 
https://lab.dpdk.org/results/dashboard/preferences/subscriptions/