From mboxrd@z Thu Jan  1 00:00:00 1970
Return-Path: <test-report-bounces@dpdk.org>
Received: from mails.dpdk.org (mails.dpdk.org [217.70.189.124])
	by inbox.dpdk.org (Postfix) with ESMTP id 8702943C9A
	for <public@inbox.dpdk.org>; Wed, 13 Mar 2024 07:58:01 +0100 (CET)
Received: from mails.dpdk.org (localhost [127.0.0.1])
	by mails.dpdk.org (Postfix) with ESMTP id 83C6C40E01;
	Wed, 13 Mar 2024 07:58:01 +0100 (CET)
Received: from mail-vs1-f100.google.com (mail-vs1-f100.google.com
 [209.85.217.100])
 by mails.dpdk.org (Postfix) with ESMTP id B130E40633
 for <test-report@dpdk.org>; Wed, 13 Mar 2024 07:57:56 +0100 (CET)
Received: by mail-vs1-f100.google.com with SMTP id
 ada2fe7eead31-474cb4bcd3dso250565137.2
 for <test-report@dpdk.org>; Tue, 12 Mar 2024 23:57:56 -0700 (PDT)
DKIM-Signature: v=1; a=rsa-sha256; c=relaxed/relaxed;
 d=iol.unh.edu; s=unh-iol; t=1710313076; x=1710917876; darn=dpdk.org;
 h=references:in-reply-to:cc:to:from:subject:message-id:date:from:to
 :cc:subject:date:message-id:reply-to;
 bh=Oq96O6dxLU3ueZ2GsnH3FnKs6KBaCkix/Bg95Ksw3Yo=;
 b=EXpxRZqNJoygun/1eTfpWWorAzzvlJ0OLYa2NxayVzWVi63S6p95Uw5AYIR9aM410Q
 VuQE+MS0/zWSZBiJsFO9pn0WxU8qYxYLLanikoJeZhIpMHEedVctkl4p80LiTQJA7MtX
 eGvQE/PxtsPfuRmaGc2Tiu3XWXkksZ6LQ+v+w=
X-Google-DKIM-Signature: v=1; a=rsa-sha256; c=relaxed/relaxed;
 d=1e100.net; s=20230601; t=1710313076; x=1710917876;
 h=references:in-reply-to:cc:to:from:subject:message-id:date
 :x-gm-message-state:from:to:cc:subject:date:message-id:reply-to;
 bh=Oq96O6dxLU3ueZ2GsnH3FnKs6KBaCkix/Bg95Ksw3Yo=;
 b=aIwdsMz/pBtbNg7ed6YMMe4ePBEMnNsnciTi+a/oYTAwZ/Pb6/ul+wbMJZn8q/f+yB
 YtpVFeEIjB84lgfUCUQB5TkQ/MomkliY+4lHQwdSHWXBq6qCAi0X9z22A3JuIBlBrLhp
 M4AdKaJ6Hr0wlZbRiFW4+YEcfwV8VWvGG8j2tHfkjlnzw5M8zVG3bMFWeyiB1zi41oC4
 MK7chITIlo6e4ats66vZXXAfRayE3Rw1vjg6xEv9mk77OMe5slo0rs2WVrJ0E1vWixRP
 8AxDiUhGh4Y7AP/dt6oxoo0lapzUWi8IHDkwqRZO61Ke/Inatwexl6+YYijJmGvv+iBe
 hv3g==
X-Gm-Message-State: AOJu0YzL19ASRckDLPxkM6TL4rB8ts7q63Ou1TGmfbVsEfNtZu7cPKtr
 MUvT6ERM283uEXsrkErwAKUvDkN6y+wv9ScfB3FqVfnmHGUR36orhG8/X17lTpCN+bZupP31awq
 af6lN86URm8YKQJb25xd/L1f+aaNEk2Q+NpDtX31mJmQlr33aQTI7nfO/
X-Google-Smtp-Source: AGHT+IFK/EJwkSkHJ2dqJ5H65wHyXqD0fSxaMaWYcCgLL8w52qW/dqY2I9WmZ/gUvQH+ye7k7suzK8Zy9uTc
X-Received: by 2002:a67:eb0d:0:b0:474:d3d0:2e7 with SMTP id
 a13-20020a67eb0d000000b00474d3d002e7mr399790vso.3.1710313076195; 
 Tue, 12 Mar 2024 23:57:56 -0700 (PDT)
Received: from postal.iol.unh.edu (postal.iol.unh.edu.
 [2606:4100:3880:1234::84]) by smtp-relay.gmail.com with ESMTPS id
 m14-20020a05622a054e00b0042eed3c7fbdsm448462qtx.5.2024.03.12.23.57.56
 (version=TLS1_2 cipher=ECDHE-ECDSA-AES128-GCM-SHA256 bits=128/128);
 Tue, 12 Mar 2024 23:57:56 -0700 (PDT)
X-Relaying-Domain: iol.unh.edu
Date: Tue, 12 Mar 2024 23:57:56 -0700 (PDT)
Message-ID: <65f14e74.050a0220.39240.b178SMTPIN_ADDED_MISSING@mx.google.com>
Received: from [172.17.0.7] (unknown [172.18.0.217])
 by postal.iol.unh.edu (Postfix) with ESMTP id DED056052471;
 Wed, 13 Mar 2024 02:57:55 -0400 (EDT)
Subject: |SUCCESS| pw138284-138304 [PATCH] [v4,21/21] test/security: add out 
From: dpdklab@iol.unh.edu
To: Test Report <test-report@dpdk.org>
Cc: dpdk-test-reports@iol.unh.edu
In-Reply-To: <20240313055030.1685039-22-asasidharan@marvell.com>
References: <20240313055030.1685039-22-asasidharan@marvell.com>
Content-Type: text/plain
X-BeenThere: test-report@dpdk.org
X-Mailman-Version: 2.1.29
Precedence: list
List-Id: automatic DPDK test reports <test-report.dpdk.org>
List-Unsubscribe: <https://mails.dpdk.org/options/test-report>,
 <mailto:test-report-request@dpdk.org?subject=unsubscribe>
List-Archive: <http://mails.dpdk.org/archives/test-report/>
List-Post: <mailto:test-report@dpdk.org>
List-Help: <mailto:test-report-request@dpdk.org?subject=help>
List-Subscribe: <https://mails.dpdk.org/listinfo/test-report>,
 <mailto:test-report-request@dpdk.org?subject=subscribe>
Errors-To: test-report-bounces@dpdk.org

Test-Label: iol-compile-arm64-testing
Test-Status: SUCCESS
http://dpdk.org/patch/138304

_Testing PASS_

Submitter: Aakash Sasidharan <asasidharan@marvell.com>
Date: Wednesday, March 13 2024 05:50:30 
DPDK git baseline: Repo:dpdk
  Branch: master
  CommitID:a86f381b826660e88794754c41d3aec79ce9b87c

138284-138304 --> testing pass

Test environment and result as below:

+----------------------------------------+--------------------+
|              Environment               | dpdk_meson_compile |
+========================================+====================+
| Ubuntu 20.04 ARM SVE                   | PASS               |
+----------------------------------------+--------------------+
| Debian 12 with MUSDK                   | PASS               |
+----------------------------------------+--------------------+
| Fedora 37 (ARM)                        | PASS               |
+----------------------------------------+--------------------+
| Ubuntu 20.04 (ARM)                     | PASS               |
+----------------------------------------+--------------------+
| CentOS Stream 9 (ARM)                  | PASS               |
+----------------------------------------+--------------------+
| Ubuntu 20.04 aarch32 GCC Cross Compile | PASS               |
+----------------------------------------+--------------------+
| Debian 12 (arm)                        | PASS               |
+----------------------------------------+--------------------+
| Fedora 38 (ARM)                        | PASS               |
+----------------------------------------+--------------------+
| Ubuntu 20.04 ARM Clang Cross Compile   | PASS               |
+----------------------------------------+--------------------+
| Debian 11 (Buster) (ARM)               | PASS               |
+----------------------------------------+--------------------+


Ubuntu 20.04 ARM SVE
	Kernel: 5.4.0-80-generic
	Compiler: gcc 10.3.0 (Ubuntu 10.3.0-1ubuntu1~20.04)

Debian 12 with MUSDK
	Kernel: Container Host Kernel
	Compiler: gcc 12

Fedora 37 (ARM)
	Kernel: Depends on container host
	Compiler: gcc 12.3.1

Ubuntu 20.04 (ARM)
	Kernel: Container Host Kernel
	Compiler: gcc 9.4.0

CentOS Stream 9 (ARM)
	Kernel: Container Host Kernel
	Compiler: gcc 11.3.1

Ubuntu 20.04 aarch32 GCC Cross Compile
	Kernel: 5.4.0-72-generic
	Compiler: gcc 9.3.0

Debian 12 (arm)
	Kernel: Container Host Kernel
	Compiler: gcc 11

Fedora 38 (ARM)
	Kernel: Depends on container host
	Compiler: gcc 13.1.1

Ubuntu 20.04 ARM Clang Cross Compile
	Kernel: 5.4.0-72-generic
	Compiler: clang version 10.0.0-4ubuntu1

Debian 11 (Buster) (ARM)
	Kernel: Container Host Kernel
	Compiler: gcc 10.2.1

To view detailed results, visit:
https://lab.dpdk.org/results/dashboard/patchsets/29529/

UNH-IOL DPDK Community Lab

To manage your email subscriptions, visit: 
https://lab.dpdk.org/results/dashboard/preferences/subscriptions/