From mboxrd@z Thu Jan  1 00:00:00 1970
Return-Path: <test-report-bounces@dpdk.org>
Received: from mails.dpdk.org (mails.dpdk.org [217.70.189.124])
	by inbox.dpdk.org (Postfix) with ESMTP id 39F1E43C9A
	for <public@inbox.dpdk.org>; Wed, 13 Mar 2024 07:59:19 +0100 (CET)
Received: from mails.dpdk.org (localhost [127.0.0.1])
	by mails.dpdk.org (Postfix) with ESMTP id 358AA4069D;
	Wed, 13 Mar 2024 07:59:19 +0100 (CET)
Received: from mail-il1-f226.google.com (mail-il1-f226.google.com
 [209.85.166.226])
 by mails.dpdk.org (Postfix) with ESMTP id C5D1140633
 for <test-report@dpdk.org>; Wed, 13 Mar 2024 07:59:02 +0100 (CET)
Received: by mail-il1-f226.google.com with SMTP id
 e9e14a558f8ab-3663c6fba33so32099845ab.1
 for <test-report@dpdk.org>; Tue, 12 Mar 2024 23:59:02 -0700 (PDT)
DKIM-Signature: v=1; a=rsa-sha256; c=relaxed/relaxed;
 d=iol.unh.edu; s=unh-iol; t=1710313142; x=1710917942; darn=dpdk.org;
 h=references:in-reply-to:cc:to:from:subject:message-id:date:from:to
 :cc:subject:date:message-id:reply-to;
 bh=4WPaAFjZK+XBy2gP2GCLutHkRUHwb1OmP3KsxFdRydk=;
 b=NdDYZvjwvRonb88fJa6wgPQEfxxslfkwo+kasC8oEUimgpTmrTAVrCKbIYZIF2/O/n
 rWEvJPBsEgfoNWjx7LTAsu9U1qqb+ZweNBXmpMyo0pCsTI3iAO0xtYAPCmDxUOGQ5mnD
 vLQrCgM8E5rf88fU6IPxyVOcCogPEXnsWitAs=
X-Google-DKIM-Signature: v=1; a=rsa-sha256; c=relaxed/relaxed;
 d=1e100.net; s=20230601; t=1710313142; x=1710917942;
 h=references:in-reply-to:cc:to:from:subject:message-id:date
 :x-gm-message-state:from:to:cc:subject:date:message-id:reply-to;
 bh=4WPaAFjZK+XBy2gP2GCLutHkRUHwb1OmP3KsxFdRydk=;
 b=CTm63iNtHrpwCQQNizpHbCa5QnJaWrqTAqzh5n4lIeAZKBT87pDDkue06+KOr1wK05
 tGFBEabF3zgGbZax3i2LIYEmN/PUq1q24Ibh2K34d8vpIg3y12SLOoSSQG76iO6kjjK8
 qJ+bssA3fnMcZd3MCH85/qHJ6R0c7kHuv2Y4pDfMJhkVwmXEfDXo1OZ30rpOY6WwdwFZ
 lZBG6XMtflY/36SjBJZhRFbhlLhTvyXpoDVJGlC2Ojz2GQ7g3jw/FRmQXvXkgchrFa7j
 hIEOZGHl5vYrQ3pMasJT1XIn/SbTlfXNbnQWNEYluoFXOoT53G1eijBl3NLQgk5+Il7R
 4yFw==
X-Gm-Message-State: AOJu0YzvAmAeWWEKHrJ63A8LwcX0BcoCoUhnB99S2GsYSgsRujJ47O8f
 P3KIhX5AWngH1QGNQ2jGlzLtU2Hvf3kbbSk/v/FptvmCf75sc/bIBFp4Q7UikL3RU6uhEMybPwE
 Iyg85hgDIOTcPjRnfAdBIqCi7GO3VJjISRxyVYrbD
X-Google-Smtp-Source: AGHT+IHIsxUdwq6kb3DePp2QbNUVtRPuZeIDewuTClatfldcx8oBh0G4IRXVe33QxQREFMjZEbbUx5WMHbIK
X-Received: by 2002:a05:6e02:190a:b0:364:f536:b89e with SMTP id
 w10-20020a056e02190a00b00364f536b89emr15792791ilu.5.1710313142223; 
 Tue, 12 Mar 2024 23:59:02 -0700 (PDT)
Received: from postal.iol.unh.edu (postal.iol.unh.edu. [132.177.123.84])
 by smtp-relay.gmail.com with ESMTPS id
 j29-20020a056e02221d00b00365ca21bd89sm546215ilf.59.2024.03.12.23.59.02
 (version=TLS1_2 cipher=ECDHE-ECDSA-AES128-GCM-SHA256 bits=128/128);
 Tue, 12 Mar 2024 23:59:02 -0700 (PDT)
X-Relaying-Domain: iol.unh.edu
Date: Tue, 12 Mar 2024 23:59:02 -0700 (PDT)
Message-ID: <65f14eb6.050a0220.54e15.27e2SMTPIN_ADDED_MISSING@mx.google.com>
Received: from [172.17.0.6] (unknown [172.18.0.217])
 by postal.iol.unh.edu (Postfix) with ESMTP id B6FA46052471;
 Wed, 13 Mar 2024 02:59:01 -0400 (EDT)
Subject: |SUCCESS| pw138284-138304 [PATCH] [v4,21/21] test/security: add out 
From: dpdklab@iol.unh.edu
To: Test Report <test-report@dpdk.org>
Cc: dpdk-test-reports@iol.unh.edu
In-Reply-To: <20240313055030.1685039-22-asasidharan@marvell.com>
References: <20240313055030.1685039-22-asasidharan@marvell.com>
Content-Type: text/plain
X-BeenThere: test-report@dpdk.org
X-Mailman-Version: 2.1.29
Precedence: list
List-Id: automatic DPDK test reports <test-report.dpdk.org>
List-Unsubscribe: <https://mails.dpdk.org/options/test-report>,
 <mailto:test-report-request@dpdk.org?subject=unsubscribe>
List-Archive: <http://mails.dpdk.org/archives/test-report/>
List-Post: <mailto:test-report@dpdk.org>
List-Help: <mailto:test-report-request@dpdk.org?subject=help>
List-Subscribe: <https://mails.dpdk.org/listinfo/test-report>,
 <mailto:test-report-request@dpdk.org?subject=subscribe>
Errors-To: test-report-bounces@dpdk.org

Test-Label: iol-unit-amd64-testing
Test-Status: SUCCESS
http://dpdk.org/patch/138304

_Testing PASS_

Submitter: Aakash Sasidharan <asasidharan@marvell.com>
Date: Wednesday, March 13 2024 05:50:30 
DPDK git baseline: Repo:dpdk
  Branch: master
  CommitID:a86f381b826660e88794754c41d3aec79ce9b87c

138284-138304 --> testing pass

Test environment and result as below:

+---------------------+----------------+
|     Environment     | dpdk_unit_test |
+=====================+================+
| CentOS Stream 8     | PASS           |
+---------------------+----------------+
| Fedora 37           | PASS           |
+---------------------+----------------+
| CentOS Stream 9     | PASS           |
+---------------------+----------------+
| Windows Server 2019 | PASS           |
+---------------------+----------------+
| Debian Bullseye     | PASS           |
+---------------------+----------------+
| Debian 12 (arm)     | PASS           |
+---------------------+----------------+
| Fedora 38           | PASS           |
+---------------------+----------------+
| openSUSE Leap 15    | PASS           |
+---------------------+----------------+
| Ubuntu 20.04        | PASS           |
+---------------------+----------------+
| RHEL8               | PASS           |
+---------------------+----------------+


CentOS Stream 8
	Kernel: 4.18.0-240.10.1.el8_3.x86_64
	Compiler: gcc 8.4.1 20200928

Fedora 37
	Kernel: Depends on container host system
	Compiler: gcc 12.3.1

CentOS Stream 9
	Kernel: 4.18.0-240.10.1.el8_3.x86_64
	Compiler: gcc 11.3.1 20220421

Windows Server 2019
	Kernel: 10.0
	Compiler: clang 14.0 and gcc 8.1.0 (MinGW)

Debian Bullseye
	Kernel: 5.4.0-122-generic
	Compiler: gcc 10.2.1-6

Debian 12 (arm)
	Kernel: Container Host Kernel
	Compiler: gcc 11

Fedora 38
	Kernel: Depends on container host
	Compiler: gcc 13.1.1

openSUSE Leap 15
	Kernel: 4.18.0-240.10.1.el8_3.x86_64
	Compiler: gcc 7.5.0

Ubuntu 20.04
	Kernel: 5.4.0-153-generic
	Compiler: gcc 9.4.0-1ubuntu1~20.04.1

RHEL8
	Kernel: 4.18.0-240.10.1.el8_3.x86_64
	Compiler: gcc 8.3.1 20191121 (Red Hat 8.3.1-5)

To view detailed results, visit:
https://lab.dpdk.org/results/dashboard/patchsets/29529/

UNH-IOL DPDK Community Lab

To manage your email subscriptions, visit: 
https://lab.dpdk.org/results/dashboard/preferences/subscriptions/