From mboxrd@z Thu Jan  1 00:00:00 1970
Return-Path: <test-report-bounces@dpdk.org>
Received: from mails.dpdk.org (mails.dpdk.org [217.70.189.124])
	by inbox.dpdk.org (Postfix) with ESMTP id AA13C43C9B
	for <public@inbox.dpdk.org>; Wed, 13 Mar 2024 08:00:54 +0100 (CET)
Received: from mails.dpdk.org (localhost [127.0.0.1])
	by mails.dpdk.org (Postfix) with ESMTP id A081840689;
	Wed, 13 Mar 2024 08:00:54 +0100 (CET)
Received: from mail-pf1-f226.google.com (mail-pf1-f226.google.com
 [209.85.210.226])
 by mails.dpdk.org (Postfix) with ESMTP id 68CA940633
 for <test-report@dpdk.org>; Wed, 13 Mar 2024 08:00:52 +0100 (CET)
Received: by mail-pf1-f226.google.com with SMTP id
 d2e1a72fcca58-6e5d7f1f25fso3235015b3a.0
 for <test-report@dpdk.org>; Wed, 13 Mar 2024 00:00:52 -0700 (PDT)
DKIM-Signature: v=1; a=rsa-sha256; c=relaxed/relaxed;
 d=iol.unh.edu; s=unh-iol; t=1710313251; x=1710918051; darn=dpdk.org;
 h=references:in-reply-to:cc:to:from:subject:message-id:date:from:to
 :cc:subject:date:message-id:reply-to;
 bh=yjb28J09G+RNQzHxIpERoiRuSgmj+bIQ1VyqHocFeIQ=;
 b=DW4ZBfhNCOciYwZ/ySz11cBfLAyUwt2mJE8+8N560FAh+CULzp2/N5iDd5SjfvRjlk
 ueuNpgYYsQu3cJjRUKmc7W3GD4vlXtN5rlPh6M/tfehn9xrc8Eet28C6rk+eIhjnvKWI
 MisqpQfs+yov5x3HnvvKGK5/8sHIo0X4zAhAs=
X-Google-DKIM-Signature: v=1; a=rsa-sha256; c=relaxed/relaxed;
 d=1e100.net; s=20230601; t=1710313251; x=1710918051;
 h=references:in-reply-to:cc:to:from:subject:message-id:date
 :x-gm-message-state:from:to:cc:subject:date:message-id:reply-to;
 bh=yjb28J09G+RNQzHxIpERoiRuSgmj+bIQ1VyqHocFeIQ=;
 b=m9tbDuTKwbotYhxxJw7kNMF+NqlRjsmZHBloNFvKfdh+huDFihxP/kNRb4zA+6RlRP
 7Ma4QGhuz7abn3RSz05W8CXuzHqgWXyH0mIf2FfSwR8E4A67my9drnvj2WTJUjgLLKkj
 UUux6sTeV8okTowRwJKKzPBUUvsO25a7a1GZSkWNIfNJUUyp46chic/6pmjLjd6m9tTU
 tNCruiF8mS/qKjrqC/Wd7cHK+T8GY6FRczL+ijyC24hKNxzlk20Zu9RwmUH+awj32Rlv
 bHbBqDGz8Pqy06hnv05DB2CoF7NA4SEc6gk+SlEXIv2YKpt3E/qM32sv/YlDXo4p11Jl
 kYhQ==
X-Gm-Message-State: AOJu0Yw3zR2c19e+VNEXqECPlhZvdeRJf6jjHRR+jBJOVBDU7O9a9xXc
 66MfdyL36zqW8uUAszK67+xqUSJk+9bZs53kuxLEatxnc4/M6Nmh8uL5iLlOV5LKCLzRxSQz6hp
 bc1ROfcfBtOvxhdSQEPxlCirVjkRfFnHwVjusVXM8
X-Google-Smtp-Source: AGHT+IFctYTA/qrsdIMGTSB3NzXfu8684ThsLQpBCytVetS66frHGawLvmib0JQERU6m40Kkvnx0NFFyBOf4
X-Received: by 2002:a05:6a20:3cab:b0:1a3:3064:9931 with SMTP id
 b43-20020a056a203cab00b001a330649931mr1821888pzj.3.1710313250543; 
 Wed, 13 Mar 2024 00:00:50 -0700 (PDT)
Received: from postal.iol.unh.edu (postal.iol.unh.edu. [132.177.123.84])
 by smtp-relay.gmail.com with ESMTPS id
 bj5-20020a17090b088500b0029bcf8747f2sm47699pjb.3.2024.03.13.00.00.50
 (version=TLS1_2 cipher=ECDHE-ECDSA-AES128-GCM-SHA256 bits=128/128);
 Wed, 13 Mar 2024 00:00:50 -0700 (PDT)
X-Relaying-Domain: iol.unh.edu
Date: Wed, 13 Mar 2024 00:00:50 -0700 (PDT)
Message-ID: <65f14f22.170a0220.e7934.32a8SMTPIN_ADDED_MISSING@mx.google.com>
Received: from [172.17.0.6] (unknown [172.18.0.217])
 by postal.iol.unh.edu (Postfix) with ESMTP id B1BD86052471;
 Wed, 13 Mar 2024 03:00:49 -0400 (EDT)
Subject: |SUCCESS| pw138284-138304 [PATCH] [v4,21/21] test/security: add out 
From: dpdklab@iol.unh.edu
To: Test Report <test-report@dpdk.org>
Cc: dpdk-test-reports@iol.unh.edu
In-Reply-To: <20240313055030.1685039-22-asasidharan@marvell.com>
References: <20240313055030.1685039-22-asasidharan@marvell.com>
Content-Type: text/plain
X-BeenThere: test-report@dpdk.org
X-Mailman-Version: 2.1.29
Precedence: list
List-Id: automatic DPDK test reports <test-report.dpdk.org>
List-Unsubscribe: <https://mails.dpdk.org/options/test-report>,
 <mailto:test-report-request@dpdk.org?subject=unsubscribe>
List-Archive: <http://mails.dpdk.org/archives/test-report/>
List-Post: <mailto:test-report@dpdk.org>
List-Help: <mailto:test-report-request@dpdk.org?subject=help>
List-Subscribe: <https://mails.dpdk.org/listinfo/test-report>,
 <mailto:test-report-request@dpdk.org?subject=subscribe>
Errors-To: test-report-bounces@dpdk.org

Test-Label: iol-unit-arm64-testing
Test-Status: SUCCESS
http://dpdk.org/patch/138304

_Testing PASS_

Submitter: Aakash Sasidharan <asasidharan@marvell.com>
Date: Wednesday, March 13 2024 05:50:30 
DPDK git baseline: Repo:dpdk
  Branch: master
  CommitID:a86f381b826660e88794754c41d3aec79ce9b87c

138284-138304 --> testing pass

Test environment and result as below:

+--------------------------+----------------+------------------------------+---------------------------+
|       Environment        | dpdk_unit_test | cryptodev_sw_snow3g_autotest | cryptodev_sw_zuc_autotest |
+==========================+================+==============================+===========================+
| Debian 12 (arm)          | PASS           | PASS                         | PASS                      |
+--------------------------+----------------+------------------------------+---------------------------+
| Debian 11 (Buster) (ARM) | PASS           | SKIPPED                      | SKIPPED                   |
+--------------------------+----------------+------------------------------+---------------------------+
| CentOS Stream 9 (ARM)    | PASS           | SKIPPED                      | SKIPPED                   |
+--------------------------+----------------+------------------------------+---------------------------+
| Fedora 38 (ARM)          | PASS           | SKIPPED                      | SKIPPED                   |
+--------------------------+----------------+------------------------------+---------------------------+
| Fedora 37 (ARM)          | PASS           | SKIPPED                      | SKIPPED                   |
+--------------------------+----------------+------------------------------+---------------------------+
| Ubuntu 20.04 (ARM)       | PASS           | SKIPPED                      | SKIPPED                   |
+--------------------------+----------------+------------------------------+---------------------------+


Debian 12 (arm)
	Kernel: Container Host Kernel
	Compiler: gcc 11

Debian 11 (Buster) (ARM)
	Kernel: Container Host Kernel
	Compiler: gcc 10.2.1

CentOS Stream 9 (ARM)
	Kernel: Container Host Kernel
	Compiler: gcc 11.3.1

Fedora 38 (ARM)
	Kernel: Depends on container host
	Compiler: gcc 13.1.1

Fedora 37 (ARM)
	Kernel: Depends on container host
	Compiler: gcc 12.3.1

Ubuntu 20.04 (ARM)
	Kernel: Container Host Kernel
	Compiler: gcc 9.4.0

To view detailed results, visit:
https://lab.dpdk.org/results/dashboard/patchsets/29529/

UNH-IOL DPDK Community Lab

To manage your email subscriptions, visit: 
https://lab.dpdk.org/results/dashboard/preferences/subscriptions/