From mboxrd@z Thu Jan  1 00:00:00 1970
Return-Path: <test-report-bounces@dpdk.org>
Received: from mails.dpdk.org (mails.dpdk.org [217.70.189.124])
	by inbox.dpdk.org (Postfix) with ESMTP id C196743C9C
	for <public@inbox.dpdk.org>; Wed, 13 Mar 2024 08:16:48 +0100 (CET)
Received: from mails.dpdk.org (localhost [127.0.0.1])
	by mails.dpdk.org (Postfix) with ESMTP id BCA2740689;
	Wed, 13 Mar 2024 08:16:48 +0100 (CET)
Received: from mail-oi1-f225.google.com (mail-oi1-f225.google.com
 [209.85.167.225])
 by mails.dpdk.org (Postfix) with ESMTP id 6E00740633
 for <test-report@dpdk.org>; Wed, 13 Mar 2024 08:16:47 +0100 (CET)
Received: by mail-oi1-f225.google.com with SMTP id
 5614622812f47-3c1a2f7e302so3216379b6e.0
 for <test-report@dpdk.org>; Wed, 13 Mar 2024 00:16:47 -0700 (PDT)
DKIM-Signature: v=1; a=rsa-sha256; c=relaxed/relaxed;
 d=iol.unh.edu; s=unh-iol; t=1710314206; x=1710919006; darn=dpdk.org;
 h=references:in-reply-to:cc:to:from:subject:message-id:date:from:to
 :cc:subject:date:message-id:reply-to;
 bh=LKraQXeLLNOYnktCtd3maR8gVKHl/0cKjO1xGL2Qrhg=;
 b=eRc55se4gdIvHnnXFYJF6euCJD1mVWn6r87GDQpy7a43FHAgdg4RTAtUPQI3HLHQ03
 9yXz2r/FdBS4QKPDZx0e8W21gss6whqOrMlrpVBTTd6RR2e1ACj7uU+C8rV6v7hBj/y7
 Mpz+HD+RTmf6/E02pHg3Hd2CSBcdQUm7m2aGQ=
X-Google-DKIM-Signature: v=1; a=rsa-sha256; c=relaxed/relaxed;
 d=1e100.net; s=20230601; t=1710314206; x=1710919006;
 h=references:in-reply-to:cc:to:from:subject:message-id:date
 :x-gm-message-state:from:to:cc:subject:date:message-id:reply-to;
 bh=LKraQXeLLNOYnktCtd3maR8gVKHl/0cKjO1xGL2Qrhg=;
 b=Gz9nsnJs45/6rU1E1w/ET3w4TZmlB28sPydh+efcPXy81sWdcvUMKJIArHxZoSOG4G
 tUpuE/ys3y6AtCZh+5tzGYgBK/zNzwTU5jzJmgPRVQ7D9LIl21EtXDvV3fyxx+flXa3o
 8EAl/u8qrKSwjC/gp9TWqGqwmGMhUiUMX1U0uRKjolp7QGnpVXL49j1EWPzj1wnBSnJO
 SoJ+i4wnkCyI8DXrDzR+jc1koEywwWd0euo0vQ+j7t5MRVHOolbiC9di7CMC+/f7flyh
 Y8GidCpOtDJfduzkHclNL0BC3WDBSp/VqsAnIAx1uG26rAYvA7TfnU+mylPEUT/emshY
 aq5w==
X-Gm-Message-State: AOJu0Yz76Amjft3pYQYARiGUNxHZMPjKXUivjQ2vF2bov8odxY9ymiRf
 aBK6U2EUkd+CeGWtaGpnRuKxbnrfmKkWDFKjv8ZTvAesKswv80aX6INb7A/mXDx/naXw6aIYxMH
 c8tq4Du0qw3dsYA+6oaUj/gLWVyma3XfU4iyRamS/evNtQuXW2q8QzymT
X-Google-Smtp-Source: AGHT+IEby7TniuHDshMApeMXJxGszXFa5Tf9aRxvj93XJ5eAMGKZITOuXXr7hDepMARp9m7xe67KFaC9hJxt
X-Received: by 2002:a05:6808:3c4d:b0:3c3:23a8:8d8e with SMTP id
 gl13-20020a0568083c4d00b003c323a88d8emr47127oib.8.1710314206752; 
 Wed, 13 Mar 2024 00:16:46 -0700 (PDT)
Received: from postal.iol.unh.edu (postal.iol.unh.edu.
 [2606:4100:3880:1234::84]) by smtp-relay.gmail.com with ESMTPS id
 jn9-20020ad45de9000000b0068fa448a122sm455723qvb.63.2024.03.13.00.16.46
 (version=TLS1_2 cipher=ECDHE-ECDSA-AES128-GCM-SHA256 bits=128/128);
 Wed, 13 Mar 2024 00:16:46 -0700 (PDT)
X-Relaying-Domain: iol.unh.edu
Date: Wed, 13 Mar 2024 00:16:46 -0700 (PDT)
Message-ID: <65f152de.d40a0220.1be15.b78bSMTPIN_ADDED_MISSING@mx.google.com>
Received: from [172.17.0.6] (unknown [172.18.0.217])
 by postal.iol.unh.edu (Postfix) with ESMTP id 7BB936052471;
 Wed, 13 Mar 2024 03:16:46 -0400 (EDT)
Subject: |SUCCESS| pw138284-138304 [PATCH] [v4,21/21] test/security: add out 
From: dpdklab@iol.unh.edu
To: Test Report <test-report@dpdk.org>
Cc: dpdk-test-reports@iol.unh.edu
In-Reply-To: <20240313055030.1685039-22-asasidharan@marvell.com>
References: <20240313055030.1685039-22-asasidharan@marvell.com>
Content-Type: text/plain
X-BeenThere: test-report@dpdk.org
X-Mailman-Version: 2.1.29
Precedence: list
List-Id: automatic DPDK test reports <test-report.dpdk.org>
List-Unsubscribe: <https://mails.dpdk.org/options/test-report>,
 <mailto:test-report-request@dpdk.org?subject=unsubscribe>
List-Archive: <http://mails.dpdk.org/archives/test-report/>
List-Post: <mailto:test-report@dpdk.org>
List-Help: <mailto:test-report-request@dpdk.org?subject=help>
List-Subscribe: <https://mails.dpdk.org/listinfo/test-report>,
 <mailto:test-report-request@dpdk.org?subject=subscribe>
Errors-To: test-report-bounces@dpdk.org

Test-Label: iol-unit-arm64-testing
Test-Status: SUCCESS
http://dpdk.org/patch/138304

_Testing PASS_

Submitter: Aakash Sasidharan <asasidharan@marvell.com>
Date: Wednesday, March 13 2024 05:50:30 
DPDK git baseline: Repo:dpdk
  Branch: master
  CommitID:a86f381b826660e88794754c41d3aec79ce9b87c

138284-138304 --> testing pass

Test environment and result as below:

+--------------------------+----------------+------------------------------+---------------------------+--------------+
|       Environment        | dpdk_unit_test | cryptodev_sw_snow3g_autotest | cryptodev_sw_zuc_autotest | lpm_autotest |
+==========================+================+==============================+===========================+==============+
| Debian 12 (arm)          | PASS           | PASS                         | PASS                      | SKIPPED      |
+--------------------------+----------------+------------------------------+---------------------------+--------------+
| Debian 11 (Buster) (ARM) | PASS           | SKIPPED                      | SKIPPED                   | SKIPPED      |
+--------------------------+----------------+------------------------------+---------------------------+--------------+
| CentOS Stream 9 (ARM)    | PASS           | SKIPPED                      | SKIPPED                   | SKIPPED      |
+--------------------------+----------------+------------------------------+---------------------------+--------------+
| Fedora 38 (ARM)          | PASS           | SKIPPED                      | SKIPPED                   | SKIPPED      |
+--------------------------+----------------+------------------------------+---------------------------+--------------+
| Fedora 37 (ARM)          | PASS           | SKIPPED                      | SKIPPED                   | SKIPPED      |
+--------------------------+----------------+------------------------------+---------------------------+--------------+
| Ubuntu 20.04 (ARM)       | PASS           | SKIPPED                      | SKIPPED                   | SKIPPED      |
+--------------------------+----------------+------------------------------+---------------------------+--------------+
| Fedora 38 (ARM Clang)    | PASS           | SKIPPED                      | SKIPPED                   | SKIPPED      |
+--------------------------+----------------+------------------------------+---------------------------+--------------+
| Ubuntu 20.04 ARM SVE     | SKIPPED        | SKIPPED                      | SKIPPED                   | PASS         |
+--------------------------+----------------+------------------------------+---------------------------+--------------+


Debian 12 (arm)
	Kernel: Container Host Kernel
	Compiler: gcc 11

Debian 11 (Buster) (ARM)
	Kernel: Container Host Kernel
	Compiler: gcc 10.2.1

CentOS Stream 9 (ARM)
	Kernel: Container Host Kernel
	Compiler: gcc 11.3.1

Fedora 38 (ARM)
	Kernel: Depends on container host
	Compiler: gcc 13.1.1

Fedora 37 (ARM)
	Kernel: Depends on container host
	Compiler: gcc 12.3.1

Ubuntu 20.04 (ARM)
	Kernel: Container Host Kernel
	Compiler: gcc 9.4.0

Fedora 38 (ARM Clang)
	Kernel: Depends on container host
	Compiler: clang 16.0.3

Ubuntu 20.04 ARM SVE
	Kernel: 5.4.0-80-generic
	Compiler: gcc 10.3.0 (Ubuntu 10.3.0-1ubuntu1~20.04)

To view detailed results, visit:
https://lab.dpdk.org/results/dashboard/patchsets/29529/

UNH-IOL DPDK Community Lab

To manage your email subscriptions, visit: 
https://lab.dpdk.org/results/dashboard/preferences/subscriptions/