From mboxrd@z Thu Jan  1 00:00:00 1970
Return-Path: <test-report-bounces@dpdk.org>
Received: from mails.dpdk.org (mails.dpdk.org [217.70.189.124])
	by inbox.dpdk.org (Postfix) with ESMTP id A4A4B43C9E
	for <public@inbox.dpdk.org>; Wed, 13 Mar 2024 11:40:35 +0100 (CET)
Received: from mails.dpdk.org (localhost [127.0.0.1])
	by mails.dpdk.org (Postfix) with ESMTP id A079940A84;
	Wed, 13 Mar 2024 11:40:35 +0100 (CET)
Received: from mail-pf1-f225.google.com (mail-pf1-f225.google.com
 [209.85.210.225])
 by mails.dpdk.org (Postfix) with ESMTP id 8713640633
 for <test-report@dpdk.org>; Wed, 13 Mar 2024 11:40:26 +0100 (CET)
Received: by mail-pf1-f225.google.com with SMTP id
 d2e1a72fcca58-6e4d48a5823so3887731b3a.1
 for <test-report@dpdk.org>; Wed, 13 Mar 2024 03:40:26 -0700 (PDT)
DKIM-Signature: v=1; a=rsa-sha256; c=relaxed/relaxed;
 d=iol.unh.edu; s=unh-iol; t=1710326425; x=1710931225; darn=dpdk.org;
 h=references:in-reply-to:cc:to:from:subject:message-id:date:from:to
 :cc:subject:date:message-id:reply-to;
 bh=58mZukUQpWzYruRsUhiVMVs06QL/94/lVDsLd8Mxqcw=;
 b=LjdcsCWs495SrqPvrxHmnMbxM37WptpYxhVMKsXBA0bWTcHYZ8lS5xZx259QvBqbj0
 pB3tUc7PAi1kg+Z9u9Z0F7+00CImTP7D5eXoMcMWDlfee4MPEsRyoDBq1nx2fQ2n9+kT
 N4uSMXZz9yki9HpFGNQ7/reG5xCJHscWSPWOk=
X-Google-DKIM-Signature: v=1; a=rsa-sha256; c=relaxed/relaxed;
 d=1e100.net; s=20230601; t=1710326425; x=1710931225;
 h=references:in-reply-to:cc:to:from:subject:message-id:date
 :x-gm-message-state:from:to:cc:subject:date:message-id:reply-to;
 bh=58mZukUQpWzYruRsUhiVMVs06QL/94/lVDsLd8Mxqcw=;
 b=oWAXAJ3PBsz3TLRT54azZ4QpTKFupq3Pf8LUwCN3y1omnMIVPdGmOjBBkpJgo2scJ1
 P7XGeHt+p/hetnIuHEVPPgMK/pwO5D94zrgRCT+I5dHlH45QXSKP6lP43NRzwMKthZbY
 LbOwtgdWYZW0OyvKk1hHpx9Xh7rxuiYPXc99/gNi9UBRG87v2CV+nu+aNTCGQBjjxgJ/
 69FHWdzDOR2nc9KxLt51s/vyfMgGa9rfkiR9mIREKLZcO+UQi8T6TLFXdfj2Kd9uPWSi
 R0RC+++Xjd+BrD8X+1zYz4OF27pftg4KA6qoGVrzS6FsMZquRvnW3zg1Hesy2IDm+ZQl
 lOtg==
X-Gm-Message-State: AOJu0YyjXIWn4y0uE/EwE9M51zMlcbJcYvK6Swr9mB9U8m000Px1vetq
 XvBnsFdoXxap90ePZz2qHueUI7FSSP9Ye5zxJU5S+rKy62r7LnLM1ggi+s0MrdJRFQYA8JPwSdV
 z20nKooVeO4gVJsrE3GXRT51IlReeMQe6dM6YhMPz
X-Google-Smtp-Source: AGHT+IFNETCyhwUudftdi7DplMFJ2CIOnpPnJBWKfe0JNoqU/EEaVQ2h+y+nPNHokAMNzOheP14947q9SZBF
X-Received: by 2002:a05:6a00:801:b0:6e6:a3b3:923c with SMTP id
 m1-20020a056a00080100b006e6a3b3923cmr2513331pfk.6.1710326425591; 
 Wed, 13 Mar 2024 03:40:25 -0700 (PDT)
Received: from postal.iol.unh.edu (postal.iol.unh.edu. [132.177.123.84])
 by smtp-relay.gmail.com with ESMTPS id
 t38-20020a056a0013a600b006e6a8a7785csm166400pfg.1.2024.03.13.03.40.25
 (version=TLS1_2 cipher=ECDHE-ECDSA-AES128-GCM-SHA256 bits=128/128);
 Wed, 13 Mar 2024 03:40:25 -0700 (PDT)
X-Relaying-Domain: iol.unh.edu
Date: Wed, 13 Mar 2024 03:40:25 -0700 (PDT)
Message-ID: <65f18299.050a0220.25691.baf5SMTPIN_ADDED_MISSING@mx.google.com>
Received: from [172.17.0.8] (unknown [172.18.0.217])
 by postal.iol.unh.edu (Postfix) with ESMTP id C218A6052471;
 Wed, 13 Mar 2024 06:40:24 -0400 (EDT)
Subject: |SUCCESS| pw138305 [PATCH] compress/nitrox: fix dereference after nu
From: dpdklab@iol.unh.edu
To: Test Report <test-report@dpdk.org>
Cc: dpdk-test-reports@iol.unh.edu
In-Reply-To: <20240313060208.17791-1-rnagadheeraj@marvell.com>
References: <20240313060208.17791-1-rnagadheeraj@marvell.com>
Content-Type: text/plain
X-BeenThere: test-report@dpdk.org
X-Mailman-Version: 2.1.29
Precedence: list
List-Id: automatic DPDK test reports <test-report.dpdk.org>
List-Unsubscribe: <https://mails.dpdk.org/options/test-report>,
 <mailto:test-report-request@dpdk.org?subject=unsubscribe>
List-Archive: <http://mails.dpdk.org/archives/test-report/>
List-Post: <mailto:test-report@dpdk.org>
List-Help: <mailto:test-report-request@dpdk.org?subject=help>
List-Subscribe: <https://mails.dpdk.org/listinfo/test-report>,
 <mailto:test-report-request@dpdk.org?subject=subscribe>
Errors-To: test-report-bounces@dpdk.org

Test-Label: iol-compile-arm64-testing
Test-Status: SUCCESS
http://dpdk.org/patch/138305

_Testing PASS_

Submitter: Nagadheeraj Rottela <rnagadheeraj@marvell.com>
Date: Wednesday, March 13 2024 06:02:08 
DPDK git baseline: Repo:dpdk
  Branch: master
  CommitID:a86f381b826660e88794754c41d3aec79ce9b87c

138305 --> testing pass

Test environment and result as below:

+----------------------------------------+--------------------+
|              Environment               | dpdk_meson_compile |
+========================================+====================+
| Ubuntu 20.04 ARM SVE                   | PASS               |
+----------------------------------------+--------------------+
| Ubuntu 20.04 ARM GCC Cross Compile     | PASS               |
+----------------------------------------+--------------------+
| Debian 12 with MUSDK                   | PASS               |
+----------------------------------------+--------------------+
| Ubuntu 20.04 ARM Clang Cross Compile   | PASS               |
+----------------------------------------+--------------------+
| Ubuntu 20.04 aarch32 GCC Cross Compile | PASS               |
+----------------------------------------+--------------------+
| Fedora 38 (ARM)                        | PASS               |
+----------------------------------------+--------------------+
| Fedora 37 (ARM)                        | PASS               |
+----------------------------------------+--------------------+
| Debian 12 (arm)                        | PASS               |
+----------------------------------------+--------------------+
| Debian 11 (Buster) (ARM)               | PASS               |
+----------------------------------------+--------------------+
| CentOS Stream 9 (ARM)                  | PASS               |
+----------------------------------------+--------------------+


Ubuntu 20.04 ARM SVE
	Kernel: 5.4.0-80-generic
	Compiler: gcc 10.3.0 (Ubuntu 10.3.0-1ubuntu1~20.04)

Ubuntu 20.04 ARM GCC Cross Compile
	Kernel: 5.4.0-72-generic
	Compiler: aarch64-linux-gnu-gcc (Ubuntu 9.3.0-17ubuntu1~20.04) 9.3.0

Debian 12 with MUSDK
	Kernel: Container Host Kernel
	Compiler: gcc 12

Ubuntu 20.04 ARM Clang Cross Compile
	Kernel: 5.4.0-72-generic
	Compiler: clang version 10.0.0-4ubuntu1

Ubuntu 20.04 aarch32 GCC Cross Compile
	Kernel: 5.4.0-72-generic
	Compiler: gcc 9.3.0

Fedora 38 (ARM)
	Kernel: Depends on container host
	Compiler: gcc 13.1.1

Fedora 37 (ARM)
	Kernel: Depends on container host
	Compiler: gcc 12.3.1

Debian 12 (arm)
	Kernel: Container Host Kernel
	Compiler: gcc 11

Debian 11 (Buster) (ARM)
	Kernel: Container Host Kernel
	Compiler: gcc 10.2.1

CentOS Stream 9 (ARM)
	Kernel: Container Host Kernel
	Compiler: gcc 11.3.1

To view detailed results, visit:
https://lab.dpdk.org/results/dashboard/patchsets/29530/

UNH-IOL DPDK Community Lab

To manage your email subscriptions, visit: 
https://lab.dpdk.org/results/dashboard/preferences/subscriptions/