From mboxrd@z Thu Jan  1 00:00:00 1970
Return-Path: <test-report-bounces@dpdk.org>
Received: from mails.dpdk.org (mails.dpdk.org [217.70.189.124])
	by inbox.dpdk.org (Postfix) with ESMTP id A2AA543C9E
	for <public@inbox.dpdk.org>; Wed, 13 Mar 2024 11:44:06 +0100 (CET)
Received: from mails.dpdk.org (localhost [127.0.0.1])
	by mails.dpdk.org (Postfix) with ESMTP id 9778E40EE2;
	Wed, 13 Mar 2024 11:44:06 +0100 (CET)
Received: from mail-pl1-f225.google.com (mail-pl1-f225.google.com
 [209.85.214.225])
 by mails.dpdk.org (Postfix) with ESMTP id 94D0740A84
 for <test-report@dpdk.org>; Wed, 13 Mar 2024 11:44:05 +0100 (CET)
Received: by mail-pl1-f225.google.com with SMTP id
 d9443c01a7336-1dd9568fc51so29757825ad.2
 for <test-report@dpdk.org>; Wed, 13 Mar 2024 03:44:05 -0700 (PDT)
DKIM-Signature: v=1; a=rsa-sha256; c=relaxed/relaxed;
 d=iol.unh.edu; s=unh-iol; t=1710326645; x=1710931445; darn=dpdk.org;
 h=references:in-reply-to:cc:to:from:subject:message-id:date:from:to
 :cc:subject:date:message-id:reply-to;
 bh=J9RBOZDI/L49C7Ikzp330R/VHbigehAro/RwGfrZly4=;
 b=cGkBqvSGnMgWrAk7ryZFx7eZX14yKNIGEwwC1Kv8khH9PRegNHs2YczuRFsFSwwOw0
 MdMNdtQYFikdRVHblP1JaHiPhcfVVGSd19S8tTAsQFQDsMP0ip9cUGuZ4t6EwUBkTmkY
 g67yhMUypJXWd0+ayKpyfrEUGgWVZWdlOI9dE=
X-Google-DKIM-Signature: v=1; a=rsa-sha256; c=relaxed/relaxed;
 d=1e100.net; s=20230601; t=1710326645; x=1710931445;
 h=references:in-reply-to:cc:to:from:subject:message-id:date
 :x-gm-message-state:from:to:cc:subject:date:message-id:reply-to;
 bh=J9RBOZDI/L49C7Ikzp330R/VHbigehAro/RwGfrZly4=;
 b=IDwsgF5p3e5v9yOQ24k1Gm/meWEckcDP+oKxSoW0Z1vkeQgrQ33L6yRjpV/RXjqh2F
 zXfqxMZGVzWC6GN54HgS5am1xduGENiNM0PZU9upwYsL41d8G7H+pjiBUQSgYy/c+VPW
 OY7AwtfASbdeHB9xbeUudF1bYJJVgLhY48pQpJoDE+2Tgu1768r79MwXlbvHMHMPA38N
 93CD+b+6Qq6GVZ9LVW/LNMOjSsJDp65M3kP//CTUPc0gjQE4s2vjDDVYsOo1zN81E448
 0Sds0wCSQtO5JS7IpRH1M/v8mYaiYzVNs+8TzIMnBTN3M5CuHnVBfnyTcwoBkAtKHqIW
 2Enw==
X-Gm-Message-State: AOJu0YwQN2WfUH56+Rx4qOZ32avSW5QY6+aNqvO7pziRclJb+fgpnx1S
 PHbEC87wVjD5seEw2SDHTLgCdiQmhnsvGn6ntZstVp3plh+dcZGklx6EBK9HtTJ4h+OHJpIyifr
 CXc2ZrRQlGA4gguli1U4ak/zUtbxJwZdZY4VUefRY
X-Google-Smtp-Source: AGHT+IHwOaS5q5rhSTg1UmjgZ7xkOEJfowC5RgwioM60+IHVxBq+x14IGp+AtepP3kLK36G+jdjl0G5BdTtg
X-Received: by 2002:a17:902:f805:b0:1db:f7f6:a73a with SMTP id
 ix5-20020a170902f80500b001dbf7f6a73amr9883984plb.25.1710326644887; 
 Wed, 13 Mar 2024 03:44:04 -0700 (PDT)
Received: from postal.iol.unh.edu (postal.iol.unh.edu. [132.177.123.84])
 by smtp-relay.gmail.com with ESMTPS id
 je12-20020a170903264c00b001db33dbd19bsm233925plb.110.2024.03.13.03.44.04
 (version=TLS1_2 cipher=ECDHE-ECDSA-AES128-GCM-SHA256 bits=128/128);
 Wed, 13 Mar 2024 03:44:04 -0700 (PDT)
X-Relaying-Domain: iol.unh.edu
Date: Wed, 13 Mar 2024 03:44:04 -0700 (PDT)
Message-ID: <65f18374.170a0220.80084.e2aaSMTPIN_ADDED_MISSING@mx.google.com>
Received: from [172.17.0.8] (unknown [172.18.0.217])
 by postal.iol.unh.edu (Postfix) with ESMTP id 19B296052471;
 Wed, 13 Mar 2024 06:44:04 -0400 (EDT)
Subject: |SUCCESS| pw138305 [PATCH] compress/nitrox: fix dereference after nu
From: dpdklab@iol.unh.edu
To: Test Report <test-report@dpdk.org>
Cc: dpdk-test-reports@iol.unh.edu
In-Reply-To: <20240313060208.17791-1-rnagadheeraj@marvell.com>
References: <20240313060208.17791-1-rnagadheeraj@marvell.com>
Content-Type: text/plain
X-BeenThere: test-report@dpdk.org
X-Mailman-Version: 2.1.29
Precedence: list
List-Id: automatic DPDK test reports <test-report.dpdk.org>
List-Unsubscribe: <https://mails.dpdk.org/options/test-report>,
 <mailto:test-report-request@dpdk.org?subject=unsubscribe>
List-Archive: <http://mails.dpdk.org/archives/test-report/>
List-Post: <mailto:test-report@dpdk.org>
List-Help: <mailto:test-report-request@dpdk.org?subject=help>
List-Subscribe: <https://mails.dpdk.org/listinfo/test-report>,
 <mailto:test-report-request@dpdk.org?subject=subscribe>
Errors-To: test-report-bounces@dpdk.org

Test-Label: iol-abi-testing
Test-Status: SUCCESS
http://dpdk.org/patch/138305

_Testing PASS_

Submitter: Nagadheeraj Rottela <rnagadheeraj@marvell.com>
Date: Wednesday, March 13 2024 06:02:08 
DPDK git baseline: Repo:dpdk
  Branch: master
  CommitID:a86f381b826660e88794754c41d3aec79ce9b87c

138305 --> testing pass

Test environment and result as below:

+------------------+----------+
|   Environment    | abi_test |
+==================+==========+
| Ubuntu 22.04     | PASS     |
+------------------+----------+
| RHEL8            | PASS     |
+------------------+----------+
| CentOS Stream 8  | PASS     |
+------------------+----------+
| CentOS Stream 9  | PASS     |
+------------------+----------+
| Debian 12 (arm)  | PASS     |
+------------------+----------+
| Fedora 38        | PASS     |
+------------------+----------+
| openSUSE Leap 15 | PASS     |
+------------------+----------+
| Debian Bullseye  | PASS     |
+------------------+----------+
| Fedora 37        | PASS     |
+------------------+----------+


Ubuntu 22.04
	Kernel: 4.18.0-240.10.1.el8_3.x86_64
	Compiler: gcc 11.3.0

RHEL8
	Kernel: 4.18.0-240.10.1.el8_3.x86_64
	Compiler: gcc 8.3.1 20191121 (Red Hat 8.3.1-5)

CentOS Stream 8
	Kernel: 4.18.0-240.10.1.el8_3.x86_64
	Compiler: gcc 8.4.1 20200928

CentOS Stream 9
	Kernel: 4.18.0-240.10.1.el8_3.x86_64
	Compiler: gcc 11.3.1 20220421

Debian 12 (arm)
	Kernel: Container Host Kernel
	Compiler: gcc 11

Fedora 38
	Kernel: Depends on container host
	Compiler: clang 16.0.3

openSUSE Leap 15
	Kernel: 4.18.0-240.10.1.el8_3.x86_64
	Compiler: gcc 7.5.0

Debian Bullseye
	Kernel: 5.4.0-122-generic
	Compiler: gcc 10.2.1-6

Fedora 37
	Kernel: Depends on container host system
	Compiler: gcc 12.3.1

To view detailed results, visit:
https://lab.dpdk.org/results/dashboard/patchsets/29530/

UNH-IOL DPDK Community Lab

To manage your email subscriptions, visit: 
https://lab.dpdk.org/results/dashboard/preferences/subscriptions/