From mboxrd@z Thu Jan  1 00:00:00 1970
Return-Path: <test-report-bounces@dpdk.org>
Received: from mails.dpdk.org (mails.dpdk.org [217.70.189.124])
	by inbox.dpdk.org (Postfix) with ESMTP id 6A57443C9E
	for <public@inbox.dpdk.org>; Wed, 13 Mar 2024 11:49:50 +0100 (CET)
Received: from mails.dpdk.org (localhost [127.0.0.1])
	by mails.dpdk.org (Postfix) with ESMTP id 4CDDD40EE2;
	Wed, 13 Mar 2024 11:49:50 +0100 (CET)
Received: from mail-il1-f228.google.com (mail-il1-f228.google.com
 [209.85.166.228])
 by mails.dpdk.org (Postfix) with ESMTP id 137DC40A84
 for <test-report@dpdk.org>; Wed, 13 Mar 2024 11:49:49 +0100 (CET)
Received: by mail-il1-f228.google.com with SMTP id
 e9e14a558f8ab-36677320d42so2835075ab.2
 for <test-report@dpdk.org>; Wed, 13 Mar 2024 03:49:49 -0700 (PDT)
DKIM-Signature: v=1; a=rsa-sha256; c=relaxed/relaxed;
 d=iol.unh.edu; s=unh-iol; t=1710326988; x=1710931788; darn=dpdk.org;
 h=references:in-reply-to:cc:to:from:subject:message-id:date:from:to
 :cc:subject:date:message-id:reply-to;
 bh=CczHNL5+fbJnXnIpEmiQDxeg1jF6iMgLslpxyD65Nm4=;
 b=eITQWOV3QJ3DEB11k9brdFqD9oXwZWfL00fvWMk5GfxR19wEO6ygqAUcTWt5h2ZdBS
 G0i086BMFKhpRt3kyDibf+YV8Yfddy6a6ZCH/fLHzyVD5WlGmI9ypudwC+YaNlA7d719
 hJosQd+g8ZS7PzbAq+xGs+InQgp0CiTpJhoSg=
X-Google-DKIM-Signature: v=1; a=rsa-sha256; c=relaxed/relaxed;
 d=1e100.net; s=20230601; t=1710326988; x=1710931788;
 h=references:in-reply-to:cc:to:from:subject:message-id:date
 :x-gm-message-state:from:to:cc:subject:date:message-id:reply-to;
 bh=CczHNL5+fbJnXnIpEmiQDxeg1jF6iMgLslpxyD65Nm4=;
 b=fPMvTNY4ZZprnXDVH+9Y+SRhWLDlJkXpAVJ6GP2LTCMefCWec/W9FwEm49phtXvPzH
 mlHI70pkarcE38Iyd+YDQ3JrI9OzUeFtOQIkJeszorekbhn5p14VYhfJ3wjP/O38evxT
 6YNDfF0Fqu1OnP7aox5Dt3zn8yPKJSxZ0UrWRchz6CNQzdyyZuxw3KMl6hdGmxctbvF/
 yPB/6kZptSEiX0mv73a+05sRY4NQPLDETAszSM0qjsiPZ7OngNBOBhqwSG0I+GoYe9f1
 TUDamChfGU4VBmyxMG4G7/8qOphjlla4QuME68mKqQfvVNXicEEEacp5aYS9AXMKJM3Q
 n9Gg==
X-Gm-Message-State: AOJu0YzLmbM5kO/oz5TqsYnmQzcUvWVmAGxfHP6zU7XIbt4egEGIltnv
 sLggP+GMxy+AxYaRK2qMGTKQIz0HUSzimi7KZyDBWO/Z/wENmUeOinNxnU7Ksb6bM7j3sZNWtep
 imtccjxX/LEtokuh24+95dpirUn2m04VmXUbZ5PZ/qNxAG5PDb9kr6ob9
X-Google-Smtp-Source: AGHT+IHCXOP3aBhqp4dO+3pOp3rirVZ+lt2Jo1xAtW0i80J79aWJxDCY+7MLc5+wyC6LNvwK4bda3EbYuzqv
X-Received: by 2002:a05:6e02:1a88:b0:365:16cd:66 with SMTP id
 k8-20020a056e021a8800b0036516cd0066mr6718787ilv.31.1710326988416; 
 Wed, 13 Mar 2024 03:49:48 -0700 (PDT)
Received: from postal.iol.unh.edu (postal.iol.unh.edu.
 [2606:4100:3880:1234::84]) by smtp-relay.gmail.com with ESMTPS id
 fs9-20020a05663865c900b0047720a0f5e1sm13295jab.72.2024.03.13.03.49.48
 (version=TLS1_2 cipher=ECDHE-ECDSA-AES128-GCM-SHA256 bits=128/128);
 Wed, 13 Mar 2024 03:49:48 -0700 (PDT)
X-Relaying-Domain: iol.unh.edu
Date: Wed, 13 Mar 2024 03:49:48 -0700 (PDT)
Message-ID: <65f184cc.050a0220.99c17.0ea2SMTPIN_ADDED_MISSING@mx.google.com>
Received: from [172.17.0.8] (unknown [172.18.0.217])
 by postal.iol.unh.edu (Postfix) with ESMTP id E62266052471;
 Wed, 13 Mar 2024 06:49:47 -0400 (EDT)
Subject: |SUCCESS| pw138305 [PATCH] compress/nitrox: fix dereference after nu
From: dpdklab@iol.unh.edu
To: Test Report <test-report@dpdk.org>
Cc: dpdk-test-reports@iol.unh.edu
In-Reply-To: <20240313060208.17791-1-rnagadheeraj@marvell.com>
References: <20240313060208.17791-1-rnagadheeraj@marvell.com>
Content-Type: text/plain
X-BeenThere: test-report@dpdk.org
X-Mailman-Version: 2.1.29
Precedence: list
List-Id: automatic DPDK test reports <test-report.dpdk.org>
List-Unsubscribe: <https://mails.dpdk.org/options/test-report>,
 <mailto:test-report-request@dpdk.org?subject=unsubscribe>
List-Archive: <http://mails.dpdk.org/archives/test-report/>
List-Post: <mailto:test-report@dpdk.org>
List-Help: <mailto:test-report-request@dpdk.org?subject=help>
List-Subscribe: <https://mails.dpdk.org/listinfo/test-report>,
 <mailto:test-report-request@dpdk.org?subject=subscribe>
Errors-To: test-report-bounces@dpdk.org

Test-Label: iol-unit-amd64-testing
Test-Status: SUCCESS
http://dpdk.org/patch/138305

_Testing PASS_

Submitter: Nagadheeraj Rottela <rnagadheeraj@marvell.com>
Date: Wednesday, March 13 2024 06:02:08 
DPDK git baseline: Repo:dpdk
  Branch: master
  CommitID:a86f381b826660e88794754c41d3aec79ce9b87c

138305 --> testing pass

Test environment and result as below:

+---------------------+----------------+
|     Environment     | dpdk_unit_test |
+=====================+================+
| CentOS Stream 8     | PASS           |
+---------------------+----------------+
| CentOS Stream 9     | PASS           |
+---------------------+----------------+
| Debian 12 (arm)     | PASS           |
+---------------------+----------------+
| Debian Bullseye     | PASS           |
+---------------------+----------------+
| Fedora 38           | PASS           |
+---------------------+----------------+
| Ubuntu 22.04        | PASS           |
+---------------------+----------------+
| RHEL8               | PASS           |
+---------------------+----------------+
| Ubuntu 20.04        | PASS           |
+---------------------+----------------+
| Windows Server 2019 | PASS           |
+---------------------+----------------+


CentOS Stream 8
	Kernel: 4.18.0-240.10.1.el8_3.x86_64
	Compiler: gcc 8.4.1 20200928

CentOS Stream 9
	Kernel: 4.18.0-240.10.1.el8_3.x86_64
	Compiler: gcc 11.3.1 20220421

Debian 12 (arm)
	Kernel: Container Host Kernel
	Compiler: gcc 11

Debian Bullseye
	Kernel: 5.4.0-122-generic
	Compiler: gcc 10.2.1-6

Fedora 38
	Kernel: Depends on container host
	Compiler: gcc 13.1.1

Ubuntu 22.04
	Kernel: 4.18.0-240.10.1.el8_3.x86_64
	Compiler: gcc 11.3.0

RHEL8
	Kernel: 4.18.0-240.10.1.el8_3.x86_64
	Compiler: gcc 8.3.1 20191121 (Red Hat 8.3.1-5)

Ubuntu 20.04
	Kernel: 5.4.0-153-generic
	Compiler: gcc 9.4.0-1ubuntu1~20.04.1

Windows Server 2019
	Kernel: 10.0
	Compiler: clang 14.0 and gcc 8.1.0 (MinGW)

To view detailed results, visit:
https://lab.dpdk.org/results/dashboard/patchsets/29530/

UNH-IOL DPDK Community Lab

To manage your email subscriptions, visit: 
https://lab.dpdk.org/results/dashboard/preferences/subscriptions/