From mboxrd@z Thu Jan  1 00:00:00 1970
Return-Path: <test-report-bounces@dpdk.org>
Received: from mails.dpdk.org (mails.dpdk.org [217.70.189.124])
	by inbox.dpdk.org (Postfix) with ESMTP id 0366E43C9F
	for <public@inbox.dpdk.org>; Wed, 13 Mar 2024 12:47:18 +0100 (CET)
Received: from mails.dpdk.org (localhost [127.0.0.1])
	by mails.dpdk.org (Postfix) with ESMTP id ED25F40A84;
	Wed, 13 Mar 2024 12:47:17 +0100 (CET)
Received: from mail-yw1-f226.google.com (mail-yw1-f226.google.com
 [209.85.128.226])
 by mails.dpdk.org (Postfix) with ESMTP id 9E318402B8
 for <test-report@dpdk.org>; Wed, 13 Mar 2024 12:47:16 +0100 (CET)
Received: by mail-yw1-f226.google.com with SMTP id
 00721157ae682-60a5a11b59dso16706567b3.0
 for <test-report@dpdk.org>; Wed, 13 Mar 2024 04:47:16 -0700 (PDT)
DKIM-Signature: v=1; a=rsa-sha256; c=relaxed/relaxed;
 d=iol.unh.edu; s=unh-iol; t=1710330436; x=1710935236; darn=dpdk.org;
 h=references:in-reply-to:cc:to:from:subject:message-id:date:from:to
 :cc:subject:date:message-id:reply-to;
 bh=sXaGfucbTFFj2PnTGxSbocSRDH6H3+K3zcXUdFpykHk=;
 b=eNvU/YfGt6mkEanpSJM+9hlYzgKkYmQ9DPudlQ5eTSHjv6RgAAEWaKL5H5C6k5RElN
 Lg3zz3ug+CaWfv26psiGhNg2UPOKdqIjHZoVZFU/HpOqIFfHQd9yWKrje7iZ1DO2wLRL
 9mQuHwfLpdQYpT5D490AylLVKiZJG9Ht0drRY=
X-Google-DKIM-Signature: v=1; a=rsa-sha256; c=relaxed/relaxed;
 d=1e100.net; s=20230601; t=1710330436; x=1710935236;
 h=references:in-reply-to:cc:to:from:subject:message-id:date
 :x-gm-message-state:from:to:cc:subject:date:message-id:reply-to;
 bh=sXaGfucbTFFj2PnTGxSbocSRDH6H3+K3zcXUdFpykHk=;
 b=P/yBM2af3UmXTNOvtHhu8eYvFCFxQ36oBLqsa0GNfLT1WioLG/VIhOCWUHF5x5A7pr
 SePL5nVJwsDxUcsjX0qga/EcSFxc8sudnpvyvUJ2M9QBWX9uG6So19M6QNKwen2GfPO/
 0DLO/o1in6XsKVcVzB9PQhLmRJlPN03MeRuFdfxvcubDjZPnvE+TV2P2/uzBXF6naacM
 ++k6dOYobS2DT57PVQY5T7ngnvXFgKmgaVHzPBPGSpvQl/KywnTVZuqTV0ozTvAFnvLD
 7IG2xbp+Zcub9zUZLzlCVVbx8JhJS1GVu0YCb58j1jzReDj3oJfHHbaVBtwdN1gUMF2v
 cZhw==
X-Gm-Message-State: AOJu0Yxp+4HZV1OG6WIjpDLo7mwPXdApgvQ53PWZezGQ+Y0Ym1yHvMjT
 PFH9unwkdTrsGQTs8WKiVaMiewOCK4tEZd1afKXK8djlujEB1GN4LebWvZFhEFpUiL1QzRl/rHu
 IQ2wAn7KE7l/egGkExqmyKJD7YP2XvfwzcNoRllQKUyJe8fFgjdOcQYey
X-Google-Smtp-Source: AGHT+IETQI/O40IfXI7Jb/3g9kiezwCeyNp2/o5EIBYWAFbikfKWPyiraYt3R4/z5vLS6iPP7MnjHeN4ZeMh
X-Received: by 2002:a0d:ca8c:0:b0:60a:57b:8db with SMTP id
 m134-20020a0dca8c000000b0060a057b08dbmr2282400ywd.11.1710330436103; 
 Wed, 13 Mar 2024 04:47:16 -0700 (PDT)
Received: from postal.iol.unh.edu (postal.iol.unh.edu.
 [2606:4100:3880:1234::84]) by smtp-relay.gmail.com with ESMTPS id
 z1-20020a0dd701000000b00609ed1ab10csm515776ywd.30.2024.03.13.04.47.16
 (version=TLS1_2 cipher=ECDHE-ECDSA-AES128-GCM-SHA256 bits=128/128);
 Wed, 13 Mar 2024 04:47:16 -0700 (PDT)
X-Relaying-Domain: iol.unh.edu
Date: Wed, 13 Mar 2024 04:47:16 -0700 (PDT)
Message-ID: <65f19244.0d0a0220.1699c.1c97SMTPIN_ADDED_MISSING@mx.google.com>
Received: from [172.17.0.8] (unknown [172.18.0.217])
 by postal.iol.unh.edu (Postfix) with ESMTP id B9F506052471;
 Wed, 13 Mar 2024 07:47:15 -0400 (EDT)
Subject: |SUCCESS| pw138308-138328 [PATCH] [v5,21/21] test/security: add out 
From: dpdklab@iol.unh.edu
To: Test Report <test-report@dpdk.org>
Cc: dpdk-test-reports@iol.unh.edu
In-Reply-To: <20240313105901.1959675-22-asasidharan@marvell.com>
References: <20240313105901.1959675-22-asasidharan@marvell.com>
Content-Type: text/plain
X-BeenThere: test-report@dpdk.org
X-Mailman-Version: 2.1.29
Precedence: list
List-Id: automatic DPDK test reports <test-report.dpdk.org>
List-Unsubscribe: <https://mails.dpdk.org/options/test-report>,
 <mailto:test-report-request@dpdk.org?subject=unsubscribe>
List-Archive: <http://mails.dpdk.org/archives/test-report/>
List-Post: <mailto:test-report@dpdk.org>
List-Help: <mailto:test-report-request@dpdk.org?subject=help>
List-Subscribe: <https://mails.dpdk.org/listinfo/test-report>,
 <mailto:test-report-request@dpdk.org?subject=subscribe>
Errors-To: test-report-bounces@dpdk.org

Test-Label: iol-compile-amd64-testing
Test-Status: SUCCESS
http://dpdk.org/patch/138328

_Testing PASS_

Submitter: Aakash Sasidharan <asasidharan@marvell.com>
Date: Wednesday, March 13 2024 10:59:01 
DPDK git baseline: Repo:dpdk
  Branch: master
  CommitID:a86f381b826660e88794754c41d3aec79ce9b87c

138308-138328 --> testing pass

Test environment and result as below:

+---------------------+--------------------+----------------------+
|     Environment     | dpdk_meson_compile | dpdk_mingw64_compile |
+=====================+====================+======================+
| Windows Server 2022 | PASS               | SKIPPED              |
+---------------------+--------------------+----------------------+
| FreeBSD 13.2        | PASS               | SKIPPED              |
+---------------------+--------------------+----------------------+
| Debian 12 (arm)     | PASS               | SKIPPED              |
+---------------------+--------------------+----------------------+
| Debian Bullseye     | PASS               | SKIPPED              |
+---------------------+--------------------+----------------------+
| CentOS Stream 9     | PASS               | SKIPPED              |
+---------------------+--------------------+----------------------+
| Fedora 37           | PASS               | SKIPPED              |
+---------------------+--------------------+----------------------+
| Fedora 38           | PASS               | SKIPPED              |
+---------------------+--------------------+----------------------+
| CentOS Stream 8     | PASS               | SKIPPED              |
+---------------------+--------------------+----------------------+
| Windows Server 2019 | PASS               | PASS                 |
+---------------------+--------------------+----------------------+
| Ubuntu 22.04        | PASS               | SKIPPED              |
+---------------------+--------------------+----------------------+
| Ubuntu 20.04        | PASS               | SKIPPED              |
+---------------------+--------------------+----------------------+
| RHEL8               | PASS               | SKIPPED              |
+---------------------+--------------------+----------------------+
| openSUSE Leap 15    | PASS               | SKIPPED              |
+---------------------+--------------------+----------------------+
| Alpine              | PASS               | SKIPPED              |
+---------------------+--------------------+----------------------+


Windows Server 2022
	Kernel: OS Build 20348.2031
	Compiler: MSVC VS-Preview

FreeBSD 13.2
	Kernel: 13.2
	Compiler: clang 11.3.0

Debian 12 (arm)
	Kernel: Container Host Kernel
	Compiler: gcc 11

Debian Bullseye
	Kernel: 5.4.0-122-generic
	Compiler: gcc 10.2.1-6

CentOS Stream 9
	Kernel: 4.18.0-240.10.1.el8_3.x86_64
	Compiler: gcc 11.3.1 20220421

Fedora 37
	Kernel: Depends on container host system
	Compiler: gcc 12.3.1

Fedora 38
	Kernel: Depends on container host
	Compiler: gcc 13.1.1

CentOS Stream 8
	Kernel: 4.18.0-240.10.1.el8_3.x86_64
	Compiler: gcc 8.4.1 20200928

Windows Server 2019
	Kernel: 10.0
	Compiler: clang 14.0 and gcc 8.1.0 (MinGW)

Ubuntu 22.04
	Kernel: 4.18.0-240.10.1.el8_3.x86_64
	Compiler: gcc 11.3.0

Ubuntu 20.04
	Kernel: 5.4.0-153-generic
	Compiler: gcc 9.4.0-1ubuntu1~20.04.1

RHEL8
	Kernel: 4.18.0-240.10.1.el8_3.x86_64
	Compiler: gcc 8.3.1 20191121 (Red Hat 8.3.1-5)

openSUSE Leap 15
	Kernel: 4.18.0-240.10.1.el8_3.x86_64
	Compiler: gcc 7.5.0

Alpine
	Kernel: 5.4.0-73-generic
	Compiler: gcc (Alpine 10.3.1_git20210424) 10.3.1 20210424

To view detailed results, visit:
https://lab.dpdk.org/results/dashboard/patchsets/29533/

UNH-IOL DPDK Community Lab

To manage your email subscriptions, visit: 
https://lab.dpdk.org/results/dashboard/preferences/subscriptions/