From mboxrd@z Thu Jan  1 00:00:00 1970
Return-Path: <test-report-bounces@dpdk.org>
Received: from mails.dpdk.org (mails.dpdk.org [217.70.189.124])
	by inbox.dpdk.org (Postfix) with ESMTP id DD88143C9F
	for <public@inbox.dpdk.org>; Wed, 13 Mar 2024 12:50:36 +0100 (CET)
Received: from mails.dpdk.org (localhost [127.0.0.1])
	by mails.dpdk.org (Postfix) with ESMTP id D64B440A84;
	Wed, 13 Mar 2024 12:50:36 +0100 (CET)
Received: from mail-il1-f228.google.com (mail-il1-f228.google.com
 [209.85.166.228])
 by mails.dpdk.org (Postfix) with ESMTP id 1FC8C402B8
 for <test-report@dpdk.org>; Wed, 13 Mar 2024 12:50:36 +0100 (CET)
Received: by mail-il1-f228.google.com with SMTP id
 e9e14a558f8ab-3663c6fba33so33641085ab.1
 for <test-report@dpdk.org>; Wed, 13 Mar 2024 04:50:36 -0700 (PDT)
DKIM-Signature: v=1; a=rsa-sha256; c=relaxed/relaxed;
 d=iol.unh.edu; s=unh-iol; t=1710330635; x=1710935435; darn=dpdk.org;
 h=references:in-reply-to:cc:to:from:subject:message-id:date:from:to
 :cc:subject:date:message-id:reply-to;
 bh=vTdKH16T0j0avJwNxSmdpp5kztlYalWRQxad64pUV+A=;
 b=cES2V/5zebqkqCjTWJ+A5q9SBiEfESeVLizQYyGbXLy/hMIeKxsxtn/dBLUGCxqQY/
 5rr8ZMeTWtxBe4TSWhyoJS+ObRmKFwdqKxokaCsxYTx4HLJdm++U9Hx/P/gORCmiJsE+
 KAputcgTCPHr7xmLnqtiEyQKYvlrlnCxNtQok=
X-Google-DKIM-Signature: v=1; a=rsa-sha256; c=relaxed/relaxed;
 d=1e100.net; s=20230601; t=1710330635; x=1710935435;
 h=references:in-reply-to:cc:to:from:subject:message-id:date
 :x-gm-message-state:from:to:cc:subject:date:message-id:reply-to;
 bh=vTdKH16T0j0avJwNxSmdpp5kztlYalWRQxad64pUV+A=;
 b=J6K0Jjz4Y0ymWyb4gvLLAY0CwOfNHxlDOK6Znpl3ug6COMoir2CgjS7VbCTXUTSzQG
 Rt0ubsKScdEBKmY7KjdcemLyglTRbJpLu0bwnmr9KhSHZyEj9DuXo846ESLRxsq+06Q6
 C4ahyH+1FcOfBIZaTFuOSuAQDlF4HEQHdBB4evmtwADhjccqQsu9WvWGhV6pySzyykXu
 jqHZe0RoNoZMPMZy/kS4kwo5F+gFJ3SshcBqFfdcy0IasN8otWIsk9rn2uu8zLUkV7sQ
 XSD303z283i5U9j+moFQx4yEoGkUCjEUkGcdnsFoqvemJutxh/700Wywb2XWRmhROR47
 G6Gw==
X-Gm-Message-State: AOJu0Yz/Q766uX+hjfqPk0X3yXrqwTqU1Pupwm6OEB458AQPycGJ4y5D
 LZtV7oZrPUWptDvafDtq9R4UuGU/NQPVqhTbaPBk81oy1h/cN3lEi2bZFrAuPT6jiqcfeluDt9/
 ISQbCEx+gUh3qvPKHqWk/TIdeaSNizk4//8R/roJWqQNqcQ47ExIU8JID
X-Google-Smtp-Source: AGHT+IHc1zwSkmWjm1Q5FI+eYNKfyf279IdXVsa9ket96V7+49iC0fbeq5K3+Sho6WX8bpShMaEHeA3sdhDQ
X-Received: by 2002:a05:6e02:144e:b0:366:1e4:d19e with SMTP id
 p14-20020a056e02144e00b0036601e4d19emr13925698ilo.30.1710330633031; 
 Wed, 13 Mar 2024 04:50:33 -0700 (PDT)
Received: from postal.iol.unh.edu (postal.iol.unh.edu.
 [2606:4100:3880:1234::84]) by smtp-relay.gmail.com with ESMTPS id
 u1-20020a05663825c100b00474bb377bcbsm277813jat.60.2024.03.13.04.50.32
 (version=TLS1_2 cipher=ECDHE-ECDSA-AES128-GCM-SHA256 bits=128/128);
 Wed, 13 Mar 2024 04:50:33 -0700 (PDT)
X-Relaying-Domain: iol.unh.edu
Date: Wed, 13 Mar 2024 04:50:33 -0700 (PDT)
Message-ID: <65f19309.050a0220.f0c0d.06c3SMTPIN_ADDED_MISSING@mx.google.com>
Received: from [172.17.0.8] (unknown [172.18.0.217])
 by postal.iol.unh.edu (Postfix) with ESMTP id 88C4B6052471;
 Wed, 13 Mar 2024 07:50:32 -0400 (EDT)
Subject: |SUCCESS| pw138308-138328 [PATCH] [v5,21/21] test/security: add out 
From: dpdklab@iol.unh.edu
To: Test Report <test-report@dpdk.org>
Cc: dpdk-test-reports@iol.unh.edu
In-Reply-To: <20240313105901.1959675-22-asasidharan@marvell.com>
References: <20240313105901.1959675-22-asasidharan@marvell.com>
Content-Type: text/plain
X-BeenThere: test-report@dpdk.org
X-Mailman-Version: 2.1.29
Precedence: list
List-Id: automatic DPDK test reports <test-report.dpdk.org>
List-Unsubscribe: <https://mails.dpdk.org/options/test-report>,
 <mailto:test-report-request@dpdk.org?subject=unsubscribe>
List-Archive: <http://mails.dpdk.org/archives/test-report/>
List-Post: <mailto:test-report@dpdk.org>
List-Help: <mailto:test-report-request@dpdk.org?subject=help>
List-Subscribe: <https://mails.dpdk.org/listinfo/test-report>,
 <mailto:test-report-request@dpdk.org?subject=subscribe>
Errors-To: test-report-bounces@dpdk.org

Test-Label: iol-compile-arm64-testing
Test-Status: SUCCESS
http://dpdk.org/patch/138328

_Testing PASS_

Submitter: Aakash Sasidharan <asasidharan@marvell.com>
Date: Wednesday, March 13 2024 10:59:01 
DPDK git baseline: Repo:dpdk
  Branch: master
  CommitID:a86f381b826660e88794754c41d3aec79ce9b87c

138308-138328 --> testing pass

Test environment and result as below:

+----------------------------------------+--------------------+
|              Environment               | dpdk_meson_compile |
+========================================+====================+
| Ubuntu 20.04 ARM SVE                   | PASS               |
+----------------------------------------+--------------------+
| Ubuntu 20.04 ARM Clang Cross Compile   | PASS               |
+----------------------------------------+--------------------+
| Ubuntu 20.04 aarch32 GCC Cross Compile | PASS               |
+----------------------------------------+--------------------+
| Fedora 38 (ARM)                        | PASS               |
+----------------------------------------+--------------------+
| Fedora 37 (ARM)                        | PASS               |
+----------------------------------------+--------------------+
| Ubuntu 20.04 (ARM)                     | PASS               |
+----------------------------------------+--------------------+
| Debian 12 (arm)                        | PASS               |
+----------------------------------------+--------------------+


Ubuntu 20.04 ARM SVE
	Kernel: 5.4.0-80-generic
	Compiler: gcc 10.3.0 (Ubuntu 10.3.0-1ubuntu1~20.04)

Ubuntu 20.04 ARM Clang Cross Compile
	Kernel: 5.4.0-72-generic
	Compiler: clang version 10.0.0-4ubuntu1

Ubuntu 20.04 aarch32 GCC Cross Compile
	Kernel: 5.4.0-72-generic
	Compiler: gcc 9.3.0

Fedora 38 (ARM)
	Kernel: Depends on container host
	Compiler: gcc 13.1.1

Fedora 37 (ARM)
	Kernel: Depends on container host
	Compiler: gcc 12.3.1

Ubuntu 20.04 (ARM)
	Kernel: Container Host Kernel
	Compiler: gcc 9.4.0

Debian 12 (arm)
	Kernel: Container Host Kernel
	Compiler: gcc 11

To view detailed results, visit:
https://lab.dpdk.org/results/dashboard/patchsets/29533/

UNH-IOL DPDK Community Lab

To manage your email subscriptions, visit: 
https://lab.dpdk.org/results/dashboard/preferences/subscriptions/