From mboxrd@z Thu Jan  1 00:00:00 1970
Return-Path: <test-report-bounces@dpdk.org>
Received: from mails.dpdk.org (mails.dpdk.org [217.70.189.124])
	by inbox.dpdk.org (Postfix) with ESMTP id 8B62C43C9F
	for <public@inbox.dpdk.org>; Wed, 13 Mar 2024 12:51:35 +0100 (CET)
Received: from mails.dpdk.org (localhost [127.0.0.1])
	by mails.dpdk.org (Postfix) with ESMTP id 2B17740A84;
	Wed, 13 Mar 2024 12:51:35 +0100 (CET)
Received: from mail-yw1-f227.google.com (mail-yw1-f227.google.com
 [209.85.128.227])
 by mails.dpdk.org (Postfix) with ESMTP id 67A87402B8
 for <test-report@dpdk.org>; Wed, 13 Mar 2024 12:51:34 +0100 (CET)
Received: by mail-yw1-f227.google.com with SMTP id
 00721157ae682-60a0a1bd04eso54734997b3.1
 for <test-report@dpdk.org>; Wed, 13 Mar 2024 04:51:34 -0700 (PDT)
DKIM-Signature: v=1; a=rsa-sha256; c=relaxed/relaxed;
 d=iol.unh.edu; s=unh-iol; t=1710330694; x=1710935494; darn=dpdk.org;
 h=references:in-reply-to:cc:to:from:subject:message-id:date:from:to
 :cc:subject:date:message-id:reply-to;
 bh=zHMlXYamIudsf47IiRd5/9AiHMnYjkALk+g1UMWb89s=;
 b=c20UGwZCFD32FCg+slsnDRL832JekJxKZ0evGQprFO01pUmdv1GCKQ6Ger0xQaS0mg
 U0S/UXPN1FFSYsRIMhSqQqarPIrc8zSU28/fJGEGs6tAu8uG1EK8r4Bxap+zCc0/OPOv
 9OP6lTAyZDlBVNBsk8ULz39G3DcMdGRvLnuxQ=
X-Google-DKIM-Signature: v=1; a=rsa-sha256; c=relaxed/relaxed;
 d=1e100.net; s=20230601; t=1710330694; x=1710935494;
 h=references:in-reply-to:cc:to:from:subject:message-id:date
 :x-gm-message-state:from:to:cc:subject:date:message-id:reply-to;
 bh=zHMlXYamIudsf47IiRd5/9AiHMnYjkALk+g1UMWb89s=;
 b=sxmXUCh9QdFNQiEpEefZzA3rAJc99vGD1/exD3QvSdH1+QIJt3qmG85UCCsV0o+E+v
 KqQ3+pXiuFgr0TS+bVy/tEbAtaLEhQpQh+w5y+y51uXhqd6RUimPUnBP/IQBgDT83cIy
 PzP2aAbUzvIxfX5M/DdZb5zA4PtyES0ErGdNQL81lC/kdQ2v4GIpVGFUVpk8OmYfLvOl
 L819thcXsBmcjvIxKEfL+BTcMjWkefDvzhmiPuRAYaLzOGC1Q5gcKTdQCQlL2go9mACA
 nAdjxncGOJkvxel7RBFswEju+U7wLTYFDihrWfW6AAT3wOuPQvb1OR6OR9EIZBzPHwA7
 Y7WQ==
X-Gm-Message-State: AOJu0YyvEzlojVFMvW6laobNBzs2ZsyB/B6+qn2TieRtSKe+0o5mGstl
 0vRtQ7kOL0fGm6pkTiOJbfhfdjb1H4WnpPK1DdaUr8x3IFjeQ3qOU0odkMHndINVxRR2n3TmDnr
 Hxb9yHJXmCY3hIpz3inAfKS8znGJkewSpnvkq4JXo
X-Google-Smtp-Source: AGHT+IEx1Wqfc8xm6PAmiMNYsG3/c1+o309hzBq7UsPlSkxmMMnUkJkmJ2MiBJQFiuAbhf3d7+QMcnXwxoyL
X-Received: by 2002:a81:6d58:0:b0:608:ecd0:f894 with SMTP id
 i85-20020a816d58000000b00608ecd0f894mr2206063ywc.1.1710330687235; 
 Wed, 13 Mar 2024 04:51:27 -0700 (PDT)
Received: from postal.iol.unh.edu (postal.iol.unh.edu. [132.177.123.84])
 by smtp-relay.gmail.com with ESMTPS id
 z17-20020a81ac51000000b00607a366dffdsm524427ywj.14.2024.03.13.04.51.27
 (version=TLS1_2 cipher=ECDHE-ECDSA-AES128-GCM-SHA256 bits=128/128);
 Wed, 13 Mar 2024 04:51:27 -0700 (PDT)
X-Relaying-Domain: iol.unh.edu
Date: Wed, 13 Mar 2024 04:51:27 -0700 (PDT)
Message-ID: <65f1933f.810a0220.9aa4c.3306SMTPIN_ADDED_MISSING@mx.google.com>
Received: from [172.17.0.8] (unknown [172.18.0.217])
 by postal.iol.unh.edu (Postfix) with ESMTP id DB2B96052471;
 Wed, 13 Mar 2024 07:51:26 -0400 (EDT)
Subject: |SUCCESS| pw138308-138328 [PATCH] [v5,21/21] test/security: add out 
From: dpdklab@iol.unh.edu
To: Test Report <test-report@dpdk.org>
Cc: dpdk-test-reports@iol.unh.edu
In-Reply-To: <20240313105901.1959675-22-asasidharan@marvell.com>
References: <20240313105901.1959675-22-asasidharan@marvell.com>
Content-Type: text/plain
X-BeenThere: test-report@dpdk.org
X-Mailman-Version: 2.1.29
Precedence: list
List-Id: automatic DPDK test reports <test-report.dpdk.org>
List-Unsubscribe: <https://mails.dpdk.org/options/test-report>,
 <mailto:test-report-request@dpdk.org?subject=unsubscribe>
List-Archive: <http://mails.dpdk.org/archives/test-report/>
List-Post: <mailto:test-report@dpdk.org>
List-Help: <mailto:test-report-request@dpdk.org?subject=help>
List-Subscribe: <https://mails.dpdk.org/listinfo/test-report>,
 <mailto:test-report-request@dpdk.org?subject=subscribe>
Errors-To: test-report-bounces@dpdk.org

Test-Label: iol-unit-amd64-testing
Test-Status: SUCCESS
http://dpdk.org/patch/138328

_Testing PASS_

Submitter: Aakash Sasidharan <asasidharan@marvell.com>
Date: Wednesday, March 13 2024 10:59:01 
DPDK git baseline: Repo:dpdk
  Branch: master
  CommitID:a86f381b826660e88794754c41d3aec79ce9b87c

138308-138328 --> testing pass

Test environment and result as below:

+---------------------+----------------+
|     Environment     | dpdk_unit_test |
+=====================+================+
| CentOS Stream 8     | PASS           |
+---------------------+----------------+
| Debian Bullseye     | PASS           |
+---------------------+----------------+
| CentOS Stream 9     | PASS           |
+---------------------+----------------+
| Debian 12 (arm)     | PASS           |
+---------------------+----------------+
| Ubuntu 22.04        | PASS           |
+---------------------+----------------+
| Fedora 37           | PASS           |
+---------------------+----------------+
| openSUSE Leap 15    | PASS           |
+---------------------+----------------+
| Fedora 38           | PASS           |
+---------------------+----------------+
| Windows Server 2019 | PASS           |
+---------------------+----------------+


CentOS Stream 8
	Kernel: 4.18.0-240.10.1.el8_3.x86_64
	Compiler: gcc 8.4.1 20200928

Debian Bullseye
	Kernel: 5.4.0-122-generic
	Compiler: gcc 10.2.1-6

CentOS Stream 9
	Kernel: 4.18.0-240.10.1.el8_3.x86_64
	Compiler: gcc 11.3.1 20220421

Debian 12 (arm)
	Kernel: Container Host Kernel
	Compiler: gcc 11

Ubuntu 22.04
	Kernel: 4.18.0-240.10.1.el8_3.x86_64
	Compiler: gcc 11.3.0

Fedora 37
	Kernel: Depends on container host system
	Compiler: gcc 12.3.1

openSUSE Leap 15
	Kernel: 4.18.0-240.10.1.el8_3.x86_64
	Compiler: gcc 7.5.0

Fedora 38
	Kernel: Depends on container host
	Compiler: gcc 13.1.1

Windows Server 2019
	Kernel: 10.0
	Compiler: clang 14.0 and gcc 8.1.0 (MinGW)

To view detailed results, visit:
https://lab.dpdk.org/results/dashboard/patchsets/29533/

UNH-IOL DPDK Community Lab

To manage your email subscriptions, visit: 
https://lab.dpdk.org/results/dashboard/preferences/subscriptions/