From mboxrd@z Thu Jan  1 00:00:00 1970
Return-Path: <test-report-bounces@dpdk.org>
Received: from mails.dpdk.org (mails.dpdk.org [217.70.189.124])
	by inbox.dpdk.org (Postfix) with ESMTP id 2E6B543C9F
	for <public@inbox.dpdk.org>; Wed, 13 Mar 2024 12:55:44 +0100 (CET)
Received: from mails.dpdk.org (localhost [127.0.0.1])
	by mails.dpdk.org (Postfix) with ESMTP id 2620740A84;
	Wed, 13 Mar 2024 12:55:44 +0100 (CET)
Received: from mail-ua1-f99.google.com (mail-ua1-f99.google.com
 [209.85.222.99]) by mails.dpdk.org (Postfix) with ESMTP id 64000402B8
 for <test-report@dpdk.org>; Wed, 13 Mar 2024 12:55:42 +0100 (CET)
Received: by mail-ua1-f99.google.com with SMTP id
 a1e0cc1a2514c-7d5c2502ea2so2843732241.1
 for <test-report@dpdk.org>; Wed, 13 Mar 2024 04:55:42 -0700 (PDT)
DKIM-Signature: v=1; a=rsa-sha256; c=relaxed/relaxed;
 d=iol.unh.edu; s=unh-iol; t=1710330941; x=1710935741; darn=dpdk.org;
 h=references:in-reply-to:cc:to:from:subject:message-id:date:from:to
 :cc:subject:date:message-id:reply-to;
 bh=pp0s1RN6yeHZIl+I3v9rpBLtLzsdnraS6K+Sfws8nKI=;
 b=A2zpzBrrNd6ppg/1K6dGOs0d0+1WkL63VWsCFgcVQ5GMkYMX1ZcrZY8PNMpJaicylk
 8pmXY0JY3YMG/ZyFBHwEeTjN+9J037OrpD1K5Kl5WH00xWQDr52RKXZVUWf7TvkJpkkv
 +xVKQm6J9uj3Jw5siFeZa9tZhMkosVYqBG9bk=
X-Google-DKIM-Signature: v=1; a=rsa-sha256; c=relaxed/relaxed;
 d=1e100.net; s=20230601; t=1710330941; x=1710935741;
 h=references:in-reply-to:cc:to:from:subject:message-id:date
 :x-gm-message-state:from:to:cc:subject:date:message-id:reply-to;
 bh=pp0s1RN6yeHZIl+I3v9rpBLtLzsdnraS6K+Sfws8nKI=;
 b=ijDIn69SLhi2/GaEUHFiHYRVTBHzBfg650uKa9XklQDWFnaJ6EuXdits7fZNiguRuH
 A8tEWIDkw+wMnCjt0o2lVGosCVJgPHG5/4V8F5jlCudiMz1MFmTcBiKL4adetoHMqkzE
 IpQEp9pVJqdHy06qPXwC/egOw4rTfx8T08M6AsqYDPj9Y+cPonIwXg0KnTuQGX4aXkNU
 ZzlPv96ptLFVfcTd24ajEEj8tC9C2+1VjQKi9oSgFlYLZyWwZoRkXytiIqEvtlATAv2Y
 Aztv+8XA8DhussQFs1VHETc0FKmz36ULB3gbE1cyGqFWCmNi92/E69vHjdPYpjoFUhdL
 4GLA==
X-Gm-Message-State: AOJu0YweXTy2CaLbaZJOpAH+yUBCh/f5w65I8kcoQ4Yr3Rp2G+uKMkv4
 sl7KGHH/8WPkgEt//w2EKGWbfLVbQ1AfwOJ/37ydxIS658K2vjPl1/obT65xCaozZKkHIoyWoBs
 53YaJLv3YUOUMLb4YcTTvQ9WgBKbbpCT9LabpHYP3
X-Google-Smtp-Source: AGHT+IHJ/tIhfrtse/99wm5Jn66ZtgIqQag+5W4ugtSJYum7fsxvNsJN93j35OgCCDBOayBH4WOU59zbZDYl
X-Received: by 2002:a05:6122:3122:b0:4d4:756:c93d with SMTP id
 cg34-20020a056122312200b004d40756c93dmr3973136vkb.2.1710330941799; 
 Wed, 13 Mar 2024 04:55:41 -0700 (PDT)
Received: from postal.iol.unh.edu (postal.iol.unh.edu. [132.177.123.84])
 by smtp-relay.gmail.com with ESMTPS id
 ba12-20020a0561220c8c00b004bd879e609dsm580722vkb.2.2024.03.13.04.55.41
 (version=TLS1_2 cipher=ECDHE-ECDSA-AES128-GCM-SHA256 bits=128/128);
 Wed, 13 Mar 2024 04:55:41 -0700 (PDT)
X-Relaying-Domain: iol.unh.edu
Date: Wed, 13 Mar 2024 04:55:41 -0700 (PDT)
Message-ID: <65f1943d.050a0220.61be5.0ae4SMTPIN_ADDED_MISSING@mx.google.com>
Received: from [172.21.0.6] (unknown [172.18.0.240])
 by postal.iol.unh.edu (Postfix) with ESMTP id 23E236052471;
 Wed, 13 Mar 2024 07:55:40 -0400 (EDT)
Subject: |SUCCESS| pw138308-138328 [PATCH] [v5,21/21] test/security: add out 
From: dpdklab@iol.unh.edu
To: Test Report <test-report@dpdk.org>
Cc: dpdk-test-reports@iol.unh.edu
In-Reply-To: <20240313105901.1959675-22-asasidharan@marvell.com>
References: <20240313105901.1959675-22-asasidharan@marvell.com>
Content-Type: text/plain
X-BeenThere: test-report@dpdk.org
X-Mailman-Version: 2.1.29
Precedence: list
List-Id: automatic DPDK test reports <test-report.dpdk.org>
List-Unsubscribe: <https://mails.dpdk.org/options/test-report>,
 <mailto:test-report-request@dpdk.org?subject=unsubscribe>
List-Archive: <http://mails.dpdk.org/archives/test-report/>
List-Post: <mailto:test-report@dpdk.org>
List-Help: <mailto:test-report-request@dpdk.org?subject=help>
List-Subscribe: <https://mails.dpdk.org/listinfo/test-report>,
 <mailto:test-report-request@dpdk.org?subject=subscribe>
Errors-To: test-report-bounces@dpdk.org

Test-Label: iol-unit-amd64-testing
Test-Status: SUCCESS
http://dpdk.org/patch/138328

_Testing PASS_

Submitter: Aakash Sasidharan <asasidharan@marvell.com>
Date: Wednesday, March 13 2024 10:59:01 
DPDK git baseline: Repo:dpdk
  Branch: master
  CommitID:a86f381b826660e88794754c41d3aec79ce9b87c

138308-138328 --> testing pass

Test environment and result as below:

+---------------------+----------------+
|     Environment     | dpdk_unit_test |
+=====================+================+
| CentOS Stream 8     | PASS           |
+---------------------+----------------+
| Debian Bullseye     | PASS           |
+---------------------+----------------+
| CentOS Stream 9     | PASS           |
+---------------------+----------------+
| Debian 12 (arm)     | PASS           |
+---------------------+----------------+
| Ubuntu 22.04        | PASS           |
+---------------------+----------------+
| Fedora 37           | PASS           |
+---------------------+----------------+
| openSUSE Leap 15    | PASS           |
+---------------------+----------------+
| Fedora 38           | PASS           |
+---------------------+----------------+
| Windows Server 2019 | PASS           |
+---------------------+----------------+
| Ubuntu 20.04        | PASS           |
+---------------------+----------------+
| RHEL8               | PASS           |
+---------------------+----------------+


CentOS Stream 8
	Kernel: 4.18.0-240.10.1.el8_3.x86_64
	Compiler: gcc 8.4.1 20200928

Debian Bullseye
	Kernel: 5.4.0-122-generic
	Compiler: gcc 10.2.1-6

CentOS Stream 9
	Kernel: 4.18.0-240.10.1.el8_3.x86_64
	Compiler: gcc 11.3.1 20220421

Debian 12 (arm)
	Kernel: Container Host Kernel
	Compiler: gcc 11

Ubuntu 22.04
	Kernel: 4.18.0-240.10.1.el8_3.x86_64
	Compiler: gcc 11.3.0

Fedora 37
	Kernel: Depends on container host system
	Compiler: gcc 12.3.1

openSUSE Leap 15
	Kernel: 4.18.0-240.10.1.el8_3.x86_64
	Compiler: gcc 7.5.0

Fedora 38
	Kernel: Depends on container host
	Compiler: gcc 13.1.1

Windows Server 2019
	Kernel: 10.0
	Compiler: clang 14.0 and gcc 8.1.0 (MinGW)

Ubuntu 20.04
	Kernel: 5.4.0-153-generic
	Compiler: gcc 9.4.0-1ubuntu1~20.04.1

RHEL8
	Kernel: 4.18.0-240.10.1.el8_3.x86_64
	Compiler: gcc 8.3.1 20191121 (Red Hat 8.3.1-5)

To view detailed results, visit:
https://lab.dpdk.org/results/dashboard/patchsets/29533/

UNH-IOL DPDK Community Lab

To manage your email subscriptions, visit: 
https://lab.dpdk.org/results/dashboard/preferences/subscriptions/