From mboxrd@z Thu Jan  1 00:00:00 1970
Return-Path: <test-report-bounces@dpdk.org>
Received: from mails.dpdk.org (mails.dpdk.org [217.70.189.124])
	by inbox.dpdk.org (Postfix) with ESMTP id 7F82943C9F
	for <public@inbox.dpdk.org>; Wed, 13 Mar 2024 12:56:22 +0100 (CET)
Received: from mails.dpdk.org (localhost [127.0.0.1])
	by mails.dpdk.org (Postfix) with ESMTP id 7B6ED402B8;
	Wed, 13 Mar 2024 12:56:22 +0100 (CET)
Received: from mail-qv1-f98.google.com (mail-qv1-f98.google.com
 [209.85.219.98]) by mails.dpdk.org (Postfix) with ESMTP id 8331840298
 for <test-report@dpdk.org>; Wed, 13 Mar 2024 12:56:07 +0100 (CET)
Received: by mail-qv1-f98.google.com with SMTP id
 6a1803df08f44-690c821e088so6324286d6.0
 for <test-report@dpdk.org>; Wed, 13 Mar 2024 04:56:07 -0700 (PDT)
DKIM-Signature: v=1; a=rsa-sha256; c=relaxed/relaxed;
 d=iol.unh.edu; s=unh-iol; t=1710330967; x=1710935767; darn=dpdk.org;
 h=references:in-reply-to:cc:to:from:subject:message-id:date:from:to
 :cc:subject:date:message-id:reply-to;
 bh=7xtuIs/BTpHKFJcFifuH+UzMEHEacbmnduUfnTS9+BI=;
 b=L/ndUDmavCptkIsP9Hptvbbivtb1+/yfC7mXxl553Xu+JXb24JGBWAigbaEquaG+HJ
 mhhMqyCEw6CpDUlv+WIrxkZ0eNanySRD26dE/DdkJTFLT8nqtjZgu0yM00FxH6UUhrP1
 cx2DR8pFlbf3Z+QYyqBgOIgxVExXJPhxKIYec=
X-Google-DKIM-Signature: v=1; a=rsa-sha256; c=relaxed/relaxed;
 d=1e100.net; s=20230601; t=1710330967; x=1710935767;
 h=references:in-reply-to:cc:to:from:subject:message-id:date
 :x-gm-message-state:from:to:cc:subject:date:message-id:reply-to;
 bh=7xtuIs/BTpHKFJcFifuH+UzMEHEacbmnduUfnTS9+BI=;
 b=uYHWHuJ0lH54EgxS2a9YJ5W+1q3JR7My5JxwDFjXyHHTYcXxOTO18AHA74x1AzV42u
 uoF4IY/gkM7G4jKxUIJ8ZXs+y22l8BGBnFAkXQ4801vBPZfNPlZp1Kt5t652soiM38oF
 hiLR9gehhCft0eVDYcXtFIe6GefrfVPx5GbbRec0hRGMpmdGVNBtywjlQ/3jwrwLOlrR
 zNw7ZCjBMCvY0tS5OIECq2soW2mXlZxX5ID1fAAPxgiEaXZA4ay2yU7X0dRNy7oX3Ujs
 2aYYdW+Bv/tCy1iTq24ni3FvhdgcLQNonXJRCijQpMlbGGDEp8G6yu70CGGhU1Z9Shz5
 UGSg==
X-Gm-Message-State: AOJu0YyGa+sMUVEaGk1FFXKDYRnglMTl15bnmDUGC87+qdVTPRF/8i+P
 LpCsBazBPZt/RSnE41UJK0coFTi6HW+SkUO7tO+HAhkguwUcMzlnttR00W89e1awu6fu1Qe03gv
 VFlwdOQuL8RVf2B5daUVK4r8pFUwlZkVs2Y1EFwWQkzsZdDfZhVSLnKYJ
X-Google-Smtp-Source: AGHT+IGeoTKRtb6xpBAaC3XQF3N5Xbmbm81A8wnHRfji+lU/DkoSEVyP/WEu14o0C2Px05X8kalHS8zyTa+N
X-Received: by 2002:a0c:eb82:0:b0:690:aba2:d1fb with SMTP id
 x2-20020a0ceb82000000b00690aba2d1fbmr6538870qvo.16.1710330967016; 
 Wed, 13 Mar 2024 04:56:07 -0700 (PDT)
Received: from postal.iol.unh.edu (postal.iol.unh.edu.
 [2606:4100:3880:1234::84]) by smtp-relay.gmail.com with ESMTPS id
 kk30-20020a056214509e00b0068f4fae633dsm462125qvb.52.2024.03.13.04.56.06
 (version=TLS1_2 cipher=ECDHE-ECDSA-AES128-GCM-SHA256 bits=128/128);
 Wed, 13 Mar 2024 04:56:07 -0700 (PDT)
X-Relaying-Domain: iol.unh.edu
Date: Wed, 13 Mar 2024 04:56:07 -0700 (PDT)
Message-ID: <65f19457.050a0220.8a986.c94dSMTPIN_ADDED_MISSING@mx.google.com>
Received: from [172.21.0.6] (unknown [172.18.0.240])
 by postal.iol.unh.edu (Postfix) with ESMTP id B03A36052471;
 Wed, 13 Mar 2024 07:56:06 -0400 (EDT)
Subject: |SUCCESS| pw138308-138328 [PATCH] [v5,21/21] test/security: add out 
From: dpdklab@iol.unh.edu
To: Test Report <test-report@dpdk.org>
Cc: dpdk-test-reports@iol.unh.edu
In-Reply-To: <20240313105901.1959675-22-asasidharan@marvell.com>
References: <20240313105901.1959675-22-asasidharan@marvell.com>
Content-Type: text/plain
X-BeenThere: test-report@dpdk.org
X-Mailman-Version: 2.1.29
Precedence: list
List-Id: automatic DPDK test reports <test-report.dpdk.org>
List-Unsubscribe: <https://mails.dpdk.org/options/test-report>,
 <mailto:test-report-request@dpdk.org?subject=unsubscribe>
List-Archive: <http://mails.dpdk.org/archives/test-report/>
List-Post: <mailto:test-report@dpdk.org>
List-Help: <mailto:test-report-request@dpdk.org?subject=help>
List-Subscribe: <https://mails.dpdk.org/listinfo/test-report>,
 <mailto:test-report-request@dpdk.org?subject=subscribe>
Errors-To: test-report-bounces@dpdk.org

Test-Label: iol-compile-arm64-testing
Test-Status: SUCCESS
http://dpdk.org/patch/138328

_Testing PASS_

Submitter: Aakash Sasidharan <asasidharan@marvell.com>
Date: Wednesday, March 13 2024 10:59:01 
DPDK git baseline: Repo:dpdk
  Branch: master
  CommitID:a86f381b826660e88794754c41d3aec79ce9b87c

138308-138328 --> testing pass

Test environment and result as below:

+----------------------------------------+--------------------+
|              Environment               | dpdk_meson_compile |
+========================================+====================+
| Ubuntu 20.04 ARM SVE                   | PASS               |
+----------------------------------------+--------------------+
| Ubuntu 20.04 ARM Clang Cross Compile   | PASS               |
+----------------------------------------+--------------------+
| Ubuntu 20.04 aarch32 GCC Cross Compile | PASS               |
+----------------------------------------+--------------------+
| Fedora 38 (ARM)                        | PASS               |
+----------------------------------------+--------------------+
| Fedora 37 (ARM)                        | PASS               |
+----------------------------------------+--------------------+
| Ubuntu 20.04 (ARM)                     | PASS               |
+----------------------------------------+--------------------+
| Debian 12 (arm)                        | PASS               |
+----------------------------------------+--------------------+
| CentOS Stream 9 (ARM)                  | PASS               |
+----------------------------------------+--------------------+
| Debian 12 with MUSDK                   | PASS               |
+----------------------------------------+--------------------+


Ubuntu 20.04 ARM SVE
	Kernel: 5.4.0-80-generic
	Compiler: gcc 10.3.0 (Ubuntu 10.3.0-1ubuntu1~20.04)

Ubuntu 20.04 ARM Clang Cross Compile
	Kernel: 5.4.0-72-generic
	Compiler: clang version 10.0.0-4ubuntu1

Ubuntu 20.04 aarch32 GCC Cross Compile
	Kernel: 5.4.0-72-generic
	Compiler: gcc 9.3.0

Fedora 38 (ARM)
	Kernel: Depends on container host
	Compiler: gcc 13.1.1

Fedora 37 (ARM)
	Kernel: Depends on container host
	Compiler: gcc 12.3.1

Ubuntu 20.04 (ARM)
	Kernel: Container Host Kernel
	Compiler: gcc 9.4.0

Debian 12 (arm)
	Kernel: Container Host Kernel
	Compiler: gcc 11

CentOS Stream 9 (ARM)
	Kernel: Container Host Kernel
	Compiler: gcc 11.3.1

Debian 12 with MUSDK
	Kernel: Container Host Kernel
	Compiler: gcc 12

To view detailed results, visit:
https://lab.dpdk.org/results/dashboard/patchsets/29533/

UNH-IOL DPDK Community Lab

To manage your email subscriptions, visit: 
https://lab.dpdk.org/results/dashboard/preferences/subscriptions/