From mboxrd@z Thu Jan  1 00:00:00 1970
Return-Path: <test-report-bounces@dpdk.org>
Received: from mails.dpdk.org (mails.dpdk.org [217.70.189.124])
	by inbox.dpdk.org (Postfix) with ESMTP id 432BF43C9F
	for <public@inbox.dpdk.org>; Wed, 13 Mar 2024 12:57:42 +0100 (CET)
Received: from mails.dpdk.org (localhost [127.0.0.1])
	by mails.dpdk.org (Postfix) with ESMTP id 3EC58402B8;
	Wed, 13 Mar 2024 12:57:42 +0100 (CET)
Received: from mail-pg1-f225.google.com (mail-pg1-f225.google.com
 [209.85.215.225])
 by mails.dpdk.org (Postfix) with ESMTP id 91D9440298
 for <test-report@dpdk.org>; Wed, 13 Mar 2024 12:57:21 +0100 (CET)
Received: by mail-pg1-f225.google.com with SMTP id
 41be03b00d2f7-5ce6b5e3c4eso3404942a12.2
 for <test-report@dpdk.org>; Wed, 13 Mar 2024 04:57:21 -0700 (PDT)
DKIM-Signature: v=1; a=rsa-sha256; c=relaxed/relaxed;
 d=iol.unh.edu; s=unh-iol; t=1710331041; x=1710935841; darn=dpdk.org;
 h=references:in-reply-to:cc:to:from:subject:message-id:date:from:to
 :cc:subject:date:message-id:reply-to;
 bh=pp0s1RN6yeHZIl+I3v9rpBLtLzsdnraS6K+Sfws8nKI=;
 b=aw5ER3Elf69ml/DpIR9jrGQkh7tkA30MhbCkokKjJWv9KCp2UgmJDY5961Hk0fqSBT
 KkZ5VJPmOnAPED2lyrJ1vLYRCIUyYX+5Ei/7poZZL9NMM/6r49zwcNVNehTrzHIGZPQZ
 uwQLHGomEUhc2PU4QwwaDIB40MOj5ZFVTfosI=
X-Google-DKIM-Signature: v=1; a=rsa-sha256; c=relaxed/relaxed;
 d=1e100.net; s=20230601; t=1710331041; x=1710935841;
 h=references:in-reply-to:cc:to:from:subject:message-id:date
 :x-gm-message-state:from:to:cc:subject:date:message-id:reply-to;
 bh=pp0s1RN6yeHZIl+I3v9rpBLtLzsdnraS6K+Sfws8nKI=;
 b=jNA/Eeyo5HVtZ0t5PvPoIPnoo1JU/NS5UcCLPBwD+tHAZG8ifEbAnpulykI8U0I9SJ
 Xrym5gWwraKNoq39oaoOeplq0bjhrBX/BqGDC0vNqwz2oo60N8Fnn8uxp6Y5cTwIygEU
 SKI5OoCq0Mnnp+Rl+DoAzCnIeaKuu5UcmPUHLxX1+w1WSIkTxv9sxgpImNz6ELnSub0E
 h+KBRBSQD2+/SsTDaIpYr/W7/bm1F3CfX6M6o4VFwJtH4qONxFLa8pUj+P4oyi+2mIQW
 c+fnMJewsJjdUMaUa9Y9sAsM+CMyqvULh91wDsRlGX5Euxzx4bn03ysSepiogxstm773
 kLGA==
X-Gm-Message-State: AOJu0Yy3Kdxcx+2ttsnrSj7mlPQp7h9INDxKG0oQHlUgofyWELvHpoBN
 t0vHDzPypBZm58N5zjR1dhfJaXGWPdxeSdTwFF5qqWqbVAQP0N1a1O1P/7LcBj7nGbo8DrmGTju
 SdBboSTmaoT8Ahbr/UWVZ2u+Ucpq1djDEw09KACHs
X-Google-Smtp-Source: AGHT+IHCFEcfGBQiFyBUZ+MwJJwNyCtgiRrxFN3nItqv/mkO6KiYxy7dzIgzpRTt0KDZHCbaDqlQ5VqEyhKK
X-Received: by 2002:a17:90a:644f:b0:29b:c3f3:19ac with SMTP id
 y15-20020a17090a644f00b0029bc3f319acmr9111696pjm.37.1710331040760; 
 Wed, 13 Mar 2024 04:57:20 -0700 (PDT)
Received: from postal.iol.unh.edu (postal.iol.unh.edu. [132.177.123.84])
 by smtp-relay.gmail.com with ESMTPS id
 l2-20020a17090b078200b0029c6755144bsm35195pjz.17.2024.03.13.04.57.20
 (version=TLS1_2 cipher=ECDHE-ECDSA-AES128-GCM-SHA256 bits=128/128);
 Wed, 13 Mar 2024 04:57:20 -0700 (PDT)
X-Relaying-Domain: iol.unh.edu
Date: Wed, 13 Mar 2024 04:57:20 -0700 (PDT)
Message-ID: <65f194a0.170a0220.7e2f.281aSMTPIN_ADDED_MISSING@mx.google.com>
Received: from [172.17.0.8] (unknown [172.18.0.217])
 by postal.iol.unh.edu (Postfix) with ESMTP id E84E96052471;
 Wed, 13 Mar 2024 07:57:19 -0400 (EDT)
Subject: |SUCCESS| pw138308-138328 [PATCH] [v5,21/21] test/security: add out 
From: dpdklab@iol.unh.edu
To: Test Report <test-report@dpdk.org>
Cc: dpdk-test-reports@iol.unh.edu
In-Reply-To: <20240313105901.1959675-22-asasidharan@marvell.com>
References: <20240313105901.1959675-22-asasidharan@marvell.com>
Content-Type: text/plain
X-BeenThere: test-report@dpdk.org
X-Mailman-Version: 2.1.29
Precedence: list
List-Id: automatic DPDK test reports <test-report.dpdk.org>
List-Unsubscribe: <https://mails.dpdk.org/options/test-report>,
 <mailto:test-report-request@dpdk.org?subject=unsubscribe>
List-Archive: <http://mails.dpdk.org/archives/test-report/>
List-Post: <mailto:test-report@dpdk.org>
List-Help: <mailto:test-report-request@dpdk.org?subject=help>
List-Subscribe: <https://mails.dpdk.org/listinfo/test-report>,
 <mailto:test-report-request@dpdk.org?subject=subscribe>
Errors-To: test-report-bounces@dpdk.org

Test-Label: iol-unit-amd64-testing
Test-Status: SUCCESS
http://dpdk.org/patch/138328

_Testing PASS_

Submitter: Aakash Sasidharan <asasidharan@marvell.com>
Date: Wednesday, March 13 2024 10:59:01 
DPDK git baseline: Repo:dpdk
  Branch: master
  CommitID:a86f381b826660e88794754c41d3aec79ce9b87c

138308-138328 --> testing pass

Test environment and result as below:

+---------------------+----------------+
|     Environment     | dpdk_unit_test |
+=====================+================+
| CentOS Stream 8     | PASS           |
+---------------------+----------------+
| Debian Bullseye     | PASS           |
+---------------------+----------------+
| CentOS Stream 9     | PASS           |
+---------------------+----------------+
| Debian 12 (arm)     | PASS           |
+---------------------+----------------+
| Ubuntu 22.04        | PASS           |
+---------------------+----------------+
| Fedora 37           | PASS           |
+---------------------+----------------+
| openSUSE Leap 15    | PASS           |
+---------------------+----------------+
| Fedora 38           | PASS           |
+---------------------+----------------+
| Windows Server 2019 | PASS           |
+---------------------+----------------+
| Ubuntu 20.04        | PASS           |
+---------------------+----------------+
| RHEL8               | PASS           |
+---------------------+----------------+


CentOS Stream 8
	Kernel: 4.18.0-240.10.1.el8_3.x86_64
	Compiler: gcc 8.4.1 20200928

Debian Bullseye
	Kernel: 5.4.0-122-generic
	Compiler: gcc 10.2.1-6

CentOS Stream 9
	Kernel: 4.18.0-240.10.1.el8_3.x86_64
	Compiler: gcc 11.3.1 20220421

Debian 12 (arm)
	Kernel: Container Host Kernel
	Compiler: gcc 11

Ubuntu 22.04
	Kernel: 4.18.0-240.10.1.el8_3.x86_64
	Compiler: gcc 11.3.0

Fedora 37
	Kernel: Depends on container host system
	Compiler: gcc 12.3.1

openSUSE Leap 15
	Kernel: 4.18.0-240.10.1.el8_3.x86_64
	Compiler: gcc 7.5.0

Fedora 38
	Kernel: Depends on container host
	Compiler: gcc 13.1.1

Windows Server 2019
	Kernel: 10.0
	Compiler: clang 14.0 and gcc 8.1.0 (MinGW)

Ubuntu 20.04
	Kernel: 5.4.0-153-generic
	Compiler: gcc 9.4.0-1ubuntu1~20.04.1

RHEL8
	Kernel: 4.18.0-240.10.1.el8_3.x86_64
	Compiler: gcc 8.3.1 20191121 (Red Hat 8.3.1-5)

To view detailed results, visit:
https://lab.dpdk.org/results/dashboard/patchsets/29533/

UNH-IOL DPDK Community Lab

To manage your email subscriptions, visit: 
https://lab.dpdk.org/results/dashboard/preferences/subscriptions/