From mboxrd@z Thu Jan  1 00:00:00 1970
Return-Path: <test-report-bounces@dpdk.org>
Received: from mails.dpdk.org (mails.dpdk.org [217.70.189.124])
	by inbox.dpdk.org (Postfix) with ESMTP id 92BF843C9F
	for <public@inbox.dpdk.org>; Wed, 13 Mar 2024 12:59:50 +0100 (CET)
Received: from mails.dpdk.org (localhost [127.0.0.1])
	by mails.dpdk.org (Postfix) with ESMTP id 8DAFF402B8;
	Wed, 13 Mar 2024 12:59:50 +0100 (CET)
Received: from mail-yw1-f228.google.com (mail-yw1-f228.google.com
 [209.85.128.228])
 by mails.dpdk.org (Postfix) with ESMTP id 646B140298
 for <test-report@dpdk.org>; Wed, 13 Mar 2024 12:59:49 +0100 (CET)
Received: by mail-yw1-f228.google.com with SMTP id
 00721157ae682-607c5679842so68513987b3.2
 for <test-report@dpdk.org>; Wed, 13 Mar 2024 04:59:49 -0700 (PDT)
DKIM-Signature: v=1; a=rsa-sha256; c=relaxed/relaxed;
 d=iol.unh.edu; s=unh-iol; t=1710331189; x=1710935989; darn=dpdk.org;
 h=references:in-reply-to:cc:to:from:subject:message-id:date:from:to
 :cc:subject:date:message-id:reply-to;
 bh=pp0s1RN6yeHZIl+I3v9rpBLtLzsdnraS6K+Sfws8nKI=;
 b=io98OqIXV7Or/vbYvXhC3r2iVsVdFrhJL2A2D8vK4H98o4ftzGnutGiRiA7geitDCo
 goxh1hbtto+DaGDiz4edWBGumwIwsHaW2LAE6lFPdWhgOo6fp1vst5RfdzyGczB9q3op
 6KkHgodrtnD6lNxP1s8ziSbIuKyX228l1QF5A=
X-Google-DKIM-Signature: v=1; a=rsa-sha256; c=relaxed/relaxed;
 d=1e100.net; s=20230601; t=1710331189; x=1710935989;
 h=references:in-reply-to:cc:to:from:subject:message-id:date
 :x-gm-message-state:from:to:cc:subject:date:message-id:reply-to;
 bh=pp0s1RN6yeHZIl+I3v9rpBLtLzsdnraS6K+Sfws8nKI=;
 b=mo3fSwJGqUQgF2nxb4dsnFQkdWAHmr4hNVd1KbzBV2HANYTT4/U+vuCtzZ/7tOzGaj
 zMcWEFMx+qr6rSBdnQuYsu6cIh0j4ZhxNDAR8Vcr7M8xwge+6T+ixVU+0FXQsM1uhNl9
 omZCXCj0hrkah0hfFQqhmOaK90XKVrhqLiTCKkr0eWnPRe0xAChkTMsK7Hs/Ag9fJjDz
 g7T0PSlLTV869l5Xv0Pb74PbUdHlyP4fyvZ1pS7xN/Vxmcgf6c5Do9f9DU/6YObH6hoc
 lIgc3n5WBqSBptPTZJk/mtweuzKt72KreF2N0KTCXPgZF69Y21QBaqaBhwWauwiF5/ka
 u/pA==
X-Gm-Message-State: AOJu0YyiJ6hwSlI2Z7Yp1bmwZT3KLmEcNcxaAirtyx5d95ob3Q4IXXem
 5Msl4WvmjIlyLln+w5/pWIGYiMFETnyByEm2wHd5imCkxj9cXAdKmpR6bHPN+psOZvodvqvoWit
 gqxqRPhm++vBOlEnelMLl6K9fKgLWAPBjIhb/5MF4O4tNmDtFWe8BYsl6
X-Google-Smtp-Source: AGHT+IFclU+H1VnmDteLPmXEz71zswrUdRrBhWNsfjsiDNyLomyI3pEPu9sqhTA7ZtVERd05nKe42EFNQGy1
X-Received: by 2002:a0d:ed03:0:b0:609:f2d9:2473 with SMTP id
 w3-20020a0ded03000000b00609f2d92473mr2409083ywe.28.1710331188885; 
 Wed, 13 Mar 2024 04:59:48 -0700 (PDT)
Received: from postal.iol.unh.edu (postal.iol.unh.edu.
 [2606:4100:3880:1234::84]) by smtp-relay.gmail.com with ESMTPS id
 q32-20020a814320000000b00608099dfa11sm522468ywa.40.2024.03.13.04.59.48
 (version=TLS1_2 cipher=ECDHE-ECDSA-AES128-GCM-SHA256 bits=128/128);
 Wed, 13 Mar 2024 04:59:48 -0700 (PDT)
X-Relaying-Domain: iol.unh.edu
Date: Wed, 13 Mar 2024 04:59:48 -0700 (PDT)
Message-ID: <65f19534.810a0220.e9ea5.1ff4SMTPIN_ADDED_MISSING@mx.google.com>
Received: from [172.21.0.6] (unknown [172.18.0.240])
 by postal.iol.unh.edu (Postfix) with ESMTP id 869116052471;
 Wed, 13 Mar 2024 07:59:47 -0400 (EDT)
Subject: |SUCCESS| pw138308-138328 [PATCH] [v5,21/21] test/security: add out 
From: dpdklab@iol.unh.edu
To: Test Report <test-report@dpdk.org>
Cc: dpdk-test-reports@iol.unh.edu
In-Reply-To: <20240313105901.1959675-22-asasidharan@marvell.com>
References: <20240313105901.1959675-22-asasidharan@marvell.com>
Content-Type: text/plain
X-BeenThere: test-report@dpdk.org
X-Mailman-Version: 2.1.29
Precedence: list
List-Id: automatic DPDK test reports <test-report.dpdk.org>
List-Unsubscribe: <https://mails.dpdk.org/options/test-report>,
 <mailto:test-report-request@dpdk.org?subject=unsubscribe>
List-Archive: <http://mails.dpdk.org/archives/test-report/>
List-Post: <mailto:test-report@dpdk.org>
List-Help: <mailto:test-report-request@dpdk.org?subject=help>
List-Subscribe: <https://mails.dpdk.org/listinfo/test-report>,
 <mailto:test-report-request@dpdk.org?subject=subscribe>
Errors-To: test-report-bounces@dpdk.org

Test-Label: iol-unit-amd64-testing
Test-Status: SUCCESS
http://dpdk.org/patch/138328

_Testing PASS_

Submitter: Aakash Sasidharan <asasidharan@marvell.com>
Date: Wednesday, March 13 2024 10:59:01 
DPDK git baseline: Repo:dpdk
  Branch: master
  CommitID:a86f381b826660e88794754c41d3aec79ce9b87c

138308-138328 --> testing pass

Test environment and result as below:

+---------------------+----------------+
|     Environment     | dpdk_unit_test |
+=====================+================+
| CentOS Stream 8     | PASS           |
+---------------------+----------------+
| Debian Bullseye     | PASS           |
+---------------------+----------------+
| CentOS Stream 9     | PASS           |
+---------------------+----------------+
| Debian 12 (arm)     | PASS           |
+---------------------+----------------+
| Ubuntu 22.04        | PASS           |
+---------------------+----------------+
| Fedora 37           | PASS           |
+---------------------+----------------+
| openSUSE Leap 15    | PASS           |
+---------------------+----------------+
| Fedora 38           | PASS           |
+---------------------+----------------+
| Windows Server 2019 | PASS           |
+---------------------+----------------+
| Ubuntu 20.04        | PASS           |
+---------------------+----------------+
| RHEL8               | PASS           |
+---------------------+----------------+


CentOS Stream 8
	Kernel: 4.18.0-240.10.1.el8_3.x86_64
	Compiler: gcc 8.4.1 20200928

Debian Bullseye
	Kernel: 5.4.0-122-generic
	Compiler: gcc 10.2.1-6

CentOS Stream 9
	Kernel: 4.18.0-240.10.1.el8_3.x86_64
	Compiler: gcc 11.3.1 20220421

Debian 12 (arm)
	Kernel: Container Host Kernel
	Compiler: gcc 11

Ubuntu 22.04
	Kernel: 4.18.0-240.10.1.el8_3.x86_64
	Compiler: gcc 11.3.0

Fedora 37
	Kernel: Depends on container host system
	Compiler: gcc 12.3.1

openSUSE Leap 15
	Kernel: 4.18.0-240.10.1.el8_3.x86_64
	Compiler: gcc 7.5.0

Fedora 38
	Kernel: Depends on container host
	Compiler: gcc 13.1.1

Windows Server 2019
	Kernel: 10.0
	Compiler: clang 14.0 and gcc 8.1.0 (MinGW)

Ubuntu 20.04
	Kernel: 5.4.0-153-generic
	Compiler: gcc 9.4.0-1ubuntu1~20.04.1

RHEL8
	Kernel: 4.18.0-240.10.1.el8_3.x86_64
	Compiler: gcc 8.3.1 20191121 (Red Hat 8.3.1-5)

To view detailed results, visit:
https://lab.dpdk.org/results/dashboard/patchsets/29533/

UNH-IOL DPDK Community Lab

To manage your email subscriptions, visit: 
https://lab.dpdk.org/results/dashboard/preferences/subscriptions/