From mboxrd@z Thu Jan  1 00:00:00 1970
Return-Path: <test-report-bounces@dpdk.org>
Received: from mails.dpdk.org (mails.dpdk.org [217.70.189.124])
	by inbox.dpdk.org (Postfix) with ESMTP id B1B3B43C9F
	for <public@inbox.dpdk.org>; Wed, 13 Mar 2024 13:03:41 +0100 (CET)
Received: from mails.dpdk.org (localhost [127.0.0.1])
	by mails.dpdk.org (Postfix) with ESMTP id ADB1B40A84;
	Wed, 13 Mar 2024 13:03:41 +0100 (CET)
Received: from mail-yw1-f228.google.com (mail-yw1-f228.google.com
 [209.85.128.228])
 by mails.dpdk.org (Postfix) with ESMTP id B4BFC402B8
 for <test-report@dpdk.org>; Wed, 13 Mar 2024 13:03:39 +0100 (CET)
Received: by mail-yw1-f228.google.com with SMTP id
 00721157ae682-6099703e530so44250127b3.3
 for <test-report@dpdk.org>; Wed, 13 Mar 2024 05:03:39 -0700 (PDT)
DKIM-Signature: v=1; a=rsa-sha256; c=relaxed/relaxed;
 d=iol.unh.edu; s=unh-iol; t=1710331419; x=1710936219; darn=dpdk.org;
 h=references:in-reply-to:cc:to:from:subject:message-id:date:from:to
 :cc:subject:date:message-id:reply-to;
 bh=GHAyHcq76QPru2yBKsym5YQlZoBQd2XPb6ME/tb6bz0=;
 b=XJThtiCQRSo3xA8b1hzFHch+2vni//vLpWryFLXBixKScmTxU4PzBTpMuRtfRYtwlg
 DdSCTUIhr7jwoPBiutoqigI4wRi5Vt82CW2+d2ZniSyIubN+Rlnkd+sbxRKPM/RR7Xlp
 9I8muq45F5i62NuBO8/Z8UrtGizgGcvb85N/k=
X-Google-DKIM-Signature: v=1; a=rsa-sha256; c=relaxed/relaxed;
 d=1e100.net; s=20230601; t=1710331419; x=1710936219;
 h=references:in-reply-to:cc:to:from:subject:message-id:date
 :x-gm-message-state:from:to:cc:subject:date:message-id:reply-to;
 bh=GHAyHcq76QPru2yBKsym5YQlZoBQd2XPb6ME/tb6bz0=;
 b=Lc62NNUrHmC/9NbFN3ZVOrMTd+9pJ3UYV3erFz7unvcETn1ZP45Idz6v6zVyAHviPv
 UXcQb/FgHBuCkWcRdHR1GTYnxSPzhjnJiDBsG2MAK+WqZ/nMWhQEP+GFG0rTw+xV5iz7
 bDd+S2XrL6vsrBjS013xfp43DsvNx2zY5QXsuL3xg7VVYBAy9LgLJAu4/lWPVxpIPiSa
 woTHC4Ns2TtJgEqaGLDoQ1zvuPnlOpA0GIRNuoFEERbGeOHypyC73H8cR1+fdFjcgJCn
 XyQ4OgM4G6I/b1EIeb052GThESjDUqx1uvWlZ+347lk9/1WfgjF9CUR0aJAkAhDUUw1y
 KfJg==
X-Gm-Message-State: AOJu0Yy5wWXUcCCrkctUuR8gjtAz9aND78v//NC2xb58w6A3GPNba4bU
 5xFPKt4aA7ghSjJJAjbO2ciOqwlYZ7jhYKUa3477uFIHNXKQDpazdrIG7sS54G9IS531Qw3mbe7
 M361iXHesQkPm8K6uziC/PLM4Fym6Z7qS0AlqLAkW
X-Google-Smtp-Source: AGHT+IFqA1Va1ODrO47oNnF1QoAxN2i5vEAAFUEe7VtEdNpijopofDF2CHImuV7eUK39jq8lQQtV8KtJEyqf
X-Received: by 2002:a81:5c05:0:b0:60a:a77:6341 with SMTP id
 q5-20020a815c05000000b0060a0a776341mr2155895ywb.32.1710331419157; 
 Wed, 13 Mar 2024 05:03:39 -0700 (PDT)
Received: from postal.iol.unh.edu (postal.iol.unh.edu. [132.177.123.84])
 by smtp-relay.gmail.com with ESMTPS id
 u75-20020a0deb4e000000b0060879e34b46sm525823ywe.59.2024.03.13.05.03.39
 (version=TLS1_2 cipher=ECDHE-ECDSA-AES128-GCM-SHA256 bits=128/128);
 Wed, 13 Mar 2024 05:03:39 -0700 (PDT)
X-Relaying-Domain: iol.unh.edu
Date: Wed, 13 Mar 2024 05:03:39 -0700 (PDT)
Message-ID: <65f1961b.0d0a0220.35686.2cbfSMTPIN_ADDED_MISSING@mx.google.com>
Received: from [172.21.0.6] (unknown [172.18.0.240])
 by postal.iol.unh.edu (Postfix) with ESMTP id C944C6052471;
 Wed, 13 Mar 2024 08:03:38 -0400 (EDT)
Subject: |SUCCESS| pw138308-138328 [PATCH] [v5,21/21] test/security: add out 
From: dpdklab@iol.unh.edu
To: Test Report <test-report@dpdk.org>
Cc: dpdk-test-reports@iol.unh.edu
In-Reply-To: <20240313105901.1959675-22-asasidharan@marvell.com>
References: <20240313105901.1959675-22-asasidharan@marvell.com>
Content-Type: text/plain
X-BeenThere: test-report@dpdk.org
X-Mailman-Version: 2.1.29
Precedence: list
List-Id: automatic DPDK test reports <test-report.dpdk.org>
List-Unsubscribe: <https://mails.dpdk.org/options/test-report>,
 <mailto:test-report-request@dpdk.org?subject=unsubscribe>
List-Archive: <http://mails.dpdk.org/archives/test-report/>
List-Post: <mailto:test-report@dpdk.org>
List-Help: <mailto:test-report-request@dpdk.org?subject=help>
List-Subscribe: <https://mails.dpdk.org/listinfo/test-report>,
 <mailto:test-report-request@dpdk.org?subject=subscribe>
Errors-To: test-report-bounces@dpdk.org

Test-Label: iol-unit-arm64-testing
Test-Status: SUCCESS
http://dpdk.org/patch/138328

_Testing PASS_

Submitter: Aakash Sasidharan <asasidharan@marvell.com>
Date: Wednesday, March 13 2024 10:59:01 
DPDK git baseline: Repo:dpdk
  Branch: master
  CommitID:a86f381b826660e88794754c41d3aec79ce9b87c

138308-138328 --> testing pass

Test environment and result as below:

+--------------------------+----------------+---------------------------+------------------------------+--------------+
|       Environment        | dpdk_unit_test | cryptodev_sw_zuc_autotest | cryptodev_sw_snow3g_autotest | lpm_autotest |
+==========================+================+===========================+==============================+==============+
| Debian 11 (Buster) (ARM) | PASS           | SKIPPED                   | SKIPPED                      | SKIPPED      |
+--------------------------+----------------+---------------------------+------------------------------+--------------+
| Fedora 37 (ARM)          | PASS           | SKIPPED                   | SKIPPED                      | SKIPPED      |
+--------------------------+----------------+---------------------------+------------------------------+--------------+
| Debian 12 (arm)          | PASS           | PASS                      | PASS                         | SKIPPED      |
+--------------------------+----------------+---------------------------+------------------------------+--------------+
| CentOS Stream 9 (ARM)    | PASS           | SKIPPED                   | SKIPPED                      | SKIPPED      |
+--------------------------+----------------+---------------------------+------------------------------+--------------+
| Fedora 38 (ARM)          | PASS           | SKIPPED                   | SKIPPED                      | SKIPPED      |
+--------------------------+----------------+---------------------------+------------------------------+--------------+
| Ubuntu 20.04 (ARM)       | PASS           | SKIPPED                   | SKIPPED                      | SKIPPED      |
+--------------------------+----------------+---------------------------+------------------------------+--------------+
| Ubuntu 20.04 ARM SVE     | SKIPPED        | SKIPPED                   | SKIPPED                      | PASS         |
+--------------------------+----------------+---------------------------+------------------------------+--------------+


Debian 11 (Buster) (ARM)
	Kernel: Container Host Kernel
	Compiler: gcc 10.2.1

Fedora 37 (ARM)
	Kernel: Depends on container host
	Compiler: gcc 12.3.1

Debian 12 (arm)
	Kernel: Container Host Kernel
	Compiler: gcc 11

CentOS Stream 9 (ARM)
	Kernel: Container Host Kernel
	Compiler: gcc 11.3.1

Fedora 38 (ARM)
	Kernel: Depends on container host
	Compiler: gcc 13.1.1

Ubuntu 20.04 (ARM)
	Kernel: Container Host Kernel
	Compiler: gcc 9.4.0

Ubuntu 20.04 ARM SVE
	Kernel: 5.4.0-80-generic
	Compiler: gcc 10.3.0 (Ubuntu 10.3.0-1ubuntu1~20.04)

To view detailed results, visit:
https://lab.dpdk.org/results/dashboard/patchsets/29533/

UNH-IOL DPDK Community Lab

To manage your email subscriptions, visit: 
https://lab.dpdk.org/results/dashboard/preferences/subscriptions/