From mboxrd@z Thu Jan  1 00:00:00 1970
Return-Path: <test-report-bounces@dpdk.org>
Received: from mails.dpdk.org (mails.dpdk.org [217.70.189.124])
	by inbox.dpdk.org (Postfix) with ESMTP id 1472E43C9F
	for <public@inbox.dpdk.org>; Wed, 13 Mar 2024 13:05:22 +0100 (CET)
Received: from mails.dpdk.org (localhost [127.0.0.1])
	by mails.dpdk.org (Postfix) with ESMTP id 0EBD640A84;
	Wed, 13 Mar 2024 13:05:22 +0100 (CET)
Received: from mail-io1-f97.google.com (mail-io1-f97.google.com
 [209.85.166.97]) by mails.dpdk.org (Postfix) with ESMTP id C242B402B8
 for <test-report@dpdk.org>; Wed, 13 Mar 2024 13:05:20 +0100 (CET)
Received: by mail-io1-f97.google.com with SMTP id
 ca18e2360f4ac-7c8b8618457so15216539f.3
 for <test-report@dpdk.org>; Wed, 13 Mar 2024 05:05:20 -0700 (PDT)
DKIM-Signature: v=1; a=rsa-sha256; c=relaxed/relaxed;
 d=iol.unh.edu; s=unh-iol; t=1710331520; x=1710936320; darn=dpdk.org;
 h=references:in-reply-to:cc:to:from:subject:message-id:date:from:to
 :cc:subject:date:message-id:reply-to;
 bh=pp0s1RN6yeHZIl+I3v9rpBLtLzsdnraS6K+Sfws8nKI=;
 b=A2LgJ+YgV4prhrgvCJp0R1b+AQ9R8WQSH458q0x+8VyH780sO7d2OZskqlXsKAuhi7
 tIZOGmyAq71oGCYOSNzy3lBZWohXRiVL+gWVv/5nQQUXy4OiTKHTQmApXOAhlvhOqjAR
 Hb12R1UR9lG37lEsbJO00uQB2wh3dDiTWNJx8=
X-Google-DKIM-Signature: v=1; a=rsa-sha256; c=relaxed/relaxed;
 d=1e100.net; s=20230601; t=1710331520; x=1710936320;
 h=references:in-reply-to:cc:to:from:subject:message-id:date
 :x-gm-message-state:from:to:cc:subject:date:message-id:reply-to;
 bh=pp0s1RN6yeHZIl+I3v9rpBLtLzsdnraS6K+Sfws8nKI=;
 b=JWUt/Kdgn5yay6ewTTQht3J8xHfpdrg/ZYAED4GaQyFOcUiJaaCMBnrc87wKUPt1ii
 cu9aInEd+69rh3vazTckO2dwzQ4/ywfskZla5MVqyZY4bxRVjh2rnEL8bUB4TcQZ/n54
 vnAz0mFc7K6HHwLkZzUAJmyO3PMHW/znhmnMtu4dfBGYi56czrb/z5FEs7gVSl8fx3t2
 hWKPtJC000voIKK8ZNe/rNqp8FP4W/+nV6gmDjI/JFQ0og6nNg+3GR4Q4o0GVMitUpDz
 MxTLbQOmS2eqc9zrSD1PzfkKYnGqHMAB7RL7d10Y/ohsqiC8Knd5DfGePmwWZwxWkENW
 UQ3g==
X-Gm-Message-State: AOJu0YwNtt8vNNgyJ9CSjxIN6uztqemtss+REzbQ8nzLbCqcQf45KA+z
 kG46RT53vJV+vMh828msPyW+nnELbjvKfJCN9+8MwIoXyM9xyg5+LdrUiHirDiEPMD+X1CI5WPG
 KM8RWd0cbQN6Wesa9RVAYU9gwWt7je9tb3Cj0XhTMTCBhqMWx3iPIwlxD
X-Google-Smtp-Source: AGHT+IFvZ29A6Wkb91kySZ/IuLeqt3LQpzWbAtm4m2UHixGBTMWRZE5i9D49J7/XWzQkcL3mksnhSRmxFsBQ
X-Received: by 2002:a5e:c744:0:b0:7c8:ab11:6e95 with SMTP id
 g4-20020a5ec744000000b007c8ab116e95mr3800235iop.17.1710331520114; 
 Wed, 13 Mar 2024 05:05:20 -0700 (PDT)
Received: from postal.iol.unh.edu (postal.iol.unh.edu.
 [2606:4100:3880:1234::84]) by smtp-relay.gmail.com with ESMTPS id
 k24-20020a5d91d8000000b007c885caff4csm438328ior.12.2024.03.13.05.05.20
 (version=TLS1_2 cipher=ECDHE-ECDSA-AES128-GCM-SHA256 bits=128/128);
 Wed, 13 Mar 2024 05:05:20 -0700 (PDT)
X-Relaying-Domain: iol.unh.edu
Date: Wed, 13 Mar 2024 05:05:20 -0700 (PDT)
Message-ID: <65f19680.5d0a0220.3e037.b9ccSMTPIN_ADDED_MISSING@mx.google.com>
Received: from [172.17.0.7] (unknown [172.18.0.217])
 by postal.iol.unh.edu (Postfix) with ESMTP id 923346052471;
 Wed, 13 Mar 2024 08:05:19 -0400 (EDT)
Subject: |SUCCESS| pw138308-138328 [PATCH] [v5,21/21] test/security: add out 
From: dpdklab@iol.unh.edu
To: Test Report <test-report@dpdk.org>
Cc: dpdk-test-reports@iol.unh.edu
In-Reply-To: <20240313105901.1959675-22-asasidharan@marvell.com>
References: <20240313105901.1959675-22-asasidharan@marvell.com>
Content-Type: text/plain
X-BeenThere: test-report@dpdk.org
X-Mailman-Version: 2.1.29
Precedence: list
List-Id: automatic DPDK test reports <test-report.dpdk.org>
List-Unsubscribe: <https://mails.dpdk.org/options/test-report>,
 <mailto:test-report-request@dpdk.org?subject=unsubscribe>
List-Archive: <http://mails.dpdk.org/archives/test-report/>
List-Post: <mailto:test-report@dpdk.org>
List-Help: <mailto:test-report-request@dpdk.org?subject=help>
List-Subscribe: <https://mails.dpdk.org/listinfo/test-report>,
 <mailto:test-report-request@dpdk.org?subject=subscribe>
Errors-To: test-report-bounces@dpdk.org

Test-Label: iol-unit-amd64-testing
Test-Status: SUCCESS
http://dpdk.org/patch/138328

_Testing PASS_

Submitter: Aakash Sasidharan <asasidharan@marvell.com>
Date: Wednesday, March 13 2024 10:59:01 
DPDK git baseline: Repo:dpdk
  Branch: master
  CommitID:a86f381b826660e88794754c41d3aec79ce9b87c

138308-138328 --> testing pass

Test environment and result as below:

+---------------------+----------------+
|     Environment     | dpdk_unit_test |
+=====================+================+
| CentOS Stream 8     | PASS           |
+---------------------+----------------+
| Debian Bullseye     | PASS           |
+---------------------+----------------+
| CentOS Stream 9     | PASS           |
+---------------------+----------------+
| Debian 12 (arm)     | PASS           |
+---------------------+----------------+
| Ubuntu 22.04        | PASS           |
+---------------------+----------------+
| Fedora 37           | PASS           |
+---------------------+----------------+
| openSUSE Leap 15    | PASS           |
+---------------------+----------------+
| Fedora 38           | PASS           |
+---------------------+----------------+
| Windows Server 2019 | PASS           |
+---------------------+----------------+
| Ubuntu 20.04        | PASS           |
+---------------------+----------------+
| RHEL8               | PASS           |
+---------------------+----------------+


CentOS Stream 8
	Kernel: 4.18.0-240.10.1.el8_3.x86_64
	Compiler: gcc 8.4.1 20200928

Debian Bullseye
	Kernel: 5.4.0-122-generic
	Compiler: gcc 10.2.1-6

CentOS Stream 9
	Kernel: 4.18.0-240.10.1.el8_3.x86_64
	Compiler: gcc 11.3.1 20220421

Debian 12 (arm)
	Kernel: Container Host Kernel
	Compiler: gcc 11

Ubuntu 22.04
	Kernel: 4.18.0-240.10.1.el8_3.x86_64
	Compiler: gcc 11.3.0

Fedora 37
	Kernel: Depends on container host system
	Compiler: gcc 12.3.1

openSUSE Leap 15
	Kernel: 4.18.0-240.10.1.el8_3.x86_64
	Compiler: gcc 7.5.0

Fedora 38
	Kernel: Depends on container host
	Compiler: gcc 13.1.1

Windows Server 2019
	Kernel: 10.0
	Compiler: clang 14.0 and gcc 8.1.0 (MinGW)

Ubuntu 20.04
	Kernel: 5.4.0-153-generic
	Compiler: gcc 9.4.0-1ubuntu1~20.04.1

RHEL8
	Kernel: 4.18.0-240.10.1.el8_3.x86_64
	Compiler: gcc 8.3.1 20191121 (Red Hat 8.3.1-5)

To view detailed results, visit:
https://lab.dpdk.org/results/dashboard/patchsets/29533/

UNH-IOL DPDK Community Lab

To manage your email subscriptions, visit: 
https://lab.dpdk.org/results/dashboard/preferences/subscriptions/