From mboxrd@z Thu Jan  1 00:00:00 1970
Return-Path: <test-report-bounces@dpdk.org>
Received: from mails.dpdk.org (mails.dpdk.org [217.70.189.124])
	by inbox.dpdk.org (Postfix) with ESMTP id 2F82643CA1
	for <public@inbox.dpdk.org>; Wed, 13 Mar 2024 13:30:20 +0100 (CET)
Received: from mails.dpdk.org (localhost [127.0.0.1])
	by mails.dpdk.org (Postfix) with ESMTP id 29FC940DCE;
	Wed, 13 Mar 2024 13:30:20 +0100 (CET)
Received: from mail-pf1-f226.google.com (mail-pf1-f226.google.com
 [209.85.210.226])
 by mails.dpdk.org (Postfix) with ESMTP id 63E77402B8
 for <test-report@dpdk.org>; Wed, 13 Mar 2024 13:30:19 +0100 (CET)
Received: by mail-pf1-f226.google.com with SMTP id
 d2e1a72fcca58-6e46dcd8feaso4109760b3a.2
 for <test-report@dpdk.org>; Wed, 13 Mar 2024 05:30:19 -0700 (PDT)
DKIM-Signature: v=1; a=rsa-sha256; c=relaxed/relaxed;
 d=iol.unh.edu; s=unh-iol; t=1710333018; x=1710937818; darn=dpdk.org;
 h=references:in-reply-to:cc:to:from:subject:message-id:date:from:to
 :cc:subject:date:message-id:reply-to;
 bh=S7hNPEMuZV+V6QjSiyCADARiS0NXgdvD1IOAwHyTvt8=;
 b=F8+Kk+hW1cS6z70MpNEDobG1S6S25DwILpC4IxL1wshy+S1xkvFHIp8NjcPDxi2pKd
 tov42JgQ34o74Bnqp+8gXM6dvQfYRe6jSLnE/ee4qTlTEJtURcPLJ4UlclZ3yG15X8+2
 hgUKHW0PG4fB4SjBk8ZfC6QsRn4nT0jDnDTJ8=
X-Google-DKIM-Signature: v=1; a=rsa-sha256; c=relaxed/relaxed;
 d=1e100.net; s=20230601; t=1710333018; x=1710937818;
 h=references:in-reply-to:cc:to:from:subject:message-id:date
 :x-gm-message-state:from:to:cc:subject:date:message-id:reply-to;
 bh=S7hNPEMuZV+V6QjSiyCADARiS0NXgdvD1IOAwHyTvt8=;
 b=S5G5G8rBkQbrDtrGD28/pije8cjWYkkYujL3UjOOkmOcwtu0yVLkMjFmS+tJpgsII5
 NWc3xNFrbSVwJBbtLxfl31LM99Hk8QxYYDsiGcHJOPLOeOOnxBE6RZoehbnPd12jvVG1
 nIRykvK/8yzx0pb76Yxw2eT1EhJM108cDITJI5azcUDbZ4I75Gu2MQ1O1mEiKnlkgaAO
 4Fcsy8FLqLC8jqmxRSI3oNd/h/BVYWt+6XWaLz47htFHAmDn9ZP/B5dvoKyKag8JCFdd
 lAa5o16iO+i+mp1QkxmxH+WvgVqgSS5q77ox73HKBiZ02uGxRgH0XBxqP0nB5POfwTE/
 46kw==
X-Gm-Message-State: AOJu0YwW21eziribIglecTPMtTvcNA1WCqCYTtz4rYyucH3qTxff0f07
 p98t1t9wmUBMmKYg/KR7p8fmit/bO4R448B3kdK9iZ0Ca8pxokUmRJSPof7wCx8wtLF/Jq8WPQw
 awdfSXnCW5QWyiNp1NJS8xe7TR12u6Zx4kIYzh0c2MsOYK5HbKKOfRmEf
X-Google-Smtp-Source: AGHT+IFFZHBZj5bm4whmipJX+ZJUsNgPVIPHauE1XbR3ZxB0tH//ZUOGxReTvZMVTqBL/a0hXI9p0HDqZgxC
X-Received: by 2002:a05:6a00:2282:b0:6e6:9dd1:a09f with SMTP id
 f2-20020a056a00228200b006e69dd1a09fmr2472751pfe.27.1710333018577; 
 Wed, 13 Mar 2024 05:30:18 -0700 (PDT)
Received: from postal.iol.unh.edu (postal.iol.unh.edu.
 [2606:4100:3880:1234::84]) by smtp-relay.gmail.com with ESMTPS id
 a28-20020a631a5c000000b005dc857069fdsm486648pgm.12.2024.03.13.05.30.18
 (version=TLS1_2 cipher=ECDHE-ECDSA-AES128-GCM-SHA256 bits=128/128);
 Wed, 13 Mar 2024 05:30:18 -0700 (PDT)
X-Relaying-Domain: iol.unh.edu
Date: Wed, 13 Mar 2024 05:30:18 -0700 (PDT)
Message-ID: <65f19c5a.630a0220.b1777.f08eSMTPIN_ADDED_MISSING@mx.google.com>
Received: from [172.17.0.8] (unknown [172.18.0.217])
 by postal.iol.unh.edu (Postfix) with ESMTP id CD3CB6052471;
 Wed, 13 Mar 2024 08:30:17 -0400 (EDT)
Subject: |SUCCESS| pw138307 [PATCH] [v3,1/1] net/mana: add vlan tagging suppo
From: dpdklab@iol.unh.edu
To: Test Report <test-report@dpdk.org>
Cc: dpdk-test-reports@iol.unh.edu
In-Reply-To: <20240313090341.373037-1-weh@linux.microsoft.com>
References: <20240313090341.373037-1-weh@linux.microsoft.com>
Content-Type: text/plain
X-BeenThere: test-report@dpdk.org
X-Mailman-Version: 2.1.29
Precedence: list
List-Id: automatic DPDK test reports <test-report.dpdk.org>
List-Unsubscribe: <https://mails.dpdk.org/options/test-report>,
 <mailto:test-report-request@dpdk.org?subject=unsubscribe>
List-Archive: <http://mails.dpdk.org/archives/test-report/>
List-Post: <mailto:test-report@dpdk.org>
List-Help: <mailto:test-report-request@dpdk.org?subject=help>
List-Subscribe: <https://mails.dpdk.org/listinfo/test-report>,
 <mailto:test-report-request@dpdk.org?subject=subscribe>
Errors-To: test-report-bounces@dpdk.org

Test-Label: iol-unit-arm64-testing
Test-Status: SUCCESS
http://dpdk.org/patch/138307

_Testing PASS_

Submitter: Wei Hu <weh@linux.microsoft.com>
Date: Wednesday, March 13 2024 09:03:40 
DPDK git baseline: Repo:dpdk
  Branch: master
  CommitID:544d6d79a6ff0964a79a57efb102e87fdbd107d9

138307 --> testing pass

Test environment and result as below:

+--------------------------+------------------------------+---------------------------+--------------+----------------+
|       Environment        | cryptodev_sw_snow3g_autotest | cryptodev_sw_zuc_autotest | lpm_autotest | dpdk_unit_test |
+==========================+==============================+===========================+==============+================+
| Debian 12 (arm)          | PASS                         | PASS                      | SKIPPED      | PASS           |
+--------------------------+------------------------------+---------------------------+--------------+----------------+
| Ubuntu 20.04 ARM SVE     | SKIPPED                      | SKIPPED                   | PASS         | SKIPPED        |
+--------------------------+------------------------------+---------------------------+--------------+----------------+
| Debian 11 (Buster) (ARM) | SKIPPED                      | SKIPPED                   | SKIPPED      | PASS           |
+--------------------------+------------------------------+---------------------------+--------------+----------------+
| Fedora 37 (ARM)          | SKIPPED                      | SKIPPED                   | SKIPPED      | PASS           |
+--------------------------+------------------------------+---------------------------+--------------+----------------+
| CentOS Stream 9 (ARM)    | SKIPPED                      | SKIPPED                   | SKIPPED      | PASS           |
+--------------------------+------------------------------+---------------------------+--------------+----------------+
| Fedora 38 (ARM)          | SKIPPED                      | SKIPPED                   | SKIPPED      | PASS           |
+--------------------------+------------------------------+---------------------------+--------------+----------------+


Debian 12 (arm)
	Kernel: Container Host Kernel
	Compiler: gcc 11

Ubuntu 20.04 ARM SVE
	Kernel: 5.4.0-80-generic
	Compiler: gcc 10.3.0 (Ubuntu 10.3.0-1ubuntu1~20.04)

Debian 11 (Buster) (ARM)
	Kernel: Container Host Kernel
	Compiler: gcc 10.2.1

Fedora 37 (ARM)
	Kernel: Depends on container host
	Compiler: gcc 12.3.1

CentOS Stream 9 (ARM)
	Kernel: Container Host Kernel
	Compiler: gcc 11.3.1

Fedora 38 (ARM)
	Kernel: Depends on container host
	Compiler: gcc 13.1.1

To view detailed results, visit:
https://lab.dpdk.org/results/dashboard/patchsets/29532/

UNH-IOL DPDK Community Lab

To manage your email subscriptions, visit: 
https://lab.dpdk.org/results/dashboard/preferences/subscriptions/