From mboxrd@z Thu Jan  1 00:00:00 1970
Return-Path: <test-report-bounces@dpdk.org>
Received: from mails.dpdk.org (mails.dpdk.org [217.70.189.124])
	by inbox.dpdk.org (Postfix) with ESMTP id 02E3843CA1
	for <public@inbox.dpdk.org>; Wed, 13 Mar 2024 13:33:11 +0100 (CET)
Received: from mails.dpdk.org (localhost [127.0.0.1])
	by mails.dpdk.org (Postfix) with ESMTP id F21E540A84;
	Wed, 13 Mar 2024 13:33:10 +0100 (CET)
Received: from mail-yw1-f226.google.com (mail-yw1-f226.google.com
 [209.85.128.226])
 by mails.dpdk.org (Postfix) with ESMTP id 4D764402B8
 for <test-report@dpdk.org>; Wed, 13 Mar 2024 13:33:09 +0100 (CET)
Received: by mail-yw1-f226.google.com with SMTP id
 00721157ae682-607c5679842so68999287b3.2
 for <test-report@dpdk.org>; Wed, 13 Mar 2024 05:33:09 -0700 (PDT)
DKIM-Signature: v=1; a=rsa-sha256; c=relaxed/relaxed;
 d=iol.unh.edu; s=unh-iol; t=1710333188; x=1710937988; darn=dpdk.org;
 h=references:in-reply-to:cc:to:from:subject:message-id:date:from:to
 :cc:subject:date:message-id:reply-to;
 bh=o5PSphhWO0HfukOi+NLWbX/PPo/VKDfjvgKPFTlIRuM=;
 b=S94/QBsFFF7y/HJxnJFTclVicfUdp3dF0TF/b2X61zaZxOiHvY1ZvEIstJinarcZxI
 NK6mtpJV8hEdVCjoP2wfj/PqgW9qpSgKys0eIQQWi0CVH5tL/YqZ3ju3NHewTkXhzlzH
 UocnE5rPdNLDiJDaTkGKGkK3iVWwtjBfMFzMI=
X-Google-DKIM-Signature: v=1; a=rsa-sha256; c=relaxed/relaxed;
 d=1e100.net; s=20230601; t=1710333188; x=1710937988;
 h=references:in-reply-to:cc:to:from:subject:message-id:date
 :x-gm-message-state:from:to:cc:subject:date:message-id:reply-to;
 bh=o5PSphhWO0HfukOi+NLWbX/PPo/VKDfjvgKPFTlIRuM=;
 b=wE21BMfkJapOavsUqlmLDNFKv5Vx3JAYVgHGK7IKhKRjeLnS4EYGMMTn0z330f3bXJ
 TAubf23QL28xlqEo3Kt91cjpsuw3oo6WB96FvPx24a/QfVokPMEB23mt0XN9L2gfQeUI
 s7GN8jeuqZ0dKD5+asXK1JzAf6M5ddC+PyRTaIDbJc1PVV5+PY/wxRC6gEawrdwUwGcx
 M+Ww0RVrKv+Caw+ogL7ByTqkpWlEjT0dqjJM0M4DfQjK+5/cq6AQpONK3dX9Ok/mB9r9
 j0lIyqTeavP3odAPAPQpZIE22GcRRqC5vqw0QKuRvcyVVFHEqqCaqC5qZKcWlKg6hrB8
 G5gw==
X-Gm-Message-State: AOJu0YyUZEZUp2FHlDxBuyEawl8oJEPVLmX3z21s1V9p+VtcmUHZJr69
 WsI4pl5DWqu7r2z65fE3W5JyJtyN4W2IVPFLnv0rH9LT2HduFrOHiQ7M14Qldr1H1DC7eocM750
 EcPOrLbtouQsuA2AD3W19SdZYaMi9ux50S6EZ5fGPd69yoQRNKw25ZgFG
X-Google-Smtp-Source: AGHT+IHIMoY3qf5ijNkfRT+tvpKw2NoKI3HYiMxaICAKac2omD+fEmSTMKN8O0LOnnkB2ub3NctjTVCeLcoz
X-Received: by 2002:a05:690c:2d87:b0:60a:6afb:9eba with SMTP id
 er7-20020a05690c2d8700b0060a6afb9ebamr1766863ywb.26.1710333187871; 
 Wed, 13 Mar 2024 05:33:07 -0700 (PDT)
Received: from postal.iol.unh.edu (postal.iol.unh.edu.
 [2606:4100:3880:1234::84]) by smtp-relay.gmail.com with ESMTPS id
 db22-20020a05690c0dd600b0060cbd86ba34sm5851ywb.26.2024.03.13.05.33.07
 (version=TLS1_2 cipher=ECDHE-ECDSA-AES128-GCM-SHA256 bits=128/128);
 Wed, 13 Mar 2024 05:33:07 -0700 (PDT)
X-Relaying-Domain: iol.unh.edu
Date: Wed, 13 Mar 2024 05:33:07 -0700 (PDT)
Message-ID: <65f19d03.050a0220.43627.0685SMTPIN_ADDED_MISSING@mx.google.com>
Received: from [172.17.0.8] (unknown [172.18.0.217])
 by postal.iol.unh.edu (Postfix) with ESMTP id 8D9646052471;
 Wed, 13 Mar 2024 08:33:07 -0400 (EDT)
Subject: |SUCCESS| pw138307 [PATCH] [v3,1/1] net/mana: add vlan tagging suppo
From: dpdklab@iol.unh.edu
To: Test Report <test-report@dpdk.org>
Cc: dpdk-test-reports@iol.unh.edu
In-Reply-To: <20240313090341.373037-1-weh@linux.microsoft.com>
References: <20240313090341.373037-1-weh@linux.microsoft.com>
Content-Type: text/plain
X-BeenThere: test-report@dpdk.org
X-Mailman-Version: 2.1.29
Precedence: list
List-Id: automatic DPDK test reports <test-report.dpdk.org>
List-Unsubscribe: <https://mails.dpdk.org/options/test-report>,
 <mailto:test-report-request@dpdk.org?subject=unsubscribe>
List-Archive: <http://mails.dpdk.org/archives/test-report/>
List-Post: <mailto:test-report@dpdk.org>
List-Help: <mailto:test-report-request@dpdk.org?subject=help>
List-Subscribe: <https://mails.dpdk.org/listinfo/test-report>,
 <mailto:test-report-request@dpdk.org?subject=subscribe>
Errors-To: test-report-bounces@dpdk.org

Test-Label: iol-compile-arm64-testing
Test-Status: SUCCESS
http://dpdk.org/patch/138307

_Testing PASS_

Submitter: Wei Hu <weh@linux.microsoft.com>
Date: Wednesday, March 13 2024 09:03:40 
DPDK git baseline: Repo:dpdk
  Branch: master
  CommitID:544d6d79a6ff0964a79a57efb102e87fdbd107d9

138307 --> testing pass

Test environment and result as below:

+----------------------------------------+--------------------+
|              Environment               | dpdk_meson_compile |
+========================================+====================+
| Ubuntu 20.04 ARM SVE                   | PASS               |
+----------------------------------------+--------------------+
| Ubuntu 20.04 aarch32 GCC Cross Compile | PASS               |
+----------------------------------------+--------------------+
| Ubuntu 20.04 ARM GCC Cross Compile     | PASS               |
+----------------------------------------+--------------------+
| Debian 12 with MUSDK                   | PASS               |
+----------------------------------------+--------------------+
| Ubuntu 20.04 ARM Clang Cross Compile   | PASS               |
+----------------------------------------+--------------------+
| Fedora 38 (ARM)                        | PASS               |
+----------------------------------------+--------------------+
| Fedora 37 (ARM)                        | PASS               |
+----------------------------------------+--------------------+
| CentOS Stream 9 (ARM)                  | PASS               |
+----------------------------------------+--------------------+
| Debian 12 (arm)                        | PASS               |
+----------------------------------------+--------------------+
| Debian 11 (Buster) (ARM)               | PASS               |
+----------------------------------------+--------------------+


Ubuntu 20.04 ARM SVE
	Kernel: 5.4.0-80-generic
	Compiler: gcc 10.3.0 (Ubuntu 10.3.0-1ubuntu1~20.04)

Ubuntu 20.04 aarch32 GCC Cross Compile
	Kernel: 5.4.0-72-generic
	Compiler: gcc 9.3.0

Ubuntu 20.04 ARM GCC Cross Compile
	Kernel: 5.4.0-72-generic
	Compiler: aarch64-linux-gnu-gcc (Ubuntu 9.3.0-17ubuntu1~20.04) 9.3.0

Debian 12 with MUSDK
	Kernel: Container Host Kernel
	Compiler: gcc 12

Ubuntu 20.04 ARM Clang Cross Compile
	Kernel: 5.4.0-72-generic
	Compiler: clang version 10.0.0-4ubuntu1

Fedora 38 (ARM)
	Kernel: Depends on container host
	Compiler: gcc 13.1.1

Fedora 37 (ARM)
	Kernel: Depends on container host
	Compiler: gcc 12.3.1

CentOS Stream 9 (ARM)
	Kernel: Container Host Kernel
	Compiler: gcc 11.3.1

Debian 12 (arm)
	Kernel: Container Host Kernel
	Compiler: gcc 11

Debian 11 (Buster) (ARM)
	Kernel: Container Host Kernel
	Compiler: gcc 10.2.1

To view detailed results, visit:
https://lab.dpdk.org/results/dashboard/patchsets/29532/

UNH-IOL DPDK Community Lab

To manage your email subscriptions, visit: 
https://lab.dpdk.org/results/dashboard/preferences/subscriptions/