From mboxrd@z Thu Jan  1 00:00:00 1970
Return-Path: <test-report-bounces@dpdk.org>
Received: from mails.dpdk.org (mails.dpdk.org [217.70.189.124])
	by inbox.dpdk.org (Postfix) with ESMTP id 836E843CA1
	for <public@inbox.dpdk.org>; Wed, 13 Mar 2024 13:34:07 +0100 (CET)
Received: from mails.dpdk.org (localhost [127.0.0.1])
	by mails.dpdk.org (Postfix) with ESMTP id 480A542DD6;
	Wed, 13 Mar 2024 13:34:07 +0100 (CET)
Received: from mail-qv1-f99.google.com (mail-qv1-f99.google.com
 [209.85.219.99]) by mails.dpdk.org (Postfix) with ESMTP id 49E94402B8
 for <test-report@dpdk.org>; Wed, 13 Mar 2024 13:34:05 +0100 (CET)
Received: by mail-qv1-f99.google.com with SMTP id
 6a1803df08f44-68ee2c0a237so5969946d6.1
 for <test-report@dpdk.org>; Wed, 13 Mar 2024 05:34:05 -0700 (PDT)
DKIM-Signature: v=1; a=rsa-sha256; c=relaxed/relaxed;
 d=iol.unh.edu; s=unh-iol; t=1710333244; x=1710938044; darn=dpdk.org;
 h=references:in-reply-to:cc:to:from:subject:message-id:date:from:to
 :cc:subject:date:message-id:reply-to;
 bh=ZN5Z/xq1x6YenrSBTMeTSsZ4Prpcrxxoaz0kPOAgreQ=;
 b=CfPkeQoYN6fiOSHT0Tl5oxUxFShgJhGyBuPObUm7MiPrgCfsjZT/VrOPr/0vURKNen
 KnSXl+J5o43yrUaQxM7R5lKDz4sdPwTVXQsFEatZ+AvUOfuWJt3KAV9gan+LLhGtwQBN
 7cITRNjUiCbScbrwrINuTyA02UiypjqEooZ2k=
X-Google-DKIM-Signature: v=1; a=rsa-sha256; c=relaxed/relaxed;
 d=1e100.net; s=20230601; t=1710333244; x=1710938044;
 h=references:in-reply-to:cc:to:from:subject:message-id:date
 :x-gm-message-state:from:to:cc:subject:date:message-id:reply-to;
 bh=ZN5Z/xq1x6YenrSBTMeTSsZ4Prpcrxxoaz0kPOAgreQ=;
 b=pmjE6GvucJYPsi/QVttvkdXJeF/ebU6/JS/uiope81bYv0X3p+F2d4Jf5LUnx50XxB
 i0yBMjd5VgmAwWsweKOHTGxPveyA6Za3aVToSgb80/WgDSPokjHENLvC1HG6hqgW+5JP
 go+MXbBmGSNy8EfVsN4o8QPx5h/SW+X/QP6e7tlHL7IOcn+nOsHri3Xsp7AnV0RG0z96
 7w9khfRSkxhWLxDQ/mpCRdNXkqHvqUNkyj0XvD8jnDs7npjXiuqKs2cM/4nW5MvnjysC
 PoImEvGQDEc0bu0Hml68xFGlQkXflrlJNfGgJvobIFJnTxzpv1Zew5eEM52wAYJqzxJm
 YsZg==
X-Gm-Message-State: AOJu0YyZReXI03u2FsmE0icnDT8PO1B6OnA5ayGq+7H37OKwh4AD3Ds6
 q7z6tW4E7R9c1AzZpaJXb77gYlh+fgYTKzj9Qc5Efj/kRtmBxWjYoEOK/4Hx40S0wocqul30AOe
 UdPB/CbxtnvB3p2uS8acnJCQyHrtVw+UX/xGBAeM52gk6SHxTWgnh7xTd
X-Google-Smtp-Source: AGHT+IF2Hr5BQAfbWnehiT7e3oRM6hnADUwg0i8nGDxz4D7lwWu/uixMLWaLFgUS+mdByHmb/qr6qO7pHQAF
X-Received: by 2002:ad4:5d4c:0:b0:690:2069:d413 with SMTP id
 jk12-20020ad45d4c000000b006902069d413mr4505039qvb.6.1710333244795; 
 Wed, 13 Mar 2024 05:34:04 -0700 (PDT)
Received: from postal.iol.unh.edu (postal.iol.unh.edu.
 [2606:4100:3880:1234::84]) by smtp-relay.gmail.com with ESMTPS id
 iv3-20020ad45ce3000000b006911f7904ccsm61104qvb.24.2024.03.13.05.34.04
 (version=TLS1_2 cipher=ECDHE-ECDSA-AES128-GCM-SHA256 bits=128/128);
 Wed, 13 Mar 2024 05:34:04 -0700 (PDT)
X-Relaying-Domain: iol.unh.edu
Date: Wed, 13 Mar 2024 05:34:04 -0700 (PDT)
Message-ID: <65f19d3c.d40a0220.1b794.4a67SMTPIN_ADDED_MISSING@mx.google.com>
Received: from [172.21.0.8] (unknown [172.18.0.240])
 by postal.iol.unh.edu (Postfix) with ESMTP id 7E7846052471;
 Wed, 13 Mar 2024 08:34:04 -0400 (EDT)
Subject: |SUCCESS| pw138307 [PATCH] [v3,1/1] net/mana: add vlan tagging suppo
From: dpdklab@iol.unh.edu
To: Test Report <test-report@dpdk.org>
Cc: dpdk-test-reports@iol.unh.edu
In-Reply-To: <20240313090341.373037-1-weh@linux.microsoft.com>
References: <20240313090341.373037-1-weh@linux.microsoft.com>
Content-Type: text/plain
X-BeenThere: test-report@dpdk.org
X-Mailman-Version: 2.1.29
Precedence: list
List-Id: automatic DPDK test reports <test-report.dpdk.org>
List-Unsubscribe: <https://mails.dpdk.org/options/test-report>,
 <mailto:test-report-request@dpdk.org?subject=unsubscribe>
List-Archive: <http://mails.dpdk.org/archives/test-report/>
List-Post: <mailto:test-report@dpdk.org>
List-Help: <mailto:test-report-request@dpdk.org?subject=help>
List-Subscribe: <https://mails.dpdk.org/listinfo/test-report>,
 <mailto:test-report-request@dpdk.org?subject=subscribe>
Errors-To: test-report-bounces@dpdk.org

Test-Label: iol-abi-testing
Test-Status: SUCCESS
http://dpdk.org/patch/138307

_Testing PASS_

Submitter: Wei Hu <weh@linux.microsoft.com>
Date: Wednesday, March 13 2024 09:03:40 
DPDK git baseline: Repo:dpdk
  Branch: master
  CommitID:544d6d79a6ff0964a79a57efb102e87fdbd107d9

138307 --> testing pass

Test environment and result as below:

+------------------+----------+
|   Environment    | abi_test |
+==================+==========+
| Fedora 37        | PASS     |
+------------------+----------+
| Ubuntu 22.04     | PASS     |
+------------------+----------+
| CentOS Stream 8  | PASS     |
+------------------+----------+
| RHEL8            | PASS     |
+------------------+----------+
| openSUSE Leap 15 | PASS     |
+------------------+----------+
| Debian Bullseye  | PASS     |
+------------------+----------+
| Fedora 38        | PASS     |
+------------------+----------+
| Debian 12 (arm)  | PASS     |
+------------------+----------+
| CentOS Stream 9  | PASS     |
+------------------+----------+


Fedora 37
	Kernel: Depends on container host system
	Compiler: gcc 12.3.1

Ubuntu 22.04
	Kernel: 4.18.0-240.10.1.el8_3.x86_64
	Compiler: gcc 11.3.0

CentOS Stream 8
	Kernel: 4.18.0-240.10.1.el8_3.x86_64
	Compiler: gcc 8.4.1 20200928

RHEL8
	Kernel: 4.18.0-240.10.1.el8_3.x86_64
	Compiler: gcc 8.3.1 20191121 (Red Hat 8.3.1-5)

openSUSE Leap 15
	Kernel: 4.18.0-240.10.1.el8_3.x86_64
	Compiler: gcc 7.5.0

Debian Bullseye
	Kernel: 5.4.0-122-generic
	Compiler: gcc 10.2.1-6

Fedora 38
	Kernel: Depends on container host
	Compiler: clang 16.0.3

Debian 12 (arm)
	Kernel: Container Host Kernel
	Compiler: gcc 11

CentOS Stream 9
	Kernel: 4.18.0-240.10.1.el8_3.x86_64
	Compiler: gcc 11.3.1 20220421

To view detailed results, visit:
https://lab.dpdk.org/results/dashboard/patchsets/29532/

UNH-IOL DPDK Community Lab

To manage your email subscriptions, visit: 
https://lab.dpdk.org/results/dashboard/preferences/subscriptions/