From mboxrd@z Thu Jan  1 00:00:00 1970
Return-Path: <test-report-bounces@dpdk.org>
Received: from mails.dpdk.org (mails.dpdk.org [217.70.189.124])
	by inbox.dpdk.org (Postfix) with ESMTP id 7BB4843CA2
	for <public@inbox.dpdk.org>; Wed, 13 Mar 2024 13:34:35 +0100 (CET)
Received: from mails.dpdk.org (localhost [127.0.0.1])
	by mails.dpdk.org (Postfix) with ESMTP id 67C3D42D28;
	Wed, 13 Mar 2024 13:34:35 +0100 (CET)
Received: from mail-pl1-f227.google.com (mail-pl1-f227.google.com
 [209.85.214.227])
 by mails.dpdk.org (Postfix) with ESMTP id BB6C8402B8
 for <test-report@dpdk.org>; Wed, 13 Mar 2024 13:34:19 +0100 (CET)
Received: by mail-pl1-f227.google.com with SMTP id
 d9443c01a7336-1dddad37712so325725ad.3
 for <test-report@dpdk.org>; Wed, 13 Mar 2024 05:34:19 -0700 (PDT)
DKIM-Signature: v=1; a=rsa-sha256; c=relaxed/relaxed;
 d=iol.unh.edu; s=unh-iol; t=1710333259; x=1710938059; darn=dpdk.org;
 h=references:in-reply-to:cc:to:from:subject:message-id:date:from:to
 :cc:subject:date:message-id:reply-to;
 bh=S7hNPEMuZV+V6QjSiyCADARiS0NXgdvD1IOAwHyTvt8=;
 b=WKu35S0t5a5AIoDhv4/BafRCkVn2F5YKT2eS96oNEHMCdV9o7Din34fbjj0aP2uY0f
 KA6myqi7YgKZMdSIMc1BEisolxol5q7vrK0cU0NlpvJVzXx9NsTUuXRG0JWhB8h6KiOQ
 ckO1IPocVnh2BxG0a0cNSc9QdPqT8s7x3VFqo=
X-Google-DKIM-Signature: v=1; a=rsa-sha256; c=relaxed/relaxed;
 d=1e100.net; s=20230601; t=1710333259; x=1710938059;
 h=references:in-reply-to:cc:to:from:subject:message-id:date
 :x-gm-message-state:from:to:cc:subject:date:message-id:reply-to;
 bh=S7hNPEMuZV+V6QjSiyCADARiS0NXgdvD1IOAwHyTvt8=;
 b=aHl9kyQnOyA6bEKEea4+5EVm3Kko1SzP8/XSx+44D5h2B41hHXNKmZjA6y0K4fDjkw
 XTvFcJyikg288cZwV4oIwGfcQOpt8jD/ZsxKJSEkMtMWmwZP7UJBobRPalPVIJ4Jhub3
 Fwet/Z/7Luk6EUfUCzQkWK/sYdp6IkxpIKklOsioZrWnGqA6WnmImxvk8xu3Pj/O23M8
 kN5ElVK9evZ6Avd22HLOPuI2OIv98JoS5WaOCXZQz7ww34MRlHGCTKaGul5JbyXaVu6N
 fNbk6YsT9Vtc3rXTaesbZSFKixalqYPIzWlZh9E7TyLMge8rDloBwZhgBMIEg8M2SXVv
 OeXg==
X-Gm-Message-State: AOJu0Yxn0CGvvmVRLaQ4l9+5DMi/OZEWR+CV0KcGIiZ3DSATCzYiK98D
 RVNX3lQdEwfrSpLQ/qbFcOkd9vTmyjO1NVRjRxUhZk1+LkHDLycWAkxPxm+0PB01X+oeGpDBgBD
 wb0vGxNrUBG8agx8uVGPBzeZs8AZH9EEjgiPpnOY9
X-Google-Smtp-Source: AGHT+IHbBfytfHJdxYKKK81X7Vfys+ZoA6wP0CoXs5ScJwpre8UbYlZLst8C6g3its7UUHdsZZLTJ85YpG0Y
X-Received: by 2002:a17:902:f605:b0:1dd:da26:8597 with SMTP id
 n5-20020a170902f60500b001ddda268597mr260838plg.66.1710333259064; 
 Wed, 13 Mar 2024 05:34:19 -0700 (PDT)
Received: from postal.iol.unh.edu (postal.iol.unh.edu. [132.177.123.84])
 by smtp-relay.gmail.com with ESMTPS id
 u6-20020a170902bf4600b001d936afdd34sm222037pls.135.2024.03.13.05.34.18
 (version=TLS1_2 cipher=ECDHE-ECDSA-AES128-GCM-SHA256 bits=128/128);
 Wed, 13 Mar 2024 05:34:19 -0700 (PDT)
X-Relaying-Domain: iol.unh.edu
Date: Wed, 13 Mar 2024 05:34:19 -0700 (PDT)
Message-ID: <65f19d4b.170a0220.e3aaf.d2e9SMTPIN_ADDED_MISSING@mx.google.com>
Received: from [172.17.0.7] (unknown [172.18.0.215])
 by postal.iol.unh.edu (Postfix) with ESMTP id 3C7496052471;
 Wed, 13 Mar 2024 08:34:18 -0400 (EDT)
Subject: |SUCCESS| pw138307 [PATCH] [v3,1/1] net/mana: add vlan tagging suppo
From: dpdklab@iol.unh.edu
To: Test Report <test-report@dpdk.org>
Cc: dpdk-test-reports@iol.unh.edu
In-Reply-To: <20240313090341.373037-1-weh@linux.microsoft.com>
References: <20240313090341.373037-1-weh@linux.microsoft.com>
Content-Type: text/plain
X-BeenThere: test-report@dpdk.org
X-Mailman-Version: 2.1.29
Precedence: list
List-Id: automatic DPDK test reports <test-report.dpdk.org>
List-Unsubscribe: <https://mails.dpdk.org/options/test-report>,
 <mailto:test-report-request@dpdk.org?subject=unsubscribe>
List-Archive: <http://mails.dpdk.org/archives/test-report/>
List-Post: <mailto:test-report@dpdk.org>
List-Help: <mailto:test-report-request@dpdk.org?subject=help>
List-Subscribe: <https://mails.dpdk.org/listinfo/test-report>,
 <mailto:test-report-request@dpdk.org?subject=subscribe>
Errors-To: test-report-bounces@dpdk.org

Test-Label: iol-unit-arm64-testing
Test-Status: SUCCESS
http://dpdk.org/patch/138307

_Testing PASS_

Submitter: Wei Hu <weh@linux.microsoft.com>
Date: Wednesday, March 13 2024 09:03:40 
DPDK git baseline: Repo:dpdk
  Branch: master
  CommitID:544d6d79a6ff0964a79a57efb102e87fdbd107d9

138307 --> testing pass

Test environment and result as below:

+--------------------------+------------------------------+---------------------------+--------------+----------------+
|       Environment        | cryptodev_sw_snow3g_autotest | cryptodev_sw_zuc_autotest | lpm_autotest | dpdk_unit_test |
+==========================+==============================+===========================+==============+================+
| Debian 12 (arm)          | PASS                         | PASS                      | SKIPPED      | PASS           |
+--------------------------+------------------------------+---------------------------+--------------+----------------+
| Ubuntu 20.04 ARM SVE     | SKIPPED                      | SKIPPED                   | PASS         | SKIPPED        |
+--------------------------+------------------------------+---------------------------+--------------+----------------+
| Debian 11 (Buster) (ARM) | SKIPPED                      | SKIPPED                   | SKIPPED      | PASS           |
+--------------------------+------------------------------+---------------------------+--------------+----------------+
| Fedora 37 (ARM)          | SKIPPED                      | SKIPPED                   | SKIPPED      | PASS           |
+--------------------------+------------------------------+---------------------------+--------------+----------------+
| CentOS Stream 9 (ARM)    | SKIPPED                      | SKIPPED                   | SKIPPED      | PASS           |
+--------------------------+------------------------------+---------------------------+--------------+----------------+
| Fedora 38 (ARM)          | SKIPPED                      | SKIPPED                   | SKIPPED      | PASS           |
+--------------------------+------------------------------+---------------------------+--------------+----------------+


Debian 12 (arm)
	Kernel: Container Host Kernel
	Compiler: gcc 11

Ubuntu 20.04 ARM SVE
	Kernel: 5.4.0-80-generic
	Compiler: gcc 10.3.0 (Ubuntu 10.3.0-1ubuntu1~20.04)

Debian 11 (Buster) (ARM)
	Kernel: Container Host Kernel
	Compiler: gcc 10.2.1

Fedora 37 (ARM)
	Kernel: Depends on container host
	Compiler: gcc 12.3.1

CentOS Stream 9 (ARM)
	Kernel: Container Host Kernel
	Compiler: gcc 11.3.1

Fedora 38 (ARM)
	Kernel: Depends on container host
	Compiler: gcc 13.1.1

To view detailed results, visit:
https://lab.dpdk.org/results/dashboard/patchsets/29532/

UNH-IOL DPDK Community Lab

To manage your email subscriptions, visit: 
https://lab.dpdk.org/results/dashboard/preferences/subscriptions/