From mboxrd@z Thu Jan  1 00:00:00 1970
Return-Path: <test-report-bounces@dpdk.org>
Received: from mails.dpdk.org (mails.dpdk.org [217.70.189.124])
	by inbox.dpdk.org (Postfix) with ESMTP id 7E16843CA3
	for <public@inbox.dpdk.org>; Wed, 13 Mar 2024 13:34:35 +0100 (CET)
Received: from mails.dpdk.org (localhost [127.0.0.1])
	by mails.dpdk.org (Postfix) with ESMTP id 712D442DD6;
	Wed, 13 Mar 2024 13:34:35 +0100 (CET)
Received: from mail-pf1-f226.google.com (mail-pf1-f226.google.com
 [209.85.210.226])
 by mails.dpdk.org (Postfix) with ESMTP id 74009402B8
 for <test-report@dpdk.org>; Wed, 13 Mar 2024 13:34:29 +0100 (CET)
Received: by mail-pf1-f226.google.com with SMTP id
 d2e1a72fcca58-6e6b54a28d0so729554b3a.2
 for <test-report@dpdk.org>; Wed, 13 Mar 2024 05:34:29 -0700 (PDT)
DKIM-Signature: v=1; a=rsa-sha256; c=relaxed/relaxed;
 d=iol.unh.edu; s=unh-iol; t=1710333268; x=1710938068; darn=dpdk.org;
 h=references:in-reply-to:cc:to:from:subject:message-id:date:from:to
 :cc:subject:date:message-id:reply-to;
 bh=JAIDoJL4bumWroyxL8O5qwLPLwdnDNOp9ZBhW9lbQt0=;
 b=bZrpYBYAgbOgftolmNWN91T8Xz5TR3bniUfWLuqygDded5tMeZgZe00EP0hRFxjDiZ
 VyQHD2ZmTsylfKKaAclBqIdUvn0wNfY3cH16Jl3i/Uxqh5XQ5gsrKi/gnHdHwhBE4IMi
 MgvDoU1bdN4HWb3YQHfFo5Uum7BNbGljBsRl0=
X-Google-DKIM-Signature: v=1; a=rsa-sha256; c=relaxed/relaxed;
 d=1e100.net; s=20230601; t=1710333268; x=1710938068;
 h=references:in-reply-to:cc:to:from:subject:message-id:date
 :x-gm-message-state:from:to:cc:subject:date:message-id:reply-to;
 bh=JAIDoJL4bumWroyxL8O5qwLPLwdnDNOp9ZBhW9lbQt0=;
 b=U21/0F9GxIx8sOJqYZAWLFJ5KD7qZg768Vtytt+bKGW5lTmwz43lemK5a9oseEz0ph
 qryJJjuIyagyEnIExVTkjzcmkL0qdrXih9sVIrDz/u8fa6l0YVx7UyyP2ey7dD7JyaCQ
 u4zIGTweCYMjiXQjpuOBbqd3uvJLO2DOVDqNQlkGXI6FKhf+BWtc1mXPo5LwvLa7VG3L
 RFrCJKz+cuRb4gIy9dBgbBZXlow0LP5C53UgMQ1o5xHgE7SfYCZT/4NDc0Q1leMMtFG8
 yxOBDTzHibHToAPhq1ILxcQUoJFQKF9HjXqSDCBZduZhAhoTvzeDT+VtfcknpkCquon4
 FEtQ==
X-Gm-Message-State: AOJu0YwAWC9J0cHe9yrR7oardfNFyEESY4pVYhbkqRnlYAeWldOo4g1f
 b454GDBcBQdQkiC9azFiNWu2NDUugX7imhhIBADSvnsiR/7mcEMYK3Z94ug++mGAENKijDp3dUB
 NULJ59l5bMiQYhlAxg2zG6tPbrgJ9ewcnoB58QJ3T7/sPVsMVUr6cHqFg
X-Google-Smtp-Source: AGHT+IEYs79AMDgIkvyUUCfPJiiML6YsyPIQwfMf2RkyTbpBpZR1R88y9Ny5bNMrtyviZIlz7t0YrWZLrM+D
X-Received: by 2002:a05:6a20:d39a:b0:1a1:87c7:2d03 with SMTP id
 iq26-20020a056a20d39a00b001a187c72d03mr11351718pzb.33.1710333268644; 
 Wed, 13 Mar 2024 05:34:28 -0700 (PDT)
Received: from postal.iol.unh.edu (postal.iol.unh.edu.
 [2606:4100:3880:1234::84]) by smtp-relay.gmail.com with ESMTPS id
 m6-20020a056a00080600b006e68b4631c7sm458499pfk.28.2024.03.13.05.34.28
 (version=TLS1_2 cipher=ECDHE-ECDSA-AES128-GCM-SHA256 bits=128/128);
 Wed, 13 Mar 2024 05:34:28 -0700 (PDT)
X-Relaying-Domain: iol.unh.edu
Date: Wed, 13 Mar 2024 05:34:28 -0700 (PDT)
Message-ID: <65f19d54.050a0220.19a21.c76aSMTPIN_ADDED_MISSING@mx.google.com>
Received: from [172.17.0.8] (unknown [172.18.0.217])
 by postal.iol.unh.edu (Postfix) with ESMTP id D15EB6052471;
 Wed, 13 Mar 2024 08:34:27 -0400 (EDT)
Subject: |SUCCESS| pw138307 [PATCH] [v3,1/1] net/mana: add vlan tagging suppo
From: dpdklab@iol.unh.edu
To: Test Report <test-report@dpdk.org>
Cc: dpdk-test-reports@iol.unh.edu
In-Reply-To: <20240313090341.373037-1-weh@linux.microsoft.com>
References: <20240313090341.373037-1-weh@linux.microsoft.com>
Content-Type: text/plain
X-BeenThere: test-report@dpdk.org
X-Mailman-Version: 2.1.29
Precedence: list
List-Id: automatic DPDK test reports <test-report.dpdk.org>
List-Unsubscribe: <https://mails.dpdk.org/options/test-report>,
 <mailto:test-report-request@dpdk.org?subject=unsubscribe>
List-Archive: <http://mails.dpdk.org/archives/test-report/>
List-Post: <mailto:test-report@dpdk.org>
List-Help: <mailto:test-report-request@dpdk.org?subject=help>
List-Subscribe: <https://mails.dpdk.org/listinfo/test-report>,
 <mailto:test-report-request@dpdk.org?subject=subscribe>
Errors-To: test-report-bounces@dpdk.org

Test-Label: iol-compile-arm64-testing
Test-Status: SUCCESS
http://dpdk.org/patch/138307

_Testing PASS_

Submitter: Wei Hu <weh@linux.microsoft.com>
Date: Wednesday, March 13 2024 09:03:40 
DPDK git baseline: Repo:dpdk
  Branch: master
  CommitID:544d6d79a6ff0964a79a57efb102e87fdbd107d9

138307 --> testing pass

Test environment and result as below:

+----------------------------------------+--------------------+
|              Environment               | dpdk_meson_compile |
+========================================+====================+
| Ubuntu 20.04 ARM SVE                   | PASS               |
+----------------------------------------+--------------------+
| Ubuntu 20.04 aarch32 GCC Cross Compile | PASS               |
+----------------------------------------+--------------------+
| Ubuntu 20.04 ARM GCC Cross Compile     | PASS               |
+----------------------------------------+--------------------+
| Debian 12 with MUSDK                   | PASS               |
+----------------------------------------+--------------------+
| Ubuntu 20.04 ARM Clang Cross Compile   | PASS               |
+----------------------------------------+--------------------+
| Fedora 38 (ARM)                        | PASS               |
+----------------------------------------+--------------------+
| Fedora 37 (ARM)                        | PASS               |
+----------------------------------------+--------------------+
| CentOS Stream 9 (ARM)                  | PASS               |
+----------------------------------------+--------------------+
| Debian 12 (arm)                        | PASS               |
+----------------------------------------+--------------------+
| Debian 11 (Buster) (ARM)               | PASS               |
+----------------------------------------+--------------------+
| Ubuntu 20.04 (ARM)                     | PASS               |
+----------------------------------------+--------------------+


Ubuntu 20.04 ARM SVE
	Kernel: 5.4.0-80-generic
	Compiler: gcc 10.3.0 (Ubuntu 10.3.0-1ubuntu1~20.04)

Ubuntu 20.04 aarch32 GCC Cross Compile
	Kernel: 5.4.0-72-generic
	Compiler: gcc 9.3.0

Ubuntu 20.04 ARM GCC Cross Compile
	Kernel: 5.4.0-72-generic
	Compiler: aarch64-linux-gnu-gcc (Ubuntu 9.3.0-17ubuntu1~20.04) 9.3.0

Debian 12 with MUSDK
	Kernel: Container Host Kernel
	Compiler: gcc 12

Ubuntu 20.04 ARM Clang Cross Compile
	Kernel: 5.4.0-72-generic
	Compiler: clang version 10.0.0-4ubuntu1

Fedora 38 (ARM)
	Kernel: Depends on container host
	Compiler: gcc 13.1.1

Fedora 37 (ARM)
	Kernel: Depends on container host
	Compiler: gcc 12.3.1

CentOS Stream 9 (ARM)
	Kernel: Container Host Kernel
	Compiler: gcc 11.3.1

Debian 12 (arm)
	Kernel: Container Host Kernel
	Compiler: gcc 11

Debian 11 (Buster) (ARM)
	Kernel: Container Host Kernel
	Compiler: gcc 10.2.1

Ubuntu 20.04 (ARM)
	Kernel: Container Host Kernel
	Compiler: gcc 9.4.0

To view detailed results, visit:
https://lab.dpdk.org/results/dashboard/patchsets/29532/

UNH-IOL DPDK Community Lab

To manage your email subscriptions, visit: 
https://lab.dpdk.org/results/dashboard/preferences/subscriptions/