From mboxrd@z Thu Jan  1 00:00:00 1970
Return-Path: <test-report-bounces@dpdk.org>
Received: from mails.dpdk.org (mails.dpdk.org [217.70.189.124])
	by inbox.dpdk.org (Postfix) with ESMTP id 3274743CA1
	for <public@inbox.dpdk.org>; Wed, 13 Mar 2024 13:36:05 +0100 (CET)
Received: from mails.dpdk.org (localhost [127.0.0.1])
	by mails.dpdk.org (Postfix) with ESMTP id 2E99642DDE;
	Wed, 13 Mar 2024 13:36:05 +0100 (CET)
Received: from mail-yw1-f226.google.com (mail-yw1-f226.google.com
 [209.85.128.226])
 by mails.dpdk.org (Postfix) with ESMTP id 1705C402B8
 for <test-report@dpdk.org>; Wed, 13 Mar 2024 13:35:30 +0100 (CET)
Received: by mail-yw1-f226.google.com with SMTP id
 00721157ae682-609f3ca61e0so65012697b3.3
 for <test-report@dpdk.org>; Wed, 13 Mar 2024 05:35:30 -0700 (PDT)
DKIM-Signature: v=1; a=rsa-sha256; c=relaxed/relaxed;
 d=iol.unh.edu; s=unh-iol; t=1710333329; x=1710938129; darn=dpdk.org;
 h=references:in-reply-to:cc:to:from:subject:message-id:date:from:to
 :cc:subject:date:message-id:reply-to;
 bh=ZN5Z/xq1x6YenrSBTMeTSsZ4Prpcrxxoaz0kPOAgreQ=;
 b=eqnYrFiMF7+ixdyTqojcFUo6/eF8UWPZi2TznQw1BFJnA2hQxSEWmT9BB5670K3Xys
 9f+ZS9Nd2750xdO6RsOvKyihhjKp/aSatsF+nwPcSWZRuTLuDZKXSpcEbsQlXVOHGDjK
 2Gbw6fI8LmE3FaWqdyNUswS65e/bEcH2C2T7w=
X-Google-DKIM-Signature: v=1; a=rsa-sha256; c=relaxed/relaxed;
 d=1e100.net; s=20230601; t=1710333329; x=1710938129;
 h=references:in-reply-to:cc:to:from:subject:message-id:date
 :x-gm-message-state:from:to:cc:subject:date:message-id:reply-to;
 bh=ZN5Z/xq1x6YenrSBTMeTSsZ4Prpcrxxoaz0kPOAgreQ=;
 b=kdCOxULADp3vE5V6TwrP3gZwsXbrTfH5uL4WPLBIpiDHavhWKpFqYwqbN/y189+zYn
 xpubqqiUYFtPbhk/tk/6B6HdZKWlvPNW+NPDG9s1bEIXsFUdAxJRSSJUa95J60rbjEm6
 v9i/D2TCkf/Ou8d8Kz237gAkd6s523dKrdQV+7EXSL96b+8DLdx/BcuG2RIkAXXl9iMX
 yc1ZYhDzhhajpNUp653PmIwZ3rqa2p3ew3gz8cLfZ2YISFEfJOvf52UqoO/jBOwm+qcs
 5A+GlU7HSJSiHCmQAVz0X4CJbhNYxxxKoPgaxFf13mBvALxQSUhO5eBx7ht1Pv1W1L55
 ZhZA==
X-Gm-Message-State: AOJu0YyRrejyseTTG2+NZO4PaJgGqaLnSQCYYg16xWPzpZTXVhZmasY7
 fuZPsvHa+9kLyIbcy6FeRVfMctY2EeZM0Ji8w6YVu2R96OP07yVr/ydUr0Z6ScL/v7UZMjCRuOF
 SiQqency5BMl5jvDVo8wouE/jYSWJ1lUuS9A0ExiZ
X-Google-Smtp-Source: AGHT+IHIL3nIxvs4jx8jxkkpeoNFpFtudqgqfyYyDf1M4kAGEh102dxaw12EHkRdKsOFAhkHcBkdQi9VQbaz
X-Received: by 2002:a81:914e:0:b0:609:fb3d:71ab with SMTP id
 i75-20020a81914e000000b00609fb3d71abmr2266043ywg.46.1710333329569; 
 Wed, 13 Mar 2024 05:35:29 -0700 (PDT)
Received: from postal.iol.unh.edu (postal.iol.unh.edu. [132.177.123.84])
 by smtp-relay.gmail.com with ESMTPS id
 z1-20020a0dd701000000b00609ed1ab10csm519369ywd.30.2024.03.13.05.35.29
 (version=TLS1_2 cipher=ECDHE-ECDSA-AES128-GCM-SHA256 bits=128/128);
 Wed, 13 Mar 2024 05:35:29 -0700 (PDT)
X-Relaying-Domain: iol.unh.edu
Date: Wed, 13 Mar 2024 05:35:29 -0700 (PDT)
Message-ID: <65f19d91.0d0a0220.1699c.22bfSMTPIN_ADDED_MISSING@mx.google.com>
Received: from [172.17.0.8] (unknown [172.18.0.217])
 by postal.iol.unh.edu (Postfix) with ESMTP id 373646052471;
 Wed, 13 Mar 2024 08:35:29 -0400 (EDT)
Subject: |SUCCESS| pw138307 [PATCH] [v3,1/1] net/mana: add vlan tagging suppo
From: dpdklab@iol.unh.edu
To: Test Report <test-report@dpdk.org>
Cc: dpdk-test-reports@iol.unh.edu
In-Reply-To: <20240313090341.373037-1-weh@linux.microsoft.com>
References: <20240313090341.373037-1-weh@linux.microsoft.com>
Content-Type: text/plain
X-BeenThere: test-report@dpdk.org
X-Mailman-Version: 2.1.29
Precedence: list
List-Id: automatic DPDK test reports <test-report.dpdk.org>
List-Unsubscribe: <https://mails.dpdk.org/options/test-report>,
 <mailto:test-report-request@dpdk.org?subject=unsubscribe>
List-Archive: <http://mails.dpdk.org/archives/test-report/>
List-Post: <mailto:test-report@dpdk.org>
List-Help: <mailto:test-report-request@dpdk.org?subject=help>
List-Subscribe: <https://mails.dpdk.org/listinfo/test-report>,
 <mailto:test-report-request@dpdk.org?subject=subscribe>
Errors-To: test-report-bounces@dpdk.org

Test-Label: iol-abi-testing
Test-Status: SUCCESS
http://dpdk.org/patch/138307

_Testing PASS_

Submitter: Wei Hu <weh@linux.microsoft.com>
Date: Wednesday, March 13 2024 09:03:40 
DPDK git baseline: Repo:dpdk
  Branch: master
  CommitID:544d6d79a6ff0964a79a57efb102e87fdbd107d9

138307 --> testing pass

Test environment and result as below:

+------------------+----------+
|   Environment    | abi_test |
+==================+==========+
| Fedora 37        | PASS     |
+------------------+----------+
| Ubuntu 22.04     | PASS     |
+------------------+----------+
| CentOS Stream 8  | PASS     |
+------------------+----------+
| RHEL8            | PASS     |
+------------------+----------+
| openSUSE Leap 15 | PASS     |
+------------------+----------+
| Debian Bullseye  | PASS     |
+------------------+----------+
| Fedora 38        | PASS     |
+------------------+----------+
| Debian 12 (arm)  | PASS     |
+------------------+----------+
| CentOS Stream 9  | PASS     |
+------------------+----------+


Fedora 37
	Kernel: Depends on container host system
	Compiler: gcc 12.3.1

Ubuntu 22.04
	Kernel: 4.18.0-240.10.1.el8_3.x86_64
	Compiler: gcc 11.3.0

CentOS Stream 8
	Kernel: 4.18.0-240.10.1.el8_3.x86_64
	Compiler: gcc 8.4.1 20200928

RHEL8
	Kernel: 4.18.0-240.10.1.el8_3.x86_64
	Compiler: gcc 8.3.1 20191121 (Red Hat 8.3.1-5)

openSUSE Leap 15
	Kernel: 4.18.0-240.10.1.el8_3.x86_64
	Compiler: gcc 7.5.0

Debian Bullseye
	Kernel: 5.4.0-122-generic
	Compiler: gcc 10.2.1-6

Fedora 38
	Kernel: Depends on container host
	Compiler: clang 16.0.3

Debian 12 (arm)
	Kernel: Container Host Kernel
	Compiler: gcc 11

CentOS Stream 9
	Kernel: 4.18.0-240.10.1.el8_3.x86_64
	Compiler: gcc 11.3.1 20220421

To view detailed results, visit:
https://lab.dpdk.org/results/dashboard/patchsets/29532/

UNH-IOL DPDK Community Lab

To manage your email subscriptions, visit: 
https://lab.dpdk.org/results/dashboard/preferences/subscriptions/