From mboxrd@z Thu Jan  1 00:00:00 1970
Return-Path: <test-report-bounces@dpdk.org>
Received: from mails.dpdk.org (mails.dpdk.org [217.70.189.124])
	by inbox.dpdk.org (Postfix) with ESMTP id C372543C9F
	for <public@inbox.dpdk.org>; Wed, 13 Mar 2024 13:37:15 +0100 (CET)
Received: from mails.dpdk.org (localhost [127.0.0.1])
	by mails.dpdk.org (Postfix) with ESMTP id BFBF742E0B;
	Wed, 13 Mar 2024 13:37:15 +0100 (CET)
Received: from mail-io1-f99.google.com (mail-io1-f99.google.com
 [209.85.166.99]) by mails.dpdk.org (Postfix) with ESMTP id 052D1402B8
 for <test-report@dpdk.org>; Wed, 13 Mar 2024 13:37:00 +0100 (CET)
Received: by mail-io1-f99.google.com with SMTP id
 ca18e2360f4ac-7beda6a274bso129927339f.2
 for <test-report@dpdk.org>; Wed, 13 Mar 2024 05:36:59 -0700 (PDT)
DKIM-Signature: v=1; a=rsa-sha256; c=relaxed/relaxed;
 d=iol.unh.edu; s=unh-iol; t=1710333419; x=1710938219; darn=dpdk.org;
 h=references:in-reply-to:cc:to:from:subject:message-id:date:from:to
 :cc:subject:date:message-id:reply-to;
 bh=2h6z8qteySydoxuQko8fgzJ0aPqEe8UaNkcgG5tVYxk=;
 b=TywLnDs+3WnBTzJTmt/WdQXC64h+1U8CESpbCwKL6tYkXRfGqk+2GN2wOeRunYDIpq
 nRINk0VRNYEcf3qhvDPF6slr81il7Vug8ant9KEAB0S0dWSGSSVo5StylFmOtWrJPoPC
 RqoDAcBCuY80PfrlTyLH2cPlUh/IFCwQ+MyXQ=
X-Google-DKIM-Signature: v=1; a=rsa-sha256; c=relaxed/relaxed;
 d=1e100.net; s=20230601; t=1710333419; x=1710938219;
 h=references:in-reply-to:cc:to:from:subject:message-id:date
 :x-gm-message-state:from:to:cc:subject:date:message-id:reply-to;
 bh=2h6z8qteySydoxuQko8fgzJ0aPqEe8UaNkcgG5tVYxk=;
 b=in6K3i8PM0bFVM6E/ynFjB1dNSUTJkO7EnBiRRKGUL1IuNwQiLKRCDr/o9STEUctO2
 VG2iaYNmwvTalFC1zR4gHoNNta5nKym7YMhfZ1wnkdyn+jXGbu6AKbU07MMJaQ17M4KT
 dfN9s+fN9emP2ERIvT2RW/CbkggYx24Bqt/wgC+N5KPjCgGmvY0O6MndAecUPL7T0bD+
 f4eGGykl2yoaRV0WHGa6DfmmTdgtRuwATkKeSbTTB2BUYLaVjCkcH5OjkqAhhfnWJh2H
 lsYFQTyjfvKH3eXd8qrFXUyM/3I8CPGNFHTdUBE+wv9gTjYqQGwTPOFLOxpmmmU2A96/
 ksqQ==
X-Gm-Message-State: AOJu0Yw16C2rqXgmn2Iu35TQ56K35IdFhO7fXe2Gamw0645tFHBD9h5n
 ChSvLJCuHR+07WlrRDPv5SflJx6F9uj9YigtshXZ8z+/eo4xgSrKjzp9l6Um7EKmVq7ywJQl7tw
 SyVhO7lnX4fDuyZTvgfpVONIFg1H65NPICFEiRRFH
X-Google-Smtp-Source: AGHT+IF+NkUW+RKe3s/xkVfWj41s4cJ/5zlyoE8tQk0X/8bGi2OXhzdYFVsWQMQaVBbam1vxX+s2AF0KOtnk
X-Received: by 2002:a05:6602:3fc4:b0:7c8:d8e3:6386 with SMTP id
 fc4-20020a0566023fc400b007c8d8e36386mr3113847iob.13.1710333419456; 
 Wed, 13 Mar 2024 05:36:59 -0700 (PDT)
Received: from postal.iol.unh.edu (postal.iol.unh.edu. [132.177.123.84])
 by smtp-relay.gmail.com with ESMTPS id
 y9-20020a02a389000000b004770c20638esm80714jak.31.2024.03.13.05.36.59
 (version=TLS1_2 cipher=ECDHE-ECDSA-AES128-GCM-SHA256 bits=128/128);
 Wed, 13 Mar 2024 05:36:59 -0700 (PDT)
X-Relaying-Domain: iol.unh.edu
Date: Wed, 13 Mar 2024 05:36:59 -0700 (PDT)
Message-ID: <65f19deb.020a0220.63b7b.4c6bSMTPIN_ADDED_MISSING@mx.google.com>
Received: from [172.17.0.8] (unknown [172.18.0.217])
 by postal.iol.unh.edu (Postfix) with ESMTP id 009DA6052471;
 Wed, 13 Mar 2024 08:36:59 -0400 (EDT)
Subject: |SUCCESS| pw138307 [PATCH] [v3,1/1] net/mana: add vlan tagging suppo
From: dpdklab@iol.unh.edu
To: Test Report <test-report@dpdk.org>
Cc: dpdk-test-reports@iol.unh.edu
In-Reply-To: <20240313090341.373037-1-weh@linux.microsoft.com>
References: <20240313090341.373037-1-weh@linux.microsoft.com>
Content-Type: text/plain
X-BeenThere: test-report@dpdk.org
X-Mailman-Version: 2.1.29
Precedence: list
List-Id: automatic DPDK test reports <test-report.dpdk.org>
List-Unsubscribe: <https://mails.dpdk.org/options/test-report>,
 <mailto:test-report-request@dpdk.org?subject=unsubscribe>
List-Archive: <http://mails.dpdk.org/archives/test-report/>
List-Post: <mailto:test-report@dpdk.org>
List-Help: <mailto:test-report-request@dpdk.org?subject=help>
List-Subscribe: <https://mails.dpdk.org/listinfo/test-report>,
 <mailto:test-report-request@dpdk.org?subject=subscribe>
Errors-To: test-report-bounces@dpdk.org

Test-Label: iol-unit-arm64-testing
Test-Status: SUCCESS
http://dpdk.org/patch/138307

_Testing PASS_

Submitter: Wei Hu <weh@linux.microsoft.com>
Date: Wednesday, March 13 2024 09:03:40 
DPDK git baseline: Repo:dpdk
  Branch: master
  CommitID:544d6d79a6ff0964a79a57efb102e87fdbd107d9

138307 --> testing pass

Test environment and result as below:

+--------------------------+------------------------------+---------------------------+--------------+----------------+
|       Environment        | cryptodev_sw_snow3g_autotest | cryptodev_sw_zuc_autotest | lpm_autotest | dpdk_unit_test |
+==========================+==============================+===========================+==============+================+
| Debian 12 (arm)          | PASS                         | PASS                      | SKIPPED      | PASS           |
+--------------------------+------------------------------+---------------------------+--------------+----------------+
| Ubuntu 20.04 ARM SVE     | SKIPPED                      | SKIPPED                   | PASS         | SKIPPED        |
+--------------------------+------------------------------+---------------------------+--------------+----------------+
| Debian 11 (Buster) (ARM) | SKIPPED                      | SKIPPED                   | SKIPPED      | PASS           |
+--------------------------+------------------------------+---------------------------+--------------+----------------+
| Fedora 37 (ARM)          | SKIPPED                      | SKIPPED                   | SKIPPED      | PASS           |
+--------------------------+------------------------------+---------------------------+--------------+----------------+
| CentOS Stream 9 (ARM)    | SKIPPED                      | SKIPPED                   | SKIPPED      | PASS           |
+--------------------------+------------------------------+---------------------------+--------------+----------------+
| Fedora 38 (ARM)          | SKIPPED                      | SKIPPED                   | SKIPPED      | PASS           |
+--------------------------+------------------------------+---------------------------+--------------+----------------+
| Ubuntu 20.04 (ARM)       | SKIPPED                      | SKIPPED                   | SKIPPED      | PASS           |
+--------------------------+------------------------------+---------------------------+--------------+----------------+


Debian 12 (arm)
	Kernel: Container Host Kernel
	Compiler: gcc 11

Ubuntu 20.04 ARM SVE
	Kernel: 5.4.0-80-generic
	Compiler: gcc 10.3.0 (Ubuntu 10.3.0-1ubuntu1~20.04)

Debian 11 (Buster) (ARM)
	Kernel: Container Host Kernel
	Compiler: gcc 10.2.1

Fedora 37 (ARM)
	Kernel: Depends on container host
	Compiler: gcc 12.3.1

CentOS Stream 9 (ARM)
	Kernel: Container Host Kernel
	Compiler: gcc 11.3.1

Fedora 38 (ARM)
	Kernel: Depends on container host
	Compiler: gcc 13.1.1

Ubuntu 20.04 (ARM)
	Kernel: Container Host Kernel
	Compiler: gcc 9.4.0

To view detailed results, visit:
https://lab.dpdk.org/results/dashboard/patchsets/29532/

UNH-IOL DPDK Community Lab

To manage your email subscriptions, visit: 
https://lab.dpdk.org/results/dashboard/preferences/subscriptions/