From mboxrd@z Thu Jan  1 00:00:00 1970
Return-Path: <test-report-bounces@dpdk.org>
Received: from mails.dpdk.org (mails.dpdk.org [217.70.189.124])
	by inbox.dpdk.org (Postfix) with ESMTP id 55BA843CA0
	for <public@inbox.dpdk.org>; Wed, 13 Mar 2024 14:34:31 +0100 (CET)
Received: from mails.dpdk.org (localhost [127.0.0.1])
	by mails.dpdk.org (Postfix) with ESMTP id 2317640A84;
	Wed, 13 Mar 2024 14:34:31 +0100 (CET)
Received: from mail-il1-f227.google.com (mail-il1-f227.google.com
 [209.85.166.227])
 by mails.dpdk.org (Postfix) with ESMTP id 662F0402B8
 for <test-report@dpdk.org>; Wed, 13 Mar 2024 14:34:30 +0100 (CET)
Received: by mail-il1-f227.google.com with SMTP id
 e9e14a558f8ab-3667770b8e8so2549695ab.0
 for <test-report@dpdk.org>; Wed, 13 Mar 2024 06:34:30 -0700 (PDT)
DKIM-Signature: v=1; a=rsa-sha256; c=relaxed/relaxed;
 d=iol.unh.edu; s=unh-iol; t=1710336869; x=1710941669; darn=dpdk.org;
 h=references:in-reply-to:cc:to:from:subject:message-id:date:from:to
 :cc:subject:date:message-id:reply-to;
 bh=C4DPtM3m8YWV+/Csvk0twnH+3kusueJBJz7sX/SOEho=;
 b=ZcEseOjLNx2czf4Bts3XbqT5WjgT9DhwKrKCHr9v+s9rGKklFRr71fLVbO/KXWS0en
 10eNZoE/qIsE57rx8YN+BX6JBQtpH39mRDppgpbKDEz1IL32kHbt1VF3URuvODqNB8Hq
 Q3swwHKGu2h4iBvSMZsEGCo/QZPzC0ccqhkzs=
X-Google-DKIM-Signature: v=1; a=rsa-sha256; c=relaxed/relaxed;
 d=1e100.net; s=20230601; t=1710336869; x=1710941669;
 h=references:in-reply-to:cc:to:from:subject:message-id:date
 :x-gm-message-state:from:to:cc:subject:date:message-id:reply-to;
 bh=C4DPtM3m8YWV+/Csvk0twnH+3kusueJBJz7sX/SOEho=;
 b=glKQ+6gsf3/bgcQI5+h7ZEUo6tyYM6GrIk+h6DKSm2wl3IhBO8iJwwKve9y6KXgjfo
 BTxB9TRW24ALhdQMBwvT6/k96ZH5uVbG2K0rSl2lwhCgbeBveDrb0lGHA3ayqi86gZHN
 b1Pi6XucwXOABmRzPEGrL/MiyquAtt/5eph/sxRl5dTnweloZKHDJYN2ed4rgBE65Pn/
 Jbp8Iidk5cysHmAYQKw2w3VuspJi5+z3JkpbgQzp/YanGYszcqfV4zV5MxUXogef2dhD
 NLPEfc6nkACOmDFJ+U2HT0GtcNKgtvHIb+apjFo0r0MwTT4PnGL4f0qWLs/V0glIuw5i
 08mg==
X-Gm-Message-State: AOJu0YxiE4AxJ/nqW4efVxywaAb1UBFpnt9wZcmSafPCvCVemrrJaveO
 jy0HG6wnPwz2bq5S23I14Z++WFM4r50jv4tN7By6aToDJkVkmzE7WdUDw13lUabb5/hmNY4nedj
 IVGbpTojwsVQtjHthnT9ZFdB7z7fEAFAuliqtEq5F
X-Google-Smtp-Source: AGHT+IGGWUwurFCS91wF7BNt3oSIKnAaPzfusxai21G+LURpK6RlTpdESmXvfj6VFwUdQHxznAHvAtOCO1OS
X-Received: by 2002:a92:d348:0:b0:366:7aef:2d0b with SMTP id
 a8-20020a92d348000000b003667aef2d0bmr390778ilh.29.1710336869734; 
 Wed, 13 Mar 2024 06:34:29 -0700 (PDT)
Received: from postal.iol.unh.edu (postal.iol.unh.edu. [132.177.123.84])
 by smtp-relay.gmail.com with ESMTPS id
 w12-20020a056e021c8c00b00365bd436679sm524130ill.77.2024.03.13.06.34.29
 (version=TLS1_2 cipher=ECDHE-ECDSA-AES128-GCM-SHA256 bits=128/128);
 Wed, 13 Mar 2024 06:34:29 -0700 (PDT)
X-Relaying-Domain: iol.unh.edu
Date: Wed, 13 Mar 2024 06:34:29 -0700 (PDT)
Message-ID: <65f1ab65.050a0220.d6f0c.1be5SMTPIN_ADDED_MISSING@mx.google.com>
Received: from [172.21.0.7] (unknown [172.18.0.240])
 by postal.iol.unh.edu (Postfix) with ESMTP id 25D706052471;
 Wed, 13 Mar 2024 09:34:29 -0400 (EDT)
Subject: |SUCCESS| pw138329-138330 [PATCH] [v2,2/2] net/virtio: fix notificat
From: dpdklab@iol.unh.edu
To: Test Report <test-report@dpdk.org>
Cc: dpdk-test-reports@iol.unh.edu
In-Reply-To: <20240313125932.1878279-3-maxime.coquelin@redhat.com>
References: <20240313125932.1878279-3-maxime.coquelin@redhat.com>
Content-Type: text/plain
X-BeenThere: test-report@dpdk.org
X-Mailman-Version: 2.1.29
Precedence: list
List-Id: automatic DPDK test reports <test-report.dpdk.org>
List-Unsubscribe: <https://mails.dpdk.org/options/test-report>,
 <mailto:test-report-request@dpdk.org?subject=unsubscribe>
List-Archive: <http://mails.dpdk.org/archives/test-report/>
List-Post: <mailto:test-report@dpdk.org>
List-Help: <mailto:test-report-request@dpdk.org?subject=help>
List-Subscribe: <https://mails.dpdk.org/listinfo/test-report>,
 <mailto:test-report-request@dpdk.org?subject=subscribe>
Errors-To: test-report-bounces@dpdk.org

Test-Label: iol-compile-amd64-testing
Test-Status: SUCCESS
http://dpdk.org/patch/138330

_Testing PASS_

Submitter: Maxime Coquelin <maxime.coquelin@redhat.com>
Date: Wednesday, March 13 2024 12:59:32 
DPDK git baseline: Repo:dpdk
  Branch: master
  CommitID:deedfb86a7a6e10064d3cccd593f62072de96e36

138329-138330 --> testing pass

Test environment and result as below:

+---------------------+--------------------+----------------------+
|     Environment     | dpdk_meson_compile | dpdk_mingw64_compile |
+=====================+====================+======================+
| Windows Server 2022 | PASS               | SKIPPED              |
+---------------------+--------------------+----------------------+
| FreeBSD 13.2        | PASS               | SKIPPED              |
+---------------------+--------------------+----------------------+
| Windows Server 2019 | PASS               | PASS                 |
+---------------------+--------------------+----------------------+


Windows Server 2022
	Kernel: OS Build 20348.2031
	Compiler: MSVC VS-Preview

FreeBSD 13.2
	Kernel: 13.2
	Compiler: clang 11.3.0

Windows Server 2019
	Kernel: 10.0
	Compiler: clang 14.0 and gcc 8.1.0 (MinGW)

To view detailed results, visit:
https://lab.dpdk.org/results/dashboard/patchsets/29534/

UNH-IOL DPDK Community Lab

To manage your email subscriptions, visit: 
https://lab.dpdk.org/results/dashboard/preferences/subscriptions/