From mboxrd@z Thu Jan  1 00:00:00 1970
Return-Path: <test-report-bounces@dpdk.org>
Received: from mails.dpdk.org (mails.dpdk.org [217.70.189.124])
	by inbox.dpdk.org (Postfix) with ESMTP id A43D643CA0
	for <public@inbox.dpdk.org>; Wed, 13 Mar 2024 14:44:45 +0100 (CET)
Received: from mails.dpdk.org (localhost [127.0.0.1])
	by mails.dpdk.org (Postfix) with ESMTP id 9F5DA406BC;
	Wed, 13 Mar 2024 14:44:45 +0100 (CET)
Received: from mail-oo1-f100.google.com (mail-oo1-f100.google.com
 [209.85.161.100])
 by mails.dpdk.org (Postfix) with ESMTP id 567B5402B8
 for <test-report@dpdk.org>; Wed, 13 Mar 2024 14:44:44 +0100 (CET)
Received: by mail-oo1-f100.google.com with SMTP id
 006d021491bc7-5a1bd83d55dso2783386eaf.2
 for <test-report@dpdk.org>; Wed, 13 Mar 2024 06:44:44 -0700 (PDT)
DKIM-Signature: v=1; a=rsa-sha256; c=relaxed/relaxed;
 d=iol.unh.edu; s=unh-iol; t=1710337483; x=1710942283; darn=dpdk.org;
 h=references:in-reply-to:cc:to:from:subject:message-id:date:from:to
 :cc:subject:date:message-id:reply-to;
 bh=RKEukbKhIKLLO5BbUmNkZ5ezJfEDeEN6/+R31OSUIBM=;
 b=Wlva30vtB+J+lDmpGZ3l2s7c52mBHTLntB5oMR0buO4H7SFAWKYywLxJj/zHaka8TI
 M526T6WIJ2uM+8p0fbtRoVJeVJwWBHO9F66EhiewtAvKBblibhfgwKpZV/nKHY7KCICb
 cLif/sWLIB+qkpyMGGUPU6tmV8y6w/OijH8WE=
X-Google-DKIM-Signature: v=1; a=rsa-sha256; c=relaxed/relaxed;
 d=1e100.net; s=20230601; t=1710337483; x=1710942283;
 h=references:in-reply-to:cc:to:from:subject:message-id:date
 :x-gm-message-state:from:to:cc:subject:date:message-id:reply-to;
 bh=RKEukbKhIKLLO5BbUmNkZ5ezJfEDeEN6/+R31OSUIBM=;
 b=lOFMuLfuOi3HOMrCqhdBXFdtA/YWIU+qAgSWYExG/bb3r8YmYGsrOMTNuayP3QC2lv
 +mFRIQ/QexgU3UdEi0SCqRYyMULsKd44Myjo3X5UJwV6Xw5PZGhol9TK9YArg0v5utT9
 Mj6Aa6TlJtM4cHKJhYSzL76DCp4DVuc64+twtPo0o86ysp6P4X+2xfyaCkceFs3s8iGg
 z3Vle2pGRihcHrEcgGX8CFbOnqceOe/bBfihxwfaMJLsNVs7j8CD1f8kG4cI6uk86ypw
 +nY2ibO+D4cWCR8vFr638OLCWbowaW6gpqQtItEiiqtapN7nQHAl5uP7hbkgAHM+ZP8E
 l/BQ==
X-Gm-Message-State: AOJu0YxY6wIi8j6wW0521O7HQTepxusBhM8iyVLVHdbbcVLa8kq8nBja
 MWmBW0/7dG02/LOIL1EUL2xG3QqFAlcpja2LLZjeDihQ0ozjs/1Dnj/oekYbCwi2UwPQuSjslEL
 DFh23HnvoV8Rh3HWrokh3nwgGbQjwpSqFjoqMrbsK
X-Google-Smtp-Source: AGHT+IGA4dBfkm0Cf+UF/FLlMX0lCvLhqxxlM9/aLdNWpJh63NtzGjBqRDJPNJqaVa0WMhetZSIIvfKD01DQ
X-Received: by 2002:a4a:9bdd:0:b0:5a1:257b:97d0 with SMTP id
 b29-20020a4a9bdd000000b005a1257b97d0mr4267ook.2.1710337483715; 
 Wed, 13 Mar 2024 06:44:43 -0700 (PDT)
Received: from postal.iol.unh.edu (postal.iol.unh.edu. [132.177.123.84])
 by smtp-relay.gmail.com with ESMTPS id
 g63-20020a4a5b42000000b005988cc5059csm616460oob.16.2024.03.13.06.44.43
 (version=TLS1_2 cipher=ECDHE-ECDSA-AES128-GCM-SHA256 bits=128/128);
 Wed, 13 Mar 2024 06:44:43 -0700 (PDT)
X-Relaying-Domain: iol.unh.edu
Date: Wed, 13 Mar 2024 06:44:43 -0700 (PDT)
Message-ID: <65f1adcb.4a0a0220.2030f.7834SMTPIN_ADDED_MISSING@mx.google.com>
Received: from [172.21.0.6] (unknown [172.18.0.240])
 by postal.iol.unh.edu (Postfix) with ESMTP id 2EF3F6052471;
 Wed, 13 Mar 2024 09:44:43 -0400 (EDT)
Subject: |SUCCESS| pw138329-138330 [PATCH] [v2,2/2] net/virtio: fix notificat
From: dpdklab@iol.unh.edu
To: Test Report <test-report@dpdk.org>
Cc: dpdk-test-reports@iol.unh.edu
In-Reply-To: <20240313125932.1878279-3-maxime.coquelin@redhat.com>
References: <20240313125932.1878279-3-maxime.coquelin@redhat.com>
Content-Type: text/plain
X-BeenThere: test-report@dpdk.org
X-Mailman-Version: 2.1.29
Precedence: list
List-Id: automatic DPDK test reports <test-report.dpdk.org>
List-Unsubscribe: <https://mails.dpdk.org/options/test-report>,
 <mailto:test-report-request@dpdk.org?subject=unsubscribe>
List-Archive: <http://mails.dpdk.org/archives/test-report/>
List-Post: <mailto:test-report@dpdk.org>
List-Help: <mailto:test-report-request@dpdk.org?subject=help>
List-Subscribe: <https://mails.dpdk.org/listinfo/test-report>,
 <mailto:test-report-request@dpdk.org?subject=subscribe>
Errors-To: test-report-bounces@dpdk.org

Test-Label: iol-unit-arm64-testing
Test-Status: SUCCESS
http://dpdk.org/patch/138330

_Testing PASS_

Submitter: Maxime Coquelin <maxime.coquelin@redhat.com>
Date: Wednesday, March 13 2024 12:59:32 
DPDK git baseline: Repo:dpdk
  Branch: master
  CommitID:deedfb86a7a6e10064d3cccd593f62072de96e36

138329-138330 --> testing pass

Test environment and result as below:

+--------------------------+------------------------------+---------------------------+----------------+
|       Environment        | cryptodev_sw_snow3g_autotest | cryptodev_sw_zuc_autotest | dpdk_unit_test |
+==========================+==============================+===========================+================+
| Debian 12 (arm)          | PASS                         | PASS                      | PASS           |
+--------------------------+------------------------------+---------------------------+----------------+
| Fedora 38 (ARM)          | SKIPPED                      | SKIPPED                   | PASS           |
+--------------------------+------------------------------+---------------------------+----------------+
| Debian 11 (Buster) (ARM) | SKIPPED                      | SKIPPED                   | PASS           |
+--------------------------+------------------------------+---------------------------+----------------+
| CentOS Stream 9 (ARM)    | SKIPPED                      | SKIPPED                   | PASS           |
+--------------------------+------------------------------+---------------------------+----------------+


Debian 12 (arm)
	Kernel: Container Host Kernel
	Compiler: gcc 11

Fedora 38 (ARM)
	Kernel: Depends on container host
	Compiler: gcc 13.1.1

Debian 11 (Buster) (ARM)
	Kernel: Container Host Kernel
	Compiler: gcc 10.2.1

CentOS Stream 9 (ARM)
	Kernel: Container Host Kernel
	Compiler: gcc 11.3.1

To view detailed results, visit:
https://lab.dpdk.org/results/dashboard/patchsets/29534/

UNH-IOL DPDK Community Lab

To manage your email subscriptions, visit: 
https://lab.dpdk.org/results/dashboard/preferences/subscriptions/