From mboxrd@z Thu Jan  1 00:00:00 1970
Return-Path: <test-report-bounces@dpdk.org>
Received: from mails.dpdk.org (mails.dpdk.org [217.70.189.124])
	by inbox.dpdk.org (Postfix) with ESMTP id D211743CA0
	for <public@inbox.dpdk.org>; Wed, 13 Mar 2024 14:46:21 +0100 (CET)
Received: from mails.dpdk.org (localhost [127.0.0.1])
	by mails.dpdk.org (Postfix) with ESMTP id CCFB9406BC;
	Wed, 13 Mar 2024 14:46:21 +0100 (CET)
Received: from mail-pg1-f227.google.com (mail-pg1-f227.google.com
 [209.85.215.227])
 by mails.dpdk.org (Postfix) with ESMTP id 4D292402B8
 for <test-report@dpdk.org>; Wed, 13 Mar 2024 14:46:20 +0100 (CET)
Received: by mail-pg1-f227.google.com with SMTP id
 41be03b00d2f7-5cf2d73a183so696738a12.1
 for <test-report@dpdk.org>; Wed, 13 Mar 2024 06:46:20 -0700 (PDT)
DKIM-Signature: v=1; a=rsa-sha256; c=relaxed/relaxed;
 d=iol.unh.edu; s=unh-iol; t=1710337579; x=1710942379; darn=dpdk.org;
 h=references:in-reply-to:cc:to:from:subject:message-id:date:from:to
 :cc:subject:date:message-id:reply-to;
 bh=ZlQdgGPW4TWN795jYdLrvee2QjslJomkPy3ut03WZM4=;
 b=iUBRdjsbwtYQMIOaTyiRivUHD2QCsVbV9t/PjfAXTQsVvp/I9OpGbwjI3eJMB3XbCN
 vq8UrI+Scx3woMPivU2bmz/iK/1jGlxuccp0xrd72il+0PEF/21r0tUW9FWL6gzqgyUK
 G0mrWY8DmfZLHTxJVzRZgLvL4WN4PKMs4uUmA=
X-Google-DKIM-Signature: v=1; a=rsa-sha256; c=relaxed/relaxed;
 d=1e100.net; s=20230601; t=1710337579; x=1710942379;
 h=references:in-reply-to:cc:to:from:subject:message-id:date
 :x-gm-message-state:from:to:cc:subject:date:message-id:reply-to;
 bh=ZlQdgGPW4TWN795jYdLrvee2QjslJomkPy3ut03WZM4=;
 b=J6gaaCIn5ztb0Ax4KXFejcXS245ex4CCWfiWeGvkLeeCyDIdl/x5QZVQL20h4NcdVn
 wHlCw+9Dqaj1DTsSA0LtpQbKYoRZBFF7Y5hOweC3eXyOiyjNagy6tkAlXus1NGV35QjI
 g3wRyKJBY6Q74cc2lfrpit43DNvxXl641qNXXSf+SraEAoGGWnuMMPZQAVLMffePvJm+
 fmsdro7W+jiZy4Y8oFI+kwPcCogAku3KkLKdCY+ubHDAjV4ILMzKb7wOtjoRryMlwBru
 kP5eCHh3pzkeVDzVdAVfF+Co7P92TTRM4CzQVTnPpLqZI9d0Pf9l/jV9DQn4I3cY/6DM
 bS/g==
X-Gm-Message-State: AOJu0YyBMtNqMU00h8RBkpO/tEntKc2nR3vuvCWXGaq0qEIcOaWiIsnF
 If7kprOMXDBqK6zFZx0LgYdyRKy0BgONF2CZNlVi1k8tWK/FSm15Vp/NXikDmrIQT+E8/RV0cq/
 NoOahV/vfJo+rVSWkajPTbKNRQ91pbjI1Og+E0lW1syoNe9TDmzK0//r6
X-Google-Smtp-Source: AGHT+IHku6TdqJ+vDTWIpvyGPFVQ4TunAHZs4a+rvwkQWoql7tBBtoPkakdGBjjGfcMSosPW6J5RR026rh4b
X-Received: by 2002:a17:90a:69e3:b0:29b:e81e:80a7 with SMTP id
 s90-20020a17090a69e300b0029be81e80a7mr3921100pjj.9.1710337579440; 
 Wed, 13 Mar 2024 06:46:19 -0700 (PDT)
Received: from postal.iol.unh.edu (postal.iol.unh.edu.
 [2606:4100:3880:1234::84]) by smtp-relay.gmail.com with ESMTPS id
 m11-20020a17090ab78b00b0029bcc79b12asm75074pjr.12.2024.03.13.06.46.19
 (version=TLS1_2 cipher=ECDHE-ECDSA-AES128-GCM-SHA256 bits=128/128);
 Wed, 13 Mar 2024 06:46:19 -0700 (PDT)
X-Relaying-Domain: iol.unh.edu
Date: Wed, 13 Mar 2024 06:46:19 -0700 (PDT)
Message-ID: <65f1ae2b.170a0220.50971.59c2SMTPIN_ADDED_MISSING@mx.google.com>
Received: from [172.21.0.6] (unknown [172.18.0.240])
 by postal.iol.unh.edu (Postfix) with ESMTP id 9B1906052471;
 Wed, 13 Mar 2024 09:46:18 -0400 (EDT)
Subject: |SUCCESS| pw138329-138330 [PATCH] [v2,2/2] net/virtio: fix notificat
From: dpdklab@iol.unh.edu
To: Test Report <test-report@dpdk.org>
Cc: Maxime Coquelin <maxime.coquelin@redhat.com>
In-Reply-To: <20240313125932.1878279-3-maxime.coquelin@redhat.com>
References: <20240313125932.1878279-3-maxime.coquelin@redhat.com>
Content-Type: text/plain
X-BeenThere: test-report@dpdk.org
X-Mailman-Version: 2.1.29
Precedence: list
List-Id: automatic DPDK test reports <test-report.dpdk.org>
List-Unsubscribe: <https://mails.dpdk.org/options/test-report>,
 <mailto:test-report-request@dpdk.org?subject=unsubscribe>
List-Archive: <http://mails.dpdk.org/archives/test-report/>
List-Post: <mailto:test-report@dpdk.org>
List-Help: <mailto:test-report-request@dpdk.org?subject=help>
List-Subscribe: <https://mails.dpdk.org/listinfo/test-report>,
 <mailto:test-report-request@dpdk.org?subject=subscribe>
Errors-To: test-report-bounces@dpdk.org

Test-Label: iol-abi-testing
Test-Status: SUCCESS
http://dpdk.org/patch/138330

_Testing PASS_

Submitter: Maxime Coquelin <maxime.coquelin@redhat.com>
Date: Wednesday, March 13 2024 12:59:32 
DPDK git baseline: Repo:dpdk
  Branch: master
  CommitID:deedfb86a7a6e10064d3cccd593f62072de96e36

138329-138330 --> testing pass

Test environment and result as below:

+-----------------+----------+
|   Environment   | abi_test |
+=================+==========+
| Ubuntu 22.04    | PASS     |
+-----------------+----------+
| Fedora 38       | PASS     |
+-----------------+----------+
| Debian Bullseye | PASS     |
+-----------------+----------+


Ubuntu 22.04
	Kernel: 4.18.0-240.10.1.el8_3.x86_64
	Compiler: gcc 11.3.0

Fedora 38
	Kernel: Depends on container host
	Compiler: clang 16.0.3

Debian Bullseye
	Kernel: 5.4.0-122-generic
	Compiler: gcc 10.2.1-6

To view detailed results, visit:
https://lab.dpdk.org/results/dashboard/patchsets/29534/

UNH-IOL DPDK Community Lab

To manage your email subscriptions, visit: 
https://lab.dpdk.org/results/dashboard/preferences/subscriptions/