From mboxrd@z Thu Jan  1 00:00:00 1970
Return-Path: <test-report-bounces@dpdk.org>
Received: from mails.dpdk.org (mails.dpdk.org [217.70.189.124])
	by inbox.dpdk.org (Postfix) with ESMTP id C0B6E43CAE
	for <public@inbox.dpdk.org>; Thu, 14 Mar 2024 09:01:49 +0100 (CET)
Received: from mails.dpdk.org (localhost [127.0.0.1])
	by mails.dpdk.org (Postfix) with ESMTP id BC41540297;
	Thu, 14 Mar 2024 09:01:49 +0100 (CET)
Received: from mail-pf1-f228.google.com (mail-pf1-f228.google.com
 [209.85.210.228])
 by mails.dpdk.org (Postfix) with ESMTP id 323AD400D5
 for <test-report@dpdk.org>; Thu, 14 Mar 2024 09:01:48 +0100 (CET)
Received: by mail-pf1-f228.google.com with SMTP id
 d2e1a72fcca58-6e6ce174d45so272682b3a.3
 for <test-report@dpdk.org>; Thu, 14 Mar 2024 01:01:48 -0700 (PDT)
DKIM-Signature: v=1; a=rsa-sha256; c=relaxed/relaxed;
 d=iol.unh.edu; s=unh-iol; t=1710403307; x=1711008107; darn=dpdk.org;
 h=references:in-reply-to:cc:to:from:subject:message-id:date:from:to
 :cc:subject:date:message-id:reply-to;
 bh=2e/a7ylaf4GbiA8GWJ0B5f9AZ7J+uK0iJa3RgEgxnLI=;
 b=eUtoIUW9p0khrjpQbAlRZTYWQ7e4+zDIGZCQDq63K3njzwtYEtRlfZ6nbTf9WycAdH
 eg7LuO8G9lyZ1Vtel8kvN3w8yZfZ+ZDZhmisEYtcq5UpIb6sg9glif9J8Nk9OR4JcDfT
 D1isX8kN7q9CT+Uimdt3SF0gKih4FVPCsMDhs=
X-Google-DKIM-Signature: v=1; a=rsa-sha256; c=relaxed/relaxed;
 d=1e100.net; s=20230601; t=1710403307; x=1711008107;
 h=references:in-reply-to:cc:to:from:subject:message-id:date
 :x-gm-message-state:from:to:cc:subject:date:message-id:reply-to;
 bh=2e/a7ylaf4GbiA8GWJ0B5f9AZ7J+uK0iJa3RgEgxnLI=;
 b=Hc9duBvEwN3F+zaMFhRd3vFZqxxCbxukBwJqWGQfkSdLn5cQDeYpMucJKxzXTRZ2uF
 02c5LqSrzPgsnJR/CjxqHCnSw0gltodAo78bGm0QDvrCL8bdf8aL/jrlSTm0ByyBlBxU
 V2uhNzHLfGTqT4F6WPI5jg4yil6kDUxsDC19oH3elJmJhKLykfeWaOHuM57kBLQWg5WK
 Vs05BvSe3ojjfNhP27LIdGcK7TWhPN6F/KKp7mKYaMEaZyw4nBu88JuJghaRIfGkEdeQ
 LGD9Q0k8VfgEVzQuzqzuEWSXaVe6gQKl6Od++Dw398iSxSDDmFHddZtOvDh27oJ6ylRA
 u1cA==
X-Gm-Message-State: AOJu0Yza7w52vaIr2GcGt6jbzXIxhx2s69k3RrNYxojq0IGXwj87Im8k
 +t5UvHDiqcwdd3DJMphmxfcZx6rGMqyJgf6QzU6Gm2+n/OBcrand6//lWT7Hf6bvk5DmLFrDanG
 RIxIR2340mo8yBI4SM5UssnZwHe7Xm1NS/tF2tsrJ
X-Google-Smtp-Source: AGHT+IEUwT9EQdBMznii+GHKUbIiEgvi9gzZAl+IlD+wmNVi5vMu75gy1aOon0Ljn0sV6fT9ChaKexSJ/GTY
X-Received: by 2002:a05:6a00:803:b0:6e6:438f:f3c4 with SMTP id
 m3-20020a056a00080300b006e6438ff3c4mr1124975pfk.34.1710403307378; 
 Thu, 14 Mar 2024 01:01:47 -0700 (PDT)
Received: from postal.iol.unh.edu (postal.iol.unh.edu. [132.177.123.84])
 by smtp-relay.gmail.com with ESMTPS id
 ld14-20020a056a004f8e00b006e655ab3e09sm53887pfb.25.2024.03.14.01.01.47
 (version=TLS1_2 cipher=ECDHE-ECDSA-AES128-GCM-SHA256 bits=128/128);
 Thu, 14 Mar 2024 01:01:47 -0700 (PDT)
X-Relaying-Domain: iol.unh.edu
Date: Thu, 14 Mar 2024 01:01:47 -0700 (PDT)
Message-ID: <65f2aeeb.050a0220.f6c68.39a6SMTPIN_ADDED_MISSING@mx.google.com>
Received: from [172.17.0.6] (unknown [172.18.0.217])
 by postal.iol.unh.edu (Postfix) with ESMTP id 8D0846052471;
 Thu, 14 Mar 2024 04:01:46 -0400 (EDT)
Subject: |SUCCESS| pw138338-138345 [PATCH] [8/8] net/nfp: fix tainted scalar
From: dpdklab@iol.unh.edu
To: Test Report <test-report@dpdk.org>
Cc: dpdk-test-reports@iol.unh.edu
In-Reply-To: <20240314070536.3169210-9-chaoyong.he@corigine.com>
References: <20240314070536.3169210-9-chaoyong.he@corigine.com>
Content-Type: text/plain
X-BeenThere: test-report@dpdk.org
X-Mailman-Version: 2.1.29
Precedence: list
List-Id: automatic DPDK test reports <test-report.dpdk.org>
List-Unsubscribe: <https://mails.dpdk.org/options/test-report>,
 <mailto:test-report-request@dpdk.org?subject=unsubscribe>
List-Archive: <http://mails.dpdk.org/archives/test-report/>
List-Post: <mailto:test-report@dpdk.org>
List-Help: <mailto:test-report-request@dpdk.org?subject=help>
List-Subscribe: <https://mails.dpdk.org/listinfo/test-report>,
 <mailto:test-report-request@dpdk.org?subject=subscribe>
Errors-To: test-report-bounces@dpdk.org

Test-Label: iol-unit-arm64-testing
Test-Status: SUCCESS
http://dpdk.org/patch/138345

_Testing PASS_

Submitter: Chaoyong He <chaoyong.he@corigine.com>
Date: Thursday, March 14 2024 07:05:36 
DPDK git baseline: Repo:dpdk
  Branch: master
  CommitID:22b0194263b83fa09a25511b26a38597fff44a2c

138338-138345 --> testing pass

Test environment and result as below:

+--------------------------+---------------------------+------------------------------+----------------+--------------+
|       Environment        | cryptodev_sw_zuc_autotest | cryptodev_sw_snow3g_autotest | dpdk_unit_test | lpm_autotest |
+==========================+===========================+==============================+================+==============+
| Debian 12 (arm)          | PASS                      | PASS                         | PASS           | SKIPPED      |
+--------------------------+---------------------------+------------------------------+----------------+--------------+
| Debian 11 (Buster) (ARM) | SKIPPED                   | SKIPPED                      | PASS           | SKIPPED      |
+--------------------------+---------------------------+------------------------------+----------------+--------------+
| CentOS Stream 9 (ARM)    | SKIPPED                   | SKIPPED                      | PASS           | SKIPPED      |
+--------------------------+---------------------------+------------------------------+----------------+--------------+
| Fedora 38 (ARM)          | SKIPPED                   | SKIPPED                      | PASS           | SKIPPED      |
+--------------------------+---------------------------+------------------------------+----------------+--------------+
| Ubuntu 20.04 (ARM)       | SKIPPED                   | SKIPPED                      | PASS           | SKIPPED      |
+--------------------------+---------------------------+------------------------------+----------------+--------------+
| Ubuntu 20.04 ARM SVE     | SKIPPED                   | SKIPPED                      | SKIPPED        | PASS         |
+--------------------------+---------------------------+------------------------------+----------------+--------------+


Debian 12 (arm)
	Kernel: Container Host Kernel
	Compiler: gcc 11

Debian 11 (Buster) (ARM)
	Kernel: Container Host Kernel
	Compiler: gcc 10.2.1

CentOS Stream 9 (ARM)
	Kernel: Container Host Kernel
	Compiler: gcc 11.3.1

Fedora 38 (ARM)
	Kernel: Depends on container host
	Compiler: gcc 13.1.1

Ubuntu 20.04 (ARM)
	Kernel: Container Host Kernel
	Compiler: gcc 9.4.0

Ubuntu 20.04 ARM SVE
	Kernel: 5.4.0-80-generic
	Compiler: gcc 10.3.0 (Ubuntu 10.3.0-1ubuntu1~20.04)

To view detailed results, visit:
https://lab.dpdk.org/results/dashboard/patchsets/29542/

UNH-IOL DPDK Community Lab

To manage your email subscriptions, visit: 
https://lab.dpdk.org/results/dashboard/preferences/subscriptions/