From mboxrd@z Thu Jan  1 00:00:00 1970
Return-Path: <test-report-bounces@dpdk.org>
Received: from mails.dpdk.org (mails.dpdk.org [217.70.189.124])
	by inbox.dpdk.org (Postfix) with ESMTP id 3926C43CAE
	for <public@inbox.dpdk.org>; Thu, 14 Mar 2024 09:11:55 +0100 (CET)
Received: from mails.dpdk.org (localhost [127.0.0.1])
	by mails.dpdk.org (Postfix) with ESMTP id 3338F40297;
	Thu, 14 Mar 2024 09:11:55 +0100 (CET)
Received: from mail-pf1-f227.google.com (mail-pf1-f227.google.com
 [209.85.210.227])
 by mails.dpdk.org (Postfix) with ESMTP id 3913F400D5
 for <test-report@dpdk.org>; Thu, 14 Mar 2024 09:11:53 +0100 (CET)
Received: by mail-pf1-f227.google.com with SMTP id
 d2e1a72fcca58-6e6b6e000a4so601838b3a.0
 for <test-report@dpdk.org>; Thu, 14 Mar 2024 01:11:53 -0700 (PDT)
DKIM-Signature: v=1; a=rsa-sha256; c=relaxed/relaxed;
 d=iol.unh.edu; s=unh-iol; t=1710403912; x=1711008712; darn=dpdk.org;
 h=references:in-reply-to:cc:to:from:subject:message-id:date:from:to
 :cc:subject:date:message-id:reply-to;
 bh=sd/rsF9p21v6gB6wXXc+Y4zOPjHOVykXY2B1obMfjN4=;
 b=F6U7w1H883SX37Os+uTG6lHTh65SwCAcPRXLOr2c+t82G99w4njb238JjpL0MnpiIY
 plHJg8ICO0xPz+shG5dITZf5JXqCYyPGQNIlcLbVy7c73XoOZHfR2U3UGDFjYjGU8HCc
 0dSpQ9NN4rIHPLQteYcV0Qm8RINnW0/CtCwOQ=
X-Google-DKIM-Signature: v=1; a=rsa-sha256; c=relaxed/relaxed;
 d=1e100.net; s=20230601; t=1710403912; x=1711008712;
 h=references:in-reply-to:cc:to:from:subject:message-id:date
 :x-gm-message-state:from:to:cc:subject:date:message-id:reply-to;
 bh=sd/rsF9p21v6gB6wXXc+Y4zOPjHOVykXY2B1obMfjN4=;
 b=qPXyomPUEinv9+Oh3JQWzcpstB8Y7CqcVnS3mu/kkL7ygijYsQNquhJ9BP4d7/bx2J
 IeIiytMDsBwjYAcie7Jg1l/Do0bsLXZHXrWu2IuQ8grcTSfnDkaqqMUyBQbyxasrwS6n
 q+5i4UO+S9pI/ftVZc/7TYFbqI8j2r5yobpkqmkRIHXEPrrAKrFUyYTZHc5KwWUNcd9T
 XziHx7I0z3l+icjdc9EgwYLtPNw9vtZaif6uOFHmsCobKx31L1OLM2wRrtxBQATGvcOA
 zCpZuj9a1fOsUAEaunsjN9IOY/R5DndobKVSMRgm1kQAgElOnY9WIaIh+2b3ynUdI4zW
 mSPQ==
X-Gm-Message-State: AOJu0YyuUF++TFbYUDCkrQhOq6LXchV237lLwx63Sifv9y69xreZTkMt
 vtdaDXrKSVX8oQ4UWkqXqXBulwcQpcxg2ZsSkYA2CI+OEXi2mYUYT4xoRt45MakdxkVPA5nSYlL
 /XRGKaWsLJsM1ha/f+xDs4pjS8QRUxm5JJ5wSY6Si
X-Google-Smtp-Source: AGHT+IGBF5pHsU537Ob1HKjl0FwSDv2HczVgOW73d4MJUfTumQ+I9sJLJjxIvO4l38vMprseCtWLt62BNXgq
X-Received: by 2002:a05:6a20:a127:b0:1a3:3e3a:a3f7 with SMTP id
 q39-20020a056a20a12700b001a33e3aa3f7mr1399700pzk.26.1710403912377; 
 Thu, 14 Mar 2024 01:11:52 -0700 (PDT)
Received: from postal.iol.unh.edu (postal.iol.unh.edu. [132.177.123.84])
 by smtp-relay.gmail.com with ESMTPS id
 e19-20020a635013000000b005dc4b34446csm2328pgb.31.2024.03.14.01.11.52
 (version=TLS1_2 cipher=ECDHE-ECDSA-AES128-GCM-SHA256 bits=128/128);
 Thu, 14 Mar 2024 01:11:52 -0700 (PDT)
X-Relaying-Domain: iol.unh.edu
Date: Thu, 14 Mar 2024 01:11:52 -0700 (PDT)
Message-ID: <65f2b148.630a0220.41f85.0214SMTPIN_ADDED_MISSING@mx.google.com>
Received: from [172.17.0.6] (unknown [172.18.0.217])
 by postal.iol.unh.edu (Postfix) with ESMTP id 9CD486052471;
 Thu, 14 Mar 2024 04:11:51 -0400 (EDT)
Subject: |SUCCESS| pw138338-138345 [PATCH] [8/8] net/nfp: fix tainted scalar
From: dpdklab@iol.unh.edu
To: Test Report <test-report@dpdk.org>
Cc: dpdk-test-reports@iol.unh.edu
In-Reply-To: <20240314070536.3169210-9-chaoyong.he@corigine.com>
References: <20240314070536.3169210-9-chaoyong.he@corigine.com>
Content-Type: text/plain
X-BeenThere: test-report@dpdk.org
X-Mailman-Version: 2.1.29
Precedence: list
List-Id: automatic DPDK test reports <test-report.dpdk.org>
List-Unsubscribe: <https://mails.dpdk.org/options/test-report>,
 <mailto:test-report-request@dpdk.org?subject=unsubscribe>
List-Archive: <http://mails.dpdk.org/archives/test-report/>
List-Post: <mailto:test-report@dpdk.org>
List-Help: <mailto:test-report-request@dpdk.org?subject=help>
List-Subscribe: <https://mails.dpdk.org/listinfo/test-report>,
 <mailto:test-report-request@dpdk.org?subject=subscribe>
Errors-To: test-report-bounces@dpdk.org

Test-Label: iol-unit-amd64-testing
Test-Status: SUCCESS
http://dpdk.org/patch/138345

_Testing PASS_

Submitter: Chaoyong He <chaoyong.he@corigine.com>
Date: Thursday, March 14 2024 07:05:36 
DPDK git baseline: Repo:dpdk
  Branch: master
  CommitID:22b0194263b83fa09a25511b26a38597fff44a2c

138338-138345 --> testing pass

Test environment and result as below:

+---------------------+----------------+
|     Environment     | dpdk_unit_test |
+=====================+================+
| CentOS Stream 8     | PASS           |
+---------------------+----------------+
| CentOS Stream 9     | PASS           |
+---------------------+----------------+
| Debian Bullseye     | PASS           |
+---------------------+----------------+
| Windows Server 2019 | PASS           |
+---------------------+----------------+
| Fedora 37           | PASS           |
+---------------------+----------------+
| Debian 12 (arm)     | PASS           |
+---------------------+----------------+
| Ubuntu 20.04        | PASS           |
+---------------------+----------------+
| openSUSE Leap 15    | PASS           |
+---------------------+----------------+
| RHEL8               | PASS           |
+---------------------+----------------+
| Fedora 38           | PASS           |
+---------------------+----------------+
| Ubuntu 22.04        | PASS           |
+---------------------+----------------+


CentOS Stream 8
	Kernel: 4.18.0-240.10.1.el8_3.x86_64
	Compiler: gcc 8.4.1 20200928

CentOS Stream 9
	Kernel: 4.18.0-240.10.1.el8_3.x86_64
	Compiler: gcc 11.3.1 20220421

Debian Bullseye
	Kernel: 5.4.0-122-generic
	Compiler: gcc 10.2.1-6

Windows Server 2019
	Kernel: 10.0
	Compiler: clang 14.0 and gcc 8.1.0 (MinGW)

Fedora 37
	Kernel: Depends on container host system
	Compiler: gcc 12.3.1

Debian 12 (arm)
	Kernel: Container Host Kernel
	Compiler: gcc 11

Ubuntu 20.04
	Kernel: 5.4.0-153-generic
	Compiler: gcc 9.4.0-1ubuntu1~20.04.1

openSUSE Leap 15
	Kernel: 4.18.0-240.10.1.el8_3.x86_64
	Compiler: gcc 7.5.0

RHEL8
	Kernel: 4.18.0-240.10.1.el8_3.x86_64
	Compiler: gcc 8.3.1 20191121 (Red Hat 8.3.1-5)

Fedora 38
	Kernel: Depends on container host
	Compiler: gcc 13.1.1

Ubuntu 22.04
	Kernel: 4.18.0-240.10.1.el8_3.x86_64
	Compiler: gcc 11.3.0

To view detailed results, visit:
https://lab.dpdk.org/results/dashboard/patchsets/29542/

UNH-IOL DPDK Community Lab

To manage your email subscriptions, visit: 
https://lab.dpdk.org/results/dashboard/preferences/subscriptions/