From mboxrd@z Thu Jan  1 00:00:00 1970
Return-Path: <test-report-bounces@dpdk.org>
Received: from mails.dpdk.org (mails.dpdk.org [217.70.189.124])
	by inbox.dpdk.org (Postfix) with ESMTP id 5404543CAE
	for <public@inbox.dpdk.org>; Thu, 14 Mar 2024 09:12:20 +0100 (CET)
Received: from mails.dpdk.org (localhost [127.0.0.1])
	by mails.dpdk.org (Postfix) with ESMTP id 4AEBD40297;
	Thu, 14 Mar 2024 09:12:20 +0100 (CET)
Received: from mail-oo1-f99.google.com (mail-oo1-f99.google.com
 [209.85.161.99]) by mails.dpdk.org (Postfix) with ESMTP id 54587400D5
 for <test-report@dpdk.org>; Thu, 14 Mar 2024 09:12:18 +0100 (CET)
Received: by mail-oo1-f99.google.com with SMTP id
 006d021491bc7-5a21859a4b8so316174eaf.0
 for <test-report@dpdk.org>; Thu, 14 Mar 2024 01:12:18 -0700 (PDT)
DKIM-Signature: v=1; a=rsa-sha256; c=relaxed/relaxed;
 d=iol.unh.edu; s=unh-iol; t=1710403937; x=1711008737; darn=dpdk.org;
 h=references:in-reply-to:cc:to:from:subject:message-id:date:from:to
 :cc:subject:date:message-id:reply-to;
 bh=2e/a7ylaf4GbiA8GWJ0B5f9AZ7J+uK0iJa3RgEgxnLI=;
 b=b2QchDG5A8mFxl6HpSTIvyqsu/VKY54Ns/TrzzVZ2vjApWHmIIy3McaKMqJo4rX8kK
 wm/7IqwO5i/oC5iQgSmm+sSchCtHDApPHArVcwEp5wbbYikAkw0tZZWSg/TnDupBTeok
 7YO0gzfPBg0Jk6xXE0+Pwi+E7urFifs3UgHBQ=
X-Google-DKIM-Signature: v=1; a=rsa-sha256; c=relaxed/relaxed;
 d=1e100.net; s=20230601; t=1710403937; x=1711008737;
 h=references:in-reply-to:cc:to:from:subject:message-id:date
 :x-gm-message-state:from:to:cc:subject:date:message-id:reply-to;
 bh=2e/a7ylaf4GbiA8GWJ0B5f9AZ7J+uK0iJa3RgEgxnLI=;
 b=pqOSzZH0z85AEhpbs1DOsAmJX/S2+nYBJJCdiLG3gJZ0iRC8xKb4p1PfxdDlFEWX/4
 dwQcyCNQLvUugU6AaRkp/Cm0jLbiSCBYbt3N3r6T+hkF3ec6mxhtCNB7uKjOygrM+k8X
 FPNUQeU269eL1ELF4KSxDRxnqKk93bmeyd40QpXnoOeI9Aw73DsaljqOILje5taH9C4J
 dKszgZo+sWUIMTYNdQZ9h66i8AJzWa8lMHVR1DcJNWLS42IwSEBaNGcQGC+2mWy1RO2Q
 UK59WkwhsTQyE08Fh3yzuNZUuEWleSKCjjZD7x/Qy0sPfUDg2BaT9qhK/KGQ+02rqSiW
 92OA==
X-Gm-Message-State: AOJu0YxNk4XtNQhE9bgywE3aLol5ITrnx7olXUCeSvvQlU7l5yKwqO+l
 BTTeidqjjvR6dwGZ02OtxMY/iBPH/fX7mefOg8l3uakMQXv237FP+prvCAt13GB3CgnXISLQcqd
 8NHR3HUK3lcnNAYxTXmdf436zy6ItCMQHTHj8VUTUG8q7goi00TbX8oHU
X-Google-Smtp-Source: AGHT+IGtGilXeLdAMekHtEqPtakZQY8rW3kUrnCQwsY9B+2AnNr9XzfwqLIL2WHvDCCF2/f9vcFny1Xre7Jr
X-Received: by 2002:a4a:751b:0:b0:5a1:cbaf:a681 with SMTP id
 j27-20020a4a751b000000b005a1cbafa681mr1108814ooc.0.1710403937593; 
 Thu, 14 Mar 2024 01:12:17 -0700 (PDT)
Received: from postal.iol.unh.edu (postal.iol.unh.edu.
 [2606:4100:3880:1234::84]) by smtp-relay.gmail.com with ESMTPS id
 t10-20020a4aadca000000b005a122a479f4sm3667oon.24.2024.03.14.01.12.17
 (version=TLS1_2 cipher=ECDHE-ECDSA-AES128-GCM-SHA256 bits=128/128);
 Thu, 14 Mar 2024 01:12:17 -0700 (PDT)
X-Relaying-Domain: iol.unh.edu
Date: Thu, 14 Mar 2024 01:12:17 -0700 (PDT)
Message-ID: <65f2b161.4a0a0220.6d798.0347SMTPIN_ADDED_MISSING@mx.google.com>
Received: from [172.17.0.6] (unknown [172.18.0.217])
 by postal.iol.unh.edu (Postfix) with ESMTP id 0B2246052471;
 Thu, 14 Mar 2024 04:12:17 -0400 (EDT)
Subject: |SUCCESS| pw138338-138345 [PATCH] [8/8] net/nfp: fix tainted scalar
From: dpdklab@iol.unh.edu
To: Test Report <test-report@dpdk.org>
Cc: dpdk-test-reports@iol.unh.edu
In-Reply-To: <20240314070536.3169210-9-chaoyong.he@corigine.com>
References: <20240314070536.3169210-9-chaoyong.he@corigine.com>
Content-Type: text/plain
X-BeenThere: test-report@dpdk.org
X-Mailman-Version: 2.1.29
Precedence: list
List-Id: automatic DPDK test reports <test-report.dpdk.org>
List-Unsubscribe: <https://mails.dpdk.org/options/test-report>,
 <mailto:test-report-request@dpdk.org?subject=unsubscribe>
List-Archive: <http://mails.dpdk.org/archives/test-report/>
List-Post: <mailto:test-report@dpdk.org>
List-Help: <mailto:test-report-request@dpdk.org?subject=help>
List-Subscribe: <https://mails.dpdk.org/listinfo/test-report>,
 <mailto:test-report-request@dpdk.org?subject=subscribe>
Errors-To: test-report-bounces@dpdk.org

Test-Label: iol-unit-arm64-testing
Test-Status: SUCCESS
http://dpdk.org/patch/138345

_Testing PASS_

Submitter: Chaoyong He <chaoyong.he@corigine.com>
Date: Thursday, March 14 2024 07:05:36 
DPDK git baseline: Repo:dpdk
  Branch: master
  CommitID:22b0194263b83fa09a25511b26a38597fff44a2c

138338-138345 --> testing pass

Test environment and result as below:

+--------------------------+---------------------------+------------------------------+----------------+--------------+
|       Environment        | cryptodev_sw_zuc_autotest | cryptodev_sw_snow3g_autotest | dpdk_unit_test | lpm_autotest |
+==========================+===========================+==============================+================+==============+
| Debian 12 (arm)          | PASS                      | PASS                         | PASS           | SKIPPED      |
+--------------------------+---------------------------+------------------------------+----------------+--------------+
| Debian 11 (Buster) (ARM) | SKIPPED                   | SKIPPED                      | PASS           | SKIPPED      |
+--------------------------+---------------------------+------------------------------+----------------+--------------+
| CentOS Stream 9 (ARM)    | SKIPPED                   | SKIPPED                      | PASS           | SKIPPED      |
+--------------------------+---------------------------+------------------------------+----------------+--------------+
| Fedora 38 (ARM)          | SKIPPED                   | SKIPPED                      | PASS           | SKIPPED      |
+--------------------------+---------------------------+------------------------------+----------------+--------------+
| Ubuntu 20.04 (ARM)       | SKIPPED                   | SKIPPED                      | PASS           | SKIPPED      |
+--------------------------+---------------------------+------------------------------+----------------+--------------+
| Ubuntu 20.04 ARM SVE     | SKIPPED                   | SKIPPED                      | SKIPPED        | PASS         |
+--------------------------+---------------------------+------------------------------+----------------+--------------+


Debian 12 (arm)
	Kernel: Container Host Kernel
	Compiler: gcc 11

Debian 11 (Buster) (ARM)
	Kernel: Container Host Kernel
	Compiler: gcc 10.2.1

CentOS Stream 9 (ARM)
	Kernel: Container Host Kernel
	Compiler: gcc 11.3.1

Fedora 38 (ARM)
	Kernel: Depends on container host
	Compiler: gcc 13.1.1

Ubuntu 20.04 (ARM)
	Kernel: Container Host Kernel
	Compiler: gcc 9.4.0

Ubuntu 20.04 ARM SVE
	Kernel: 5.4.0-80-generic
	Compiler: gcc 10.3.0 (Ubuntu 10.3.0-1ubuntu1~20.04)

To view detailed results, visit:
https://lab.dpdk.org/results/dashboard/patchsets/29542/

UNH-IOL DPDK Community Lab

To manage your email subscriptions, visit: 
https://lab.dpdk.org/results/dashboard/preferences/subscriptions/